{"text_format":"2","workbook":"xlsx","n_sheets":1,"sheets":["12"],"not_rendered":{"charts":0,"images":2,"macros":0,"external_links":0,"defined_names":8,"comments":1,"pivot_tables":0},"unopened":[],"bounds":{"document_bytes":16777216,"sheet_cells":100000,"run_cost":"one","rows_first":2000,"rows_last":500,"rows_between":2000,"halvings":0,"cell_chars":16384,"cell_head_chars":4096},"cells_cut":0,"cells_raw":0,"read":"whole","date_system":"1900"}

{"sheet":"12","index":0,"n_rows":1050,"n_cols":737,"rows_kept":1050,"cut":false,"hidden":false,"merged":[[1047,27,1047,39],[1049,28,1049,39],[14,1,14,39],[47,1,47,40],[52,1,52,16],[52,18,52,27],[52,28,52,29],[52,30,52,40],[55,4,55,20],[63,2,63,3],[63,21,63,33],[63,15,63,20],[54,31,54,36],[37,5,37,39],[41,1,41,39],[65,2,65,3],[71,32,71,39],[17,47,17,48],[8,44,8,46],[17,44,17,46],[45,45,45,48],[69,2,69,39],[71,2,71,6],[71,29,71,31],[34,4,34,39],[27,1,27,4],[27,5,27,13],[27,34,27,40],[43,1,43,38],[64,34,64,39],[21,7,21,40],[64,15,64,20],[64,4,64,14],[1,11,2,30],[63,4,63,14],[4,11,6,32],[29,5,29,40],[35,5,35,39],[23,1,23,39],[25,1,25,3],[25,5,25,40],[33,5,33,39],[15,1,15,39],[17,1,17,3],[17,5,17,40],[3,37,3,38],[50,1,50,15],[3,41,3,46],[3,47,3,50],[3,51,3,57],[19,34,19,40],[17,49,17,52],[25,44,25,46],[25,47,25,48],[25,49,25,52],[8,1,8,39],[10,1,10,4],[10,5,10,13],[10,20,10,29],[12,1,12,2],[12,5,12,39],[19,1,19,4],[19,5,19,13],[19,14,19,18],[19,19,19,25],[54,4,54,17],[1052,2,1052,5],[45,19,45,36],[48,1,48,39],[54,18,54,19],[58,18,58,35],[58,4,58,11],[53,1,53,20],[75,2,75,39],[63,34,63,39],[65,4,65,14],[65,34,65,39],[64,2,64,3],[64,21,64,33],[65,15,65,20],[65,21,65,33]]}
[]
[{"$nulls":11},"Formulário de Candidatura"]
[]
[]
[{"$nulls":11},"Apoio à Aquisição de Manuais Escolares"]
[]
[]
[]
[null,"1. Dados de candidatura (a preencher pela CMF)",{"$nulls":42},"DATA DE ENTREGA"]
[]
[null,"   Registo Nº: ",{"$nulls":12},"Data de entrega:",{"$nulls":29},{"$f":"YEAR(U11)","v":1900},{"$f":"MONTH(U11)","v":1},{"$f":"DAY(U11)","v":0}]
[]
[null,"   Obs:"]
[]
[null,"2. A preencher pelos pais e/ou encarregado/a de educação"]
[null,"2.1 Identificação dos pais e/ou encarregado/a de educação"]
[]
[null,"Nome:",{"$nulls":42},"DATA DE NASCIMENTO",null,null,"Ligações das caixas",null,"procura das ligações nas listas "]
[]
[null,"C.C.:",{"$nulls":12},"NIF:",{"$nulls":11},"Contacto telefónico:"]
[]
[null,"Endereço eletrónico"]
[]
[null,"2.2. Identificação do/a aluno/a"]
[]
[null,"Nome:",{"$nulls":42},"DATA DE NASCIMENTO",null,null,"Ligações das caixas",null,"procura das ligações nas listas "]
[]
[null,"C.C.:",{"$nulls":12},"NIF: ",{"$nulls":12},"Ano Escolaridade: "]
[]
[null,"Escola"]
[]
[null,"2.3. Documentos a entregar "]
[]
[{"$nulls":4},"1-","Cartão de cidadão do/a aluno/a",{"$nulls":37},false,{"$f":"IF(AR34=TRUE,1,0)","v":0}]
[]
[{"$nulls":4},"2-","Cartão de cidadão do pai/ mãe/ encarregado/a de educação"]
[]
[{"$nulls":4},"3-","Declaração de matrícula, com informação sobre ação social educativa/ informação atestada no presente formulário (campo 6)",{"$nulls":37},false]
[]
[]
[null,"2.4. Observações"]
[]
[]
[null,"Declaro, por minha honra, que todas as informações atrás prestadas são verdadeiras, autorizando a Câmara Municipal do Funchal a efetuar todas as averiguações que considerar à análise desta candidatura."]
[{"$nulls":24},"Assinatura"]
[{"$nulls":19},"Funchal, _____ de _______________ de 2017",{"$nulls":25},"DATAS DE NASCIMENTO"]
[]
[null,"3. A preencher pela escola"]
[null," Nota: O preenchimento deste campo, desde que devidamente autenticado, substitui a obrigatoriedade de entregar a declaração de matrícula."]
[]
[null,"Atesto que, no ano letivo 2017/18, o/a aluno/a\n"]
[]
[{"$nulls":18},"se encontra matriculado/a no",{"$nulls":11},"ano de escolaridade desta escola."]
[null,"O/a aluno/a:"]
[{"$nulls":4},"é beneficiário da ação social educativa"]
[{"$nulls":4},"não é beneficiário da ação social educativa"]
[]
[]
[{"$nulls":4},"Assinatura e carimbo ",{"$nulls":13},"Funchal, ____ de ________________ de 2017"]
[]
[null,"4. A preencher pela Câmara Municipal do Funchal"]
[null,"4.1. Apuramento do apoio"]
[]
[null,null,"\nVoucher",null,"Nome",{"$nulls":10},"ASE",{"$nulls":5},"Ano de escolaridade",{"$nulls":12},"Valor"]
[null,1]
[null,2,{"$f":"IFERROR(VLOOKUP(B66,$BD$140:$CA$163,4,0),\"\")","v":""},null,{"$f":"IFERROR(VLOOKUP(B66,$BD$140:$CA$164,5,0),\"\")","v":""},{"$nulls":10},{"$f":"IFERROR(VLOOKUP(B66,$BD$140:$CA$164,6,0),\"\")","v":""},{"$nulls":18},{"$f":"IFERROR(IF(C66=\"\",\"\",(VLOOKUP(B66,$BD$140:$CB$163,25,0))),\"\")","v":""}]
[]
[null,"4.2.. Despacho do Departamento de Educação e Qualidade de Vida"]
[]
[]
[]
[null,null,"O/A Técnico/a:",{"$nulls":26},"Data:"]
[]
[null,"4.3. Despacho do Presidente da CMF ou Vereador/a com a competência delegada"]
{"$rows_empty":56}
[{"$nulls":70},{"$f":"BS133/6","v":421.32},null,{"$f":"BU133/2","v":421.32}]
[]
[{"$nulls":68},"6X",null,2527.92,"2X",842.64]
[]
[{"$nulls":63},"DATA",null,null,"REND. ANUAL",null,null,null,"REND. MENSAL PER CAPITA",null,"REND. MENSAL PER CAPITA",null,"Nº PESSOAS DO AGREGADO",null,"Nº DE DEPENDENTES"]
[]
[{"$nulls":63},{"$f":"IF(G72=\"\",U11,G72)","v":"00:00:00"},null,null,{"$f":"#REF!","v":{"$error":"#REF!"}},null,null,null,{"$f":"#REF!","v":{"$error":"#REF!"}},null,{"$f":"#REF!","v":{"$error":"#REF!"}},null,{"$f":"COUNTIF(#REF!,\"Dependente\")","v":{"$error":"#REF!"}},null,{"$f":"COUNTIF(#REF!,\"Dependente\")","v":{"$error":"#REF!"}}]
[{"$nulls":55},1,2,3,4,5,6,7,8,9,10,11,12,13,14,15,16,17,18,19,20,21,22,23,25,26]
[{"$nulls":54},"Nº DE ORDEM\nESCOLAS","Nº DE ORDEM\nSUBVENÇÃO","Nº DE LIGAÇÃO","VALOR DA LIGAÇÃO","Nº DE DEPENDENTE","NOME","SUBVENÇÃO","HABILITAÇÕES","DATA DE NASCIMENTO","IDADE ANOS;MESES;DIAS","IDADE ANOS","IDADE meses","DOC. PRENCHE OU NÃO PREENCHE","validação creche","validação escola","VALIDAÇÃO RENDIMENTOS ESCOLA","SETEMBRO","CODIGO NATALIDADE","DEPENDENTES","IDADE EM ANOS","COD. RENDimentos","MENOR QUE 6 ANOS","MENOR QUE 25 MAIOR QUE 6 ANOS","MENOR QUE 25 ANOS","VALOR","A TRANPORTAR"]
[{"$nulls":54},{"$f":"COUNTIF($BF140:BF$146,TRUE)","v":1},{"$f":"COUNTIF($BF$140:BF140,TRUE)","v":0},1,false,{"$f":"IF(BF140=TRUE,#REF!,0)","v":0},{"$f":"IF(BF140=TRUE,#REF!,0)","v":0},"Natalidade",null,{"$f":"IF(BF140=TRUE,VLOOKUP(BG140,#REF!,13,0),0)","v":"00:00:00"},{"$f":"YEAR($BL$137)-YEAR(BK140)-IF(OR(MONTH($BL$137)<MONTH(BK140),AND(MONTH($BL$137)=MONTH(BK140),DAY($BL$137)<DAY(BK140))),1,0)&\";\" & MONTH($BL$137)-MONTH(BK140)+IF(AND(MONTH($BL$137)<=MONTH(BK140),DAY($BL$137)<DAY(BK140)),11,IF(AND(MONTH($BL$137)<MONTH(BK140),DAY($BL$137)>=DAY(BK140)),12,IF(AND(MONTH($BL$137)>MONTH(BK140),DAY($BL$137)<DAY(BK140)),-1)))&\"; \"&$BL$137-DATE(YEAR($BL$137),MONTH($BL$137)-IF(DAY($BL$137)<DAY(BK140),1,0),DAY(BK140))","v":"0;0; 0"},{"$f":"YEAR($BL$137)-YEAR(BK140)-IF(OR(MONTH($BL$137)<MONTH(BK140),AND(MONTH($BL$137)=MONTH(BK140),DAY($BL$137)<DAY(BK140))),1,0)","v":0},{"$f":" MONTH($BL$137)-MONTH(BK140)+IF(AND(MONTH($BL$137)<=MONTH(BK140),DAY($BL$137)<DAY(BK140)),11,IF(AND(MONTH($BL$137)<MONTH(BK140),DAY($BL$137)>=DAY(BK140)),12,IF(AND(MONTH($BL$137)>MONTH(BK140),DAY($BL$137)<DAY(BK140)),-1)))","v":0},{"$f":"IF(#REF!=4,1,0)","v":{"$error":"#REF!"}},{"$nulls":4},{"$f":"CONCATENATE(BU140,BV140,BW140)","v":{"$error":"#REF!"}},{"$f":"IF($BY$137>=3,3,$BY$137)","v":{"$error":"#REF!"}},{"$f":"IF(BM140<3,BM140,\"\")","v":0},{"$f":"VLOOKUP($BO$137,$BC$196:$BE$199,3,1)","v":{"$error":"#REF!"}},null,null,null,{"$f":"IFERROR(IF(BO140=1,VLOOKUP(BT140,$BC$167:$BM$193,10,0),\"\"),0)","v":0},{"$f":"IFERROR(IF(BO140=1,VLOOKUP(BT140,$BC$167:$BM$193,11,0),\"\"),0)","v":0}]
[{"$nulls":54},{"$f":"COUNTIF($BF141:BF$146,TRUE)","v":1},{"$f":"COUNTIF($BF$140:BF141,TRUE)","v":0},2,false,{"$f":"IF(BF141=TRUE,#REF!,0)","v":0},{"$f":"IF(BF141=TRUE,#REF!,0)","v":0},"Natalidade",null,{"$f":"IF(BF141=TRUE,VLOOKUP(BG141,#REF!,13,0),0)","v":"00:00:00"},{"$f":"YEAR($BL$137)-YEAR(BK141)-IF(OR(MONTH($BL$137)<MONTH(BK141),AND(MONTH($BL$137)=MONTH(BK141),DAY($BL$137)<DAY(BK141))),1,0)&\";\" & MONTH($BL$137)-MONTH(BK141)+IF(AND(MONTH($BL$137)<=MONTH(BK141),DAY($BL$137)<DAY(BK141)),11,IF(AND(MONTH($BL$137)<MONTH(BK141),DAY($BL$137)>=DAY(BK141)),12,IF(AND(MONTH($BL$137)>MONTH(BK141),DAY($BL$137)<DAY(BK141)),-1)))&\"; \"&$BL$137-DATE(YEAR($BL$137),MONTH($BL$137)-IF(DAY($BL$137)<DAY(BK141),1,0),DAY(BK141))","v":"0;0; 0"},{"$f":"YEAR($BL$137)-YEAR(BK141)-IF(OR(MONTH($BL$137)<MONTH(BK141),AND(MONTH($BL$137)=MONTH(BK141),DAY($BL$137)<DAY(BK141))),1,0)","v":0},{"$f":" MONTH($BL$137)-MONTH(BK141)+IF(AND(MONTH($BL$137)<=MONTH(BK141),DAY($BL$137)<DAY(BK141)),11,IF(AND(MONTH($BL$137)<MONTH(BK141),DAY($BL$137)>=DAY(BK141)),12,IF(AND(MONTH($BL$137)>MONTH(BK141),DAY($BL$137)<DAY(BK141)),-1)))","v":0},{"$f":"IF(#REF!=4,1,0)","v":{"$error":"#REF!"}},{"$nulls":4},{"$f":"CONCATENATE(BU141,BV141,BW141)","v":{"$error":"#REF!"}},{"$f":"IF($BY$137>=3,3,$BY$137)","v":{"$error":"#REF!"}},0,{"$f":"VLOOKUP($BO$137,$BC$196:$BE$199,3,1)","v":{"$error":"#REF!"}},null,null,null,{"$f":"IFERROR(IF(BO141=1,VLOOKUP(BT141,$BC$167:$BM$193,10,0),\"\"),0)","v":0},{"$f":"IFERROR(IF(BO141=1,VLOOKUP(BT141,$BC$167:$BM$193,11,0),\"\"),0)","v":0}]
[{"$nulls":54},{"$f":"COUNTIF($BF142:BF$146,TRUE)","v":1},{"$f":"COUNTIF($BF$140:BF142,TRUE)","v":0},3,false,{"$f":"IF(BF142=TRUE,#REF!,0)","v":0},{"$f":"IF(BF142=TRUE,#REF!,0)","v":0},"Natalidade",null,{"$f":"IF(BF142=TRUE,VLOOKUP(BG142,#REF!,13,0),0)","v":"00:00:00"},{"$f":"YEAR($BL$137)-YEAR(BK142)-IF(OR(MONTH($BL$137)<MONTH(BK142),AND(MONTH($BL$137)=MONTH(BK142),DAY($BL$137)<DAY(BK142))),1,0)&\";\" & MONTH($BL$137)-MONTH(BK142)+IF(AND(MONTH($BL$137)<=MONTH(BK142),DAY($BL$137)<DAY(BK142)),11,IF(AND(MONTH($BL$137)<MONTH(BK142),DAY($BL$137)>=DAY(BK142)),12,IF(AND(MONTH($BL$137)>MONTH(BK142),DAY($BL$137)<DAY(BK142)),-1)))&\"; \"&$BL$137-DATE(YEAR($BL$137),MONTH($BL$137)-IF(DAY($BL$137)<DAY(BK142),1,0),DAY(BK142))","v":"0;0; 0"},0,0,{"$f":"IF(#REF!=4,1,0)","v":{"$error":"#REF!"}},{"$nulls":4},{"$error":"#REF!"},{"$error":"#REF!"},0,{"$error":"#REF!"},null,null,null,0,0]
[{"$nulls":54},{"$f":"COUNTIF($BF143:BF$146,TRUE)","v":1},{"$f":"COUNTIF($BF$140:BF143,TRUE)","v":0},4,false,{"$f":"IF(BF143=TRUE,#REF!,0)","v":0},{"$f":"IF(BF143=TRUE,#REF!,0)","v":0},"Natalidade",null,{"$f":"IF(BF143=TRUE,VLOOKUP(BG143,#REF!,13,0),0)","v":"00:00:00"},"0;0; 0",0,0,{"$f":"IF(#REF!=4,1,0)","v":{"$error":"#REF!"}},{"$nulls":4},{"$error":"#REF!"},{"$error":"#REF!"},0,{"$error":"#REF!"},null,null,null,0,0]
[{"$nulls":54},{"$f":"COUNTIF($BF144:BF$146,TRUE)","v":1},{"$f":"COUNTIF($BF$140:BF144,TRUE)","v":1},5,true,{"$f":"IF(BF144=TRUE,#REF!,0)","v":{"$error":"#REF!"}},{"$f":"IF(BF144=TRUE,#REF!,0)","v":{"$error":"#REF!"}},"Natalidade",null,{"$f":"IF(BF144=TRUE,VLOOKUP(BG144,#REF!,13,0),0)","v":{"$error":"#REF!"}},{"$error":"#REF!"},{"$error":"#REF!"},{"$error":"#REF!"},{"$f":"IF(#REF!=4,1,0)","v":{"$error":"#REF!"}},{"$nulls":4},{"$error":"#REF!"},{"$error":"#REF!"},{"$error":"#REF!"},{"$error":"#REF!"},null,null,null,0,0]
[{"$nulls":54},{"$f":"COUNTIF($BF145:BF$146,TRUE)","v":0},{"$f":"COUNTIF($BF$140:BF145,TRUE)","v":1},6,false,{"$f":"IF(BF145=TRUE,#REF!,0)","v":0},{"$f":"IF(BF145=TRUE,#REF!,0)","v":0},"Natalidade",null,{"$f":"IF(BF145=TRUE,VLOOKUP(BG145,#REF!,13,0),0)","v":"00:00:00"},"0;0; 0",0,0,{"$f":"IF(#REF!=4,1,0)","v":{"$error":"#REF!"}},{"$nulls":4},{"$error":"#REF!"},{"$error":"#REF!"},0,{"$error":"#REF!"},null,null,null,0,0]
[{"$nulls":54},{"$f":"COUNTIF($BF$146:BF146,TRUE)","v":0},{"$f":"COUNTIF($BF$140:BF146,TRUE)","v":1},7,false,{"$f":"IF(BF146=TRUE,#REF!,0)","v":0},{"$f":"IF(BF146=TRUE,#REF!,0)","v":0},"Creche e \nJardim-Infância",null,{"$f":"IF(BF146=TRUE,VLOOKUP(BG146,#REF!,13,0),0)","v":"00:00:00"},"0;0; 0",0,0,{"$f":"IF(AND(#REF!=4,OR(AND(BM146=0,BN146>3),BM146>0),BP146=1,BS146=1,BX146=1),1,0)","v":{"$error":"#REF!"}},{"$f":"IF(BF146=TRUE,VLOOKUP(BC146,#REF!,9,0),0)","v":0},null,null,{"$f":"IF(MONTH(TODAY())=9,1,0)","v":0},null,null,0,null,{"$f":"IF(BM146<6,1,0)","v":1},null,null,{"$f":"IF(BO146=1,25,\"\")","v":{"$error":"#REF!"}},{"$f":"IF(BO146=0,\"\",VLOOKUP(BO146,$BO$167:$BP$168,2,0))","v":{"$error":"#REF!"}}]
[{"$nulls":54},{"$f":"COUNTIF($BF$146:BF147,TRUE)","v":0},{"$f":"COUNTIF($BF$140:BF147,TRUE)","v":1},8,false,{"$f":"IF(BF147=TRUE,#REF!,0)","v":0},{"$f":"IF(BF147=TRUE,#REF!,0)","v":0},"Creche e \nJardim-Infância",null,{"$f":"IF(BF147=TRUE,VLOOKUP(BG147,#REF!,13,0),0)","v":"00:00:00"},"0;0; 0",0,0,{"$f":"IF(AND(#REF!=4,OR(AND(BM147=0,BN147>3),BM147>0),BP147=1,BS147=1,BX147=1),1,0)","v":{"$error":"#REF!"}},{"$f":"IF(BF147=TRUE,VLOOKUP(BC147,#REF!,9,0),0)","v":0},null,null,{"$f":"IF(MONTH(TODAY())=9,1,0)","v":0},null,null,0,null,{"$f":"IF(BM147<6,1,0)","v":1},null,null,{"$error":"#REF!"},{"$f":"IF(BO147=0,\"\",VLOOKUP(BO147,$BO$167:$BP$168,2,0))","v":{"$error":"#REF!"}}]
[{"$nulls":54},{"$f":"COUNTIF($BF$146:BF148,TRUE)","v":0},{"$f":"COUNTIF($BF$140:BF148,TRUE)","v":1},9,false,{"$f":"IF(BF148=TRUE,#REF!,0)","v":0},{"$f":"IF(BF148=TRUE,#REF!,0)","v":0},"Creche e \nJardim-Infância",null,{"$f":"IF(BF148=TRUE,VLOOKUP(BG148,#REF!,13,0),0)","v":"00:00:00"},"0;0; 0",0,0,{"$f":"IF(AND(#REF!=4,OR(AND(BM148=0,BN148>3),BM148>0),BP148=1,BS148=1,BX148=1),1,0)","v":{"$error":"#REF!"}},{"$f":"IF(BF148=TRUE,VLOOKUP(BC148,#REF!,9,0),0)","v":0},null,null,0,null,null,0,null,1,null,null,{"$error":"#REF!"},{"$error":"#REF!"}]
[{"$nulls":54},{"$f":"COUNTIF($BF$146:BF149,TRUE)","v":0},{"$f":"COUNTIF($BF$140:BF149,TRUE)","v":1},10,false,{"$f":"IF(BF149=TRUE,#REF!,0)","v":0},{"$f":"IF(BF149=TRUE,#REF!,0)","v":0},"Creche e \nJardim-Infância",null,{"$f":"IF(BF149=TRUE,VLOOKUP(BG149,#REF!,13,0),0)","v":"00:00:00"},"0;0; 0",0,0,{"$f":"IF(AND(#REF!=4,OR(AND(BM149=0,BN149>3),BM149>0),BP149=1,BS149=1,BX149=1),1,0)","v":{"$error":"#REF!"}},{"$f":"IF(BF149=TRUE,VLOOKUP(BC149,#REF!,9,0),0)","v":0},null,null,0,null,null,0,null,1,null,null,{"$error":"#REF!"},{"$error":"#REF!"}]
[{"$nulls":54},{"$f":"COUNTIF($BF$146:BF150,TRUE)","v":0},{"$f":"COUNTIF($BF$140:BF150,TRUE)","v":1},11,false,{"$f":"IF(BF150=TRUE,#REF!,0)","v":0},{"$f":"IF(BF150=TRUE,#REF!,0)","v":0},"Creche e \nJardim-Infância",null,{"$f":"IF(BF150=TRUE,VLOOKUP(BG150,#REF!,13,0),0)","v":"00:00:00"},"0;0; 0",0,0,{"$f":"IF(AND(#REF!=4,OR(AND(BM150=0,BN150>3),BM150>0),BP150=1,BS150=1,BX150=1),1,0)","v":{"$error":"#REF!"}},{"$f":"IF(BF150=TRUE,VLOOKUP(BC150,#REF!,9,0),0)","v":0},null,null,0,null,null,0,null,1,null,null,{"$error":"#REF!"},{"$error":"#REF!"}]
[{"$nulls":54},{"$f":"COUNTIF($BF$146:BF151,TRUE)","v":0},{"$f":"COUNTIF($BF$140:BF151,TRUE)","v":1},12,false,{"$f":"IF(BF151=TRUE,#REF!,0)","v":0},{"$f":"IF(BF151=TRUE,#REF!,0)","v":0},"Creche e \nJardim-Infância",null,{"$f":"IF(BF151=TRUE,VLOOKUP(BG151,#REF!,13,0),0)","v":"00:00:00"},"0;0; 0",0,0,{"$f":"IF(AND(#REF!=4,OR(AND(BM151=0,BN151>3),BM151>0),BP151=1,BS151=1,BX151=1),1,0)","v":{"$error":"#REF!"}},{"$f":"IF(BF151=TRUE,VLOOKUP(BC151,#REF!,9,0),0)","v":0},null,null,0,null,null,0,null,1,null,null,{"$error":"#REF!"},{"$error":"#REF!"}]
[{"$nulls":54},{"$f":"COUNTIF($BF$146:BF152,TRUE)","v":0},{"$f":"COUNTIF($BF$140:BF152,TRUE)","v":1},13,false,{"$f":"IF(BF152=TRUE,#REF!,0)","v":0},{"$f":"IF(BF152=TRUE,#REF!,0)","v":0},"Livros e \nMaterial Escolar",{"$f":"IF(BF152=TRUE,VLOOKUP(BG152,#REF!,17,0),\"\")","v":""},{"$f":"IF(BF152=TRUE,VLOOKUP(BG152,#REF!,13,0),0)","v":"00:00:00"},"0;0; 0",0,null,{"$f":"IF(AND(#REF!=4,BQ152=1,BS152=1,BR152=1,BY152=1),1,0)","v":{"$error":"#REF!"}},null,{"$f":"IF(BF152=TRUE,VLOOKUP(BC152,#REF!,10,0),0)","v":0},{"$f":"IF(AND(BF152=TRUE,$BU$137<$BU$133,$BS$137<$BS$133),1,0)","v":{"$error":"#REF!"}},0,{"$nulls":5},{"$f":"IF(AND(BM152>=6,BM152<25),1,0)","v":0},null,{"$f":"IF(BO152=1,VLOOKUP(BJ152,$BH$196:$BI$199,2,0),\"\")","v":{"$error":"#REF!"}},{"$f":"IF(BO152=1,VLOOKUP(BJ152,$BH$196:$BJ$199,3,0),\"\")","v":{"$error":"#REF!"}}]
[{"$nulls":54},{"$f":"COUNTIF($BF$146:BF153,TRUE)","v":0},{"$f":"COUNTIF($BF$140:BF153,TRUE)","v":1},14,false,{"$f":"IF(BF153=TRUE,#REF!,0)","v":0},{"$f":"IF(BF153=TRUE,#REF!,0)","v":0},"Livros e \nMaterial Escolar",{"$f":"IF(BF153=TRUE,VLOOKUP(BG153,#REF!,17,0),\"\")","v":""},{"$f":"IF(BF153=TRUE,VLOOKUP(BG153,#REF!,13,0),0)","v":"00:00:00"},"0;0; 0",0,null,{"$f":"IF(AND(#REF!=4,BQ153=1,BS153=1,BR153=1,BY153=1),1,0)","v":{"$error":"#REF!"}},null,{"$f":"IF(BF153=TRUE,VLOOKUP(BC153,#REF!,10,0),0)","v":0},{"$f":"IF(AND(BF153=TRUE,$BU$137<$BU$133,$BS$137<$BS$133),1,0)","v":{"$error":"#REF!"}},0,{"$nulls":5},{"$f":"IF(AND(BM153>=6,BM153<25),1,0)","v":0},null,{"$error":"#REF!"},{"$error":"#REF!"}]
[{"$nulls":54},{"$f":"COUNTIF($BF$146:BF154,TRUE)","v":0},{"$f":"COUNTIF($BF$140:BF154,TRUE)","v":1},15,false,{"$f":"IF(BF154=TRUE,#REF!,0)","v":0},{"$f":"IF(BF154=TRUE,#REF!,0)","v":0},"Livros e \nMaterial Escolar",{"$f":"IF(BF154=TRUE,VLOOKUP(BG154,#REF!,17,0),\"\")","v":""},{"$f":"IF(BF154=TRUE,VLOOKUP(BG154,#REF!,13,0),0)","v":"00:00:00"},"0;0; 0",0,null,{"$f":"IF(AND(#REF!=4,BQ154=1,BS154=1,BR154=1,BY154=1),1,0)","v":{"$error":"#REF!"}},null,{"$f":"IF(BF154=TRUE,VLOOKUP(BC154,#REF!,10,0),0)","v":0},{"$error":"#REF!"},0,{"$nulls":5},0,null,{"$error":"#REF!"},{"$error":"#REF!"}]
[{"$nulls":54},{"$f":"COUNTIF($BF$146:BF155,TRUE)","v":0},{"$f":"COUNTIF($BF$140:BF155,TRUE)","v":1},16,false,{"$f":"IF(BF155=TRUE,#REF!,0)","v":0},{"$f":"IF(BF155=TRUE,#REF!,0)","v":0},"Livros e \nMaterial Escolar",{"$f":"IF(BF155=TRUE,VLOOKUP(BG155,#REF!,17,0),\"\")","v":""},{"$f":"IF(BF155=TRUE,VLOOKUP(BG155,#REF!,13,0),0)","v":"00:00:00"},"0;0; 0",0,null,{"$f":"IF(AND(#REF!=4,BQ155=1,BS155=1,BR155=1,BY155=1),1,0)","v":{"$error":"#REF!"}},null,{"$f":"IF(BF155=TRUE,VLOOKUP(BC155,#REF!,10,0),0)","v":0},{"$error":"#REF!"},0,{"$nulls":5},0,null,{"$error":"#REF!"},{"$error":"#REF!"}]
[{"$nulls":54},{"$f":"COUNTIF($BF$146:BF156,TRUE)","v":0},{"$f":"COUNTIF($BF$140:BF156,TRUE)","v":1},17,false,{"$f":"IF(BF156=TRUE,#REF!,0)","v":0},{"$f":"IF(BF156=TRUE,#REF!,0)","v":0},"Livros e \nMaterial Escolar",{"$f":"IF(BF156=TRUE,VLOOKUP(BG156,#REF!,17,0),\"\")","v":""},{"$f":"IF(BF156=TRUE,VLOOKUP(BG156,#REF!,13,0),0)","v":"00:00:00"},"0;0; 0",0,null,{"$f":"IF(AND(#REF!=4,BQ156=1,BS156=1,BR156=1,BY156=1),1,0)","v":{"$error":"#REF!"}},null,{"$f":"IF(BF156=TRUE,VLOOKUP(BC156,#REF!,10,0),0)","v":0},{"$error":"#REF!"},0,{"$nulls":5},0,null,{"$error":"#REF!"},{"$error":"#REF!"}]
[{"$nulls":54},{"$f":"COUNTIF($BF$146:BF157,TRUE)","v":0},{"$f":"COUNTIF($BF$140:BF157,TRUE)","v":1},18,false,{"$f":"IF(BF157=TRUE,#REF!,0)","v":0},{"$f":"IF(BF157=TRUE,#REF!,0)","v":0},"Livros e \nMaterial Escolar",{"$f":"IF(BF157=TRUE,VLOOKUP(BG157,#REF!,17,0),\"\")","v":""},{"$f":"IF(BF157=TRUE,VLOOKUP(BG157,#REF!,13,0),0)","v":"00:00:00"},"0;0; 0",0,null,{"$f":"IF(AND(#REF!=4,BQ157=1,BS157=1,BR157=1,BY157=1),1,0)","v":{"$error":"#REF!"}},null,{"$f":"IF(BF157=TRUE,VLOOKUP(BC157,#REF!,10,0),0)","v":0},{"$error":"#REF!"},0,{"$nulls":5},0,null,{"$error":"#REF!"},{"$error":"#REF!"}]
[{"$nulls":54},{"$f":"COUNTIF($BF$146:BF158,TRUE)","v":0},{"$f":"COUNTIF($BF$140:BF158,TRUE)","v":1},19,false,{"$f":"IF(BF158=TRUE,#REF!,0)","v":0},{"$f":"IF(BF158=TRUE,#REF!,0)","v":0},"Saúde e \nAlimentação",null,{"$f":"IF(BF158=TRUE,VLOOKUP(BG158,#REF!,13,0),0)","v":"00:00:00"},"0;0; 0",0,null,{"$f":"IF(BZ158=1,IF($BS$137/$BS$131>=6,6,$BS$137/$BS$131),0)","v":{"$error":"#REF!"}},{"$nulls":10},{"$f":"IF(BM158<25,1,0)","v":1},{"$f":"IF(BO158=0,0,VLOOKUP(BO158,BR168:BU174,4,1))","v":{"$error":"#REF!"}},{"$f":"VLOOKUP(CA158,$BU$168:$BV$174,2,0)","v":{"$error":"#REF!"}}]
[{"$nulls":54},{"$f":"COUNTIF($BF$146:BF159,TRUE)","v":0},{"$f":"COUNTIF($BF$140:BF159,TRUE)","v":1},20,false,{"$f":"IF(BF159=TRUE,#REF!,0)","v":0},{"$f":"IF(BF159=TRUE,#REF!,0)","v":0},"Saúde e \nAlimentação",null,{"$f":"IF(BF159=TRUE,VLOOKUP(BG159,#REF!,13,0),0)","v":"00:00:00"},"0;0; 0",0,null,{"$f":"IF(BZ159=1,IF($BS$137/$BS$131>=6,6,$BS$137/$BS$131),0)","v":{"$error":"#REF!"}},{"$nulls":10},{"$f":"IF(BM159<25,1,0)","v":1},{"$f":"IF(BO159=0,0,VLOOKUP(BO159,BR169:BU175,4,1))","v":{"$error":"#REF!"}},{"$f":"VLOOKUP(CA159,$BU$168:$BV$174,2,0)","v":{"$error":"#REF!"}}]
[{"$nulls":54},{"$f":"COUNTIF($BF$146:BF160,TRUE)","v":0},{"$f":"COUNTIF($BF$140:BF160,TRUE)","v":1},21,false,{"$f":"IF(BF160=TRUE,#REF!,0)","v":0},{"$f":"IF(BF160=TRUE,#REF!,0)","v":0},"Saúde e \nAlimentação",null,{"$f":"IF(BF160=TRUE,VLOOKUP(BG160,#REF!,13,0),0)","v":"00:00:00"},"0;0; 0",0,null,{"$error":"#REF!"},{"$nulls":10},1,{"$error":"#REF!"},{"$error":"#REF!"}]
[{"$nulls":54},{"$f":"COUNTIF($BF$146:BF161,TRUE)","v":0},{"$f":"COUNTIF($BF$140:BF161,TRUE)","v":1},22,false,{"$f":"IF(BF161=TRUE,#REF!,0)","v":0},{"$f":"IF(BF161=TRUE,#REF!,0)","v":0},"Saúde e \nAlimentação",null,{"$f":"IF(BF161=TRUE,VLOOKUP(BG161,#REF!,13,0),0)","v":"00:00:00"},"0;0; 0",0,null,{"$error":"#REF!"},{"$nulls":10},1,{"$error":"#REF!"},{"$error":"#REF!"}]
[{"$nulls":54},{"$f":"COUNTIF($BF$146:BF162,TRUE)","v":0},{"$f":"COUNTIF($BF$140:BF162,TRUE)","v":1},23,false,{"$f":"IF(BF162=TRUE,#REF!,0)","v":0},{"$f":"IF(BF162=TRUE,#REF!,0)","v":0},"Saúde e \nAlimentação",null,{"$f":"IF(BF162=TRUE,VLOOKUP(BG162,#REF!,13,0),0)","v":"00:00:00"},"0;0; 0",0,null,{"$error":"#REF!"},{"$nulls":10},1,{"$error":"#REF!"},{"$error":"#REF!"}]
[{"$nulls":54},{"$f":"COUNTIF($BF$146:BF163,TRUE)","v":0},{"$f":"COUNTIF($BF$140:BF163,TRUE)","v":1},24,false,{"$f":"IF(BF163=TRUE,#REF!,0)","v":0},{"$f":"IF(BF163=TRUE,#REF!,0)","v":0},"Saúde e \nAlimentação",null,{"$f":"IF(BF163=TRUE,VLOOKUP(BG163,#REF!,13,0),0)","v":"00:00:00"},"0;0; 0",0,null,{"$error":"#REF!"},{"$nulls":10},1,{"$error":"#REF!"},{"$error":"#REF!"}]
[]
[{"$nulls":54},1,2,3,4,5,6,7,8,9,10,11]
[{"$nulls":54},"cod. Nat.","FILHOS","IDADE EM ANOS","cod. Rend.anual","MINIMO\nrendimento","MAXIMO\nrendimento","VALOR\nsubvenção",null,"percentagem","total\nmês","texto"]
[{"$nulls":54},{"$f":"CONCATENATE(BD167,BE167,BF167)","v":"101"},1,0,1,0,7000,50,null,0.5,{"$f":"BI167*BK167","v":25},"25,00 € /Mês",null,1,"25,00 € /Mês"]
[{"$nulls":54},{"$f":"CONCATENATE(BD168,BE168,BF168)","v":"201"},2,0,1,0,7000,50,null,0.75,{"$f":"BI168*BK168","v":37.5},"37,50 € /Mês",null,0,"0",null,0,421.32,{"$f":"BR168*BS168","v":0},200,"200,00 € /Ano/Agr"]
[{"$nulls":54},"301",3,0,1,0,7000,50,null,1,{"$f":"BI169*BK169","v":50},"50,00 € /Mês",{"$nulls":4},1,421.32,{"$f":"BR169*BS169","v":421.32},150,"150,00 € /Ano/Agr"]
[{"$nulls":54},"111",1,1,1,0,7000,50,null,0.75,{"$f":"BL167*BK170","v":18.75},"18,75 € /Mês",{"$nulls":4},2,421.32,842.64,130,"130,00 € /Ano/Agr"]
[{"$nulls":54},"211",2,1,1,0,7000,50,null,0.75,{"$f":"BL168*BK171","v":28.125},"28,13 € /Mês",{"$nulls":4},3,421.32,1263.96,100,"100,00 € /Ano/Agr"]
[{"$nulls":54},"311",3,1,1,0,7000,50,null,0.75,{"$f":"BL169*BK172","v":37.5},"37,50 € /Mês",{"$nulls":4},4,421.32,1685.28,80,"80,00 € /Ano/Agr"]
[{"$nulls":54},"121",1,2,1,0,7000,50,null,0.5,{"$f":"BK173*BL167","v":12.5},"12,50 € /Mês",{"$nulls":4},5,421.32,2106.6,50,"50,00 € /Ano/Agr"]
[{"$nulls":54},"221",2,2,1,0,7000,50,null,0.5,{"$f":"BK174*BL168","v":18.75},"18,75 € /Mês",{"$nulls":4},6,null,null,0,"0,00 € /Ano/Agr"]
[{"$nulls":54},"321",3,2,1,0,7000,50,null,0.5,{"$f":"BK175*BL169","v":25},"25,00 € /Mês"]
[{"$nulls":54},"102",1,0,2,7000,20000,42.5,null,0.5,{"$f":"BI176*BK176","v":21.25},"21,25 € /Mês"]
[{"$nulls":54},"202",2,0,2,7000,20000,42.5,null,0.75,{"$f":"BI177*BK177","v":31.875},"31,88 € /Mês"]
[{"$nulls":54},"302",3,0,2,7000,20000,42.5,null,1,{"$f":"BI178*BK178","v":42.5},"42,50 € /Mês"]
[{"$nulls":54},"112",1,1,2,7000,20000,42.5,null,0.75,{"$f":"BK179*BL176","v":15.9375},"15,94 € /Mês"]
[{"$nulls":54},"212",2,1,2,7000,20000,42.5,null,0.75,{"$f":"BK180*BL177","v":23.90625},"23,91 € /Mês"]
[{"$nulls":54},"312",3,1,2,7000,20000,42.5,null,0.75,{"$f":"BK181*BL178","v":31.875},"31,88 € /Mês"]
[{"$nulls":54},"122",1,2,2,7000,20000,42.5,null,0.5,{"$f":"BK182*BL176","v":10.625},"10,63 € /Mês"]
[{"$nulls":54},"222",2,2,2,7000,20000,42.5,null,0.5,{"$f":"BK183*BL177","v":15.9375},"15,94 € /Mês"]
[{"$nulls":54},"322",3,2,2,7000,20000,42.5,null,0.5,{"$f":"BK184*BL178","v":21.25},"21,25 € /Mês"]
[{"$nulls":54},"203",2,0,3,20000,40000,32.5,null,0.75,{"$f":"BI185*BK185","v":24.375},"24,38 € /Mês"]
[{"$nulls":54},"303",3,0,3,20000,40000,32.5,null,1,{"$f":"BI186*BK186","v":32.5},"32,50 € /Mês"]
[{"$nulls":54},"213",2,1,3,20000,40000,32.5,null,0.75,{"$f":"BK187*BL185","v":18.28125},"18,28 € /Mês"]
[{"$nulls":54},"313",3,1,3,20000,40000,32.5,null,0.75,{"$f":"BK188*BL186","v":24.375},"24,38 € /Mês"]
[{"$nulls":54},"223",2,2,3,20000,40000,32.5,null,0.5,{"$f":"BK189*BL185","v":12.1875},"12,19 € /Mês"]
[{"$nulls":54},"323",3,2,3,20000,40000,32.5,null,0.5,{"$f":"BK190*BL186","v":16.25},"16,25 € /Mês"]
[{"$nulls":54},"304",3,0,4,40000,80000,25,null,1,{"$f":"BI191*BK191","v":25},"25,00 € /Mês"]
[{"$nulls":54},"314",3,1,4,40000,80000,25,null,0.75,{"$f":"BK192*BL191","v":18.75},"18,75 € /Mês"]
[{"$nulls":54},"324",3,2,4,40000,80000,25,null,0.5,{"$f":"BK193*BL191","v":12.5},"12,50 € /Mês"]
[]
[]
[{"$nulls":54},0,7000,1,null,null,"1º Ciclo (até ao 4º ano)",20,"20,00 € /Ano"]
[{"$nulls":54},7000.01,20000,2,null,null,"2º Ciclo (até ao 6º ano)",40,"40,00 € /Ano"]
[{"$nulls":54},20000.009999999998,40000,3,null,null,"3º Ciclo (até ao 9º ano)",70,"70,00 € /Ano"]
[{"$nulls":54},40000.01,80000,4,null,null,"Secundário (até ao 12º ano)",100,"100,00 € /Ano"]
{"$rows_empty":745}
[{"$nulls":724},1,"Imaculado Coração de Maria",1,"Casado(a)",1,"Sem Habilitações","SemHabiltações",1,"Categoria","SEM HABILITAÇÕES"]
[{"$nulls":724},2,"Monte",2,"Divorciado(a)",2,"1º Ciclo (até ao 4º ano)","1Ciclo",2]
[{"$nulls":724},3,"Santa Luzia ",3,"Solteiro(a)",3,"2º Ciclo (até ao 6º ano)","2e3Ciclo",3,"Pré-escolar","Centro Infantil Maria Eugénia Canavial ","Privado","SEM HABILITAÇÕES"]
[{"$nulls":724},4,"Santa Maria Maior",4,"Viúvo(a)",4,"3º Ciclo (até ao 9º ano)","2e3Ciclo",4,"Pré-escolar","Centro Social e Paroquial da Graça","Privado","SEM HABILITAÇÕES"]
[{"$nulls":724},5,"Santo António",5,"União de fato",5,"Secundário (até ao 12º ano)","Secundário",5,"Pré-escolar","Creche do Livramento","Privado","SEM HABILITAÇÕES"]
[{"$nulls":724},6,"São Gonçalo",null,null,6,"Licenciatura",null,6,"Pré-escolar","Inf. O Canto dos Reguilas","Privado","SEM HABILITAÇÕES"]
[{"$nulls":724},7,"São Martinho",{"$nulls":5},7,"Pré-escolar","Inf. Planeta das Crianças","Privado","SEM HABILITAÇÕES"]
[{"$nulls":724},8,"São Pedro",{"$nulls":5},8,"Pré-escolar","Inf. A Rochinha","Privado","SEM HABILITAÇÕES"]
[{"$nulls":724},9,"São Roque",{"$nulls":5},9,"Pré-escolar","Inf. As Capuchinhas ","Privado","SEM HABILITAÇÕES"]
[{"$nulls":724},10,"Sé",{"$nulls":5},10,"Pré-escolar","Inf. D. Olga de Brito ","Privado","SEM HABILITAÇÕES"]
[{"$nulls":731},11,"Pré-escolar","Inf. Donamina - Cruz Vermelha ","Privado","SEM HABILITAÇÕES"]
[{"$nulls":731},12,"Pré-escolar","Inf. O Carrocel","Público","SEM HABILITAÇÕES"]
[{"$nulls":722},1,"janeiro",{"$nulls":7},13,"Pré-escolar","Inf. O Girassol","Público","SEM HABILITAÇÕES"]
[{"$nulls":722},2,"fevereiro",null,"Cônjuge",{"$nulls":5},14,"Pré-escolar","Inf. O Pimpão ","Privado","SEM HABILITAÇÕES"]
[{"$nulls":722},3,"março",null,"União de facto",{"$nulls":5},15,"Pré-escolar","Inf. O Polegarzinho ","Privado","SEM HABILITAÇÕES"]
[{"$nulls":722},4,"abril",null,"Dependente",{"$nulls":5},16,"Pré-escolar","Inf. O Sapatinho","Público","SEM HABILITAÇÕES"]
[{"$nulls":722},5,"maio",null,"Outro",{"$nulls":5},17,"Pré-escolar","Inf. Os Louros","Público","SEM HABILITAÇÕES"]
[{"$nulls":722},6,"junho",{"$nulls":7},18,"Pré-escolar","Inf. Primaveras ","Privado","SEM HABILITAÇÕES"]
[{"$nulls":722},7,"julho",{"$nulls":7},19,"Pré-escolar","Inf. Rainha Sílvia ","Privado","SEM HABILITAÇÕES"]
[{"$nulls":722},8,"agosto",{"$nulls":7},20,"Pré-escolar","Inf. Refúgio do Bebé ","Privado","SEM HABILITAÇÕES"]
[{"$nulls":722},9,"setembro",{"$nulls":7},21,"Pré-escolar","Inf. Refúgio do Bebé II","Privado","SEM HABILITAÇÕES"]
[{"$nulls":722},10,"outubro",{"$nulls":7},22,"Pré-escolar","Inf. S. Gonçalo","Público","SEM HABILITAÇÕES"]
[{"$nulls":722},11,"novembro",{"$nulls":7},23,"Pré-escolar","Inf. Cidade dos brinquedos","Privado","SEM HABILITAÇÕES"]
[{"$nulls":722},12,"dezembro",{"$nulls":7},24,"Pré-escolar","Jardim Escola João de Deus ","Privado","SEM HABILITAÇÕES"]
[{"$nulls":731},25,"Pré-escolar","JI Nossa Sra. Conceição ","Privado","SEM HABILITAÇÕES"]
[{"$nulls":731},26,"Pré-escolar","JI Patronato S. Pedro","Privado","SEM HABILITAÇÕES"]
[{"$nulls":731},27,"Pré-escolar","Quinta dos Traquinas (ASM4S) ","Privado","SEM HABILITAÇÕES"]
[{"$nulls":731},28,"Pré-escolar","Toca dos Traquinas","Privado","SEM HABILITAÇÕES"]
[{"$nulls":731},29]
[{"$nulls":731},30,null,"          1º CICLO"]
[{"$nulls":731},31,"1º ciclo","Auxílio Maternal do Funchal ","Privado","1º Ciclo (até ao 4º ano)"]
[{"$nulls":731},32,"1º ciclo","Centro Reab. Psicoped. Sagrada Família ","Privado","1º Ciclo (até ao 4º ano)"]
[{"$nulls":731},33,"1º ciclo","Colégio de Apresentação de Maria ","Privado","1º Ciclo (até ao 4º ano)"]
[{"$nulls":731},34,"1º ciclo","Colégio de Santa Teresinha ","Privado","1º Ciclo (até ao 4º ano)"]
[{"$nulls":731},35,"1º ciclo","Colégio do Marítimo","Público","1º Ciclo (até ao 4º ano)"]
[{"$nulls":731},36,"1º ciclo","Colégio do Marítimo","Privado","1º Ciclo (até ao 4º ano)"]
[{"$nulls":731},37,"1º ciclo","Colégio Infante D. Henrique ","Privado","1º Ciclo (até ao 4º ano)"]
[{"$nulls":731},38,"2º ciclo","Colégio Infante D. Henrique ","Público","1º Ciclo (até ao 4º ano)"]
[{"$nulls":731},39,"1º ciclo","EB 123/PE Bartolomeu Perestrelo","Público","1º Ciclo (até ao 4º ano)"]
[{"$nulls":731},40,"1º ciclo","EB1/PE da Achada","Público","1º Ciclo (até ao 4º ano)"]
[{"$nulls":731},41,"1º ciclo","EB1/PE da Ajuda","Público","1º Ciclo (até ao 4º ano)"]
[{"$nulls":731},42,"1º ciclo","EB1/PE da Cruz de Carvalho","Público","1º Ciclo (até ao 4º ano)"]
[{"$nulls":731},43,"1º ciclo","EB1/PE da Ladeira","Público","1º Ciclo (até ao 4º ano)"]
[{"$nulls":731},44,"1º ciclo","EB1/PE da Lombada (São Martinho)","Público","1º Ciclo (até ao 4º ano)"]
[{"$nulls":731},45,"1º ciclo","EB1/PE da Nazaré","Público","1º Ciclo (até ao 4º ano)"]
[{"$nulls":731},46,"1º ciclo","EB1/PE da Pena","Público","1º Ciclo (até ao 4º ano)"]
[{"$nulls":731},47,"1º ciclo","EB1/PE da Visconde Cacongo (acolheu Faial)","Público","1º Ciclo (até ao 4º ano)"]
[{"$nulls":731},48,"1º ciclo","EB1/PE de S. Martinho","Público","1º Ciclo (até ao 4º ano)"]
[{"$nulls":731},49,"1º ciclo","EB1/PE de S.Gonçalo","Público","1º Ciclo (até ao 4º ano)"]
[{"$nulls":731},50,"1º ciclo","EB1/PE de São Filipe (acolheu Aspirante Mota Freitas)","Público","1º Ciclo (até ao 4º ano)"]
[{"$nulls":731},51,"1º ciclo","EB1/PE do Areeiro","Público","1º Ciclo (até ao 4º ano)"]
[{"$nulls":731},52,"1º ciclo","EB1/PE do Boliqueime","Público","1º Ciclo (até ao 4º ano)"]
[{"$nulls":731},53,"1º ciclo","EB1/PE do Galeão","Público","1º Ciclo (até ao 4º ano)"]
[{"$nulls":731},54,"1º ciclo","EB1/PE do Livramento","Público","1º Ciclo (até ao 4º ano)"]
[{"$nulls":731},55,"1º ciclo","EB1/PE do Lombo Segundo","Público","1º Ciclo (até ao 4º ano)"]
[{"$nulls":731},56,"1º ciclo","EB1/PE do Palheiro Ferreiro","Público","1º Ciclo (até ao 4º ano)"]
[{"$nulls":731},57,"1º ciclo","EB1/PE do Tanque, Monte","Público","1º Ciclo (até ao 4º ano)"]
[{"$nulls":731},58,"1º ciclo","EB1/PE do Tanque, Sto António","Público","1º Ciclo (até ao 4º ano)"]
[{"$nulls":731},59,"1º ciclo","EB1/PE dos Ilhéus - Coronel Sarmento","Público","1º Ciclo (até ao 4º ano)"]
[{"$nulls":731},60,"1º ciclo","EB1/PE Prof. Eleutério de Aguiar (acolheu B1ºC dos Louros )","Público","1º Ciclo (até ao 4º ano)"]
[{"$nulls":731},61,"1º ciclo","EB1/PE Ribº Domingos Dias","Público","1º Ciclo (até ao 4º ano)"]
[{"$nulls":731},62,"1º ciclo","Escola D. Olga de Brito","Privado","1º Ciclo (até ao 4º ano)"]
[{"$nulls":731},63,"1º ciclo","Escola Internacional da Madeira ","Privado","1º Ciclo (até ao 4º ano)"]
[{"$nulls":731},64,"1º ciclo","Escola Maria Eugénia Canavial","Privado","1º Ciclo (até ao 4º ano)"]
[{"$nulls":731},65,"1º ciclo","Escola Salesiana de Artes e Ofícios ","Privado","1º Ciclo (até ao 4º ano)"]
[{"$nulls":731},66,"1º ciclo","Estabelecimento Vila Mar ","Público","1º Ciclo (até ao 4º ano)"]
[{"$nulls":731},67,"1º ciclo","Ext. Adventista ","Privado","1º Ciclo (até ao 4º ano)"]
[{"$nulls":731},68,"1º ciclo","Ext. Bom Jesus ","Privado","1º Ciclo (até ao 4º ano)"]
[{"$nulls":731},69,"1º ciclo","Ext. Júlio Dinis ","Privado","1º Ciclo (até ao 4º ano)"]
[{"$nulls":731},70,"1º ciclo","Ext. Princesa D. Maria Amélia ","Privado","1º Ciclo (até ao 4º ano)"]
[{"$nulls":731},71,"1º ciclo","Ext. S. João ","Privado","1º Ciclo (até ao 4º ano)"]
[{"$nulls":731},72,"1º ciclo","Fundação Sta. Luisa de Marillac ","Privado","1º Ciclo (até ao 4º ano)"]
[{"$nulls":731},73,"2º ciclo","Madeira Multilanguage school","Privado","1º Ciclo (até ao 4º ano)"]
[{"$nulls":731},74,"3º ciclo","Semi-Internato Sta. Clara ","Privado","1º Ciclo (até ao 4º ano)"]
[{"$nulls":731},75]
[{"$nulls":731},76,null,"          2º e 3º CICLOS"]
[{"$nulls":731},77,"2º e 3º ciclos","Colégio  Apresentação de Maria","Privado","2º Ciclo (até ao 6º ano)","3º Ciclo (até ao 9º ano)"]
[{"$nulls":731},78,"2º e 3º ciclos","Colégio Infante D. Henrique","Privado","2º Ciclo (até ao 6º ano)","3º Ciclo (até ao 9º ano)"]
[{"$nulls":731},79,"2º e 3º ciclos","Colégio Infante D. Henrique","Público","2º Ciclo (até ao 6º ano)","3º Ciclo (até ao 9º ano)"]
[{"$nulls":731},80,"2º e 3º ciclos","Colégio Santa Teresinha","Privado","2º Ciclo (até ao 6º ano)","3º Ciclo (até ao 9º ano)"]
[{"$nulls":731},81,"2º e 3º ciclos","EB 1 2 3/PE Bartolomeu Perestrelo","Público","2º Ciclo (até ao 6º ano)","3º Ciclo (até ao 9º ano)"]
[{"$nulls":731},82,"2º e 3º ciclos","EB 2 3 de Santo António","Público","2º Ciclo (até ao 6º ano)","3º Ciclo (até ao 9º ano)"]
[{"$nulls":731},83,"2º e 3º ciclos","EB 2 3 Dr. Eduardo Brazão de Castro","Público","2º Ciclo (até ao 6º ano)","3º Ciclo (até ao 9º ano)"]
[{"$nulls":731},84,"2º e 3º ciclos","EB 2 3 Dr. Horácio Bento Gouveia","Público","2º Ciclo (até ao 6º ano)","3º Ciclo (até ao 9º ano)"]
[{"$nulls":731},85,"2º e 3º ciclos","EB 2 3 Louros","Público","2º Ciclo (até ao 6º ano)","3º Ciclo (até ao 9º ano)"]
[{"$nulls":731},86,"3º e 3º ciclos","Estabelecimento Crianças e Jovens Vila Mar","Público","2º Ciclo (até ao 6º ano)","3º Ciclo (até ao 9º ano)"]
[{"$nulls":731},87,"4º e 3º ciclos","Salesiana de Artes e Ofícios","Privado","2º Ciclo (até ao 6º ano)","3º Ciclo (até ao 9º ano)"]
[{"$nulls":731},88]
[{"$nulls":731},89,null,"          SECUNDÁRIO"]
[{"$nulls":731},90,"Secundário","APEL - Associação Promotora do Ensino Livre","Privado","Secundário (até ao 12º ano)"]
[{"$nulls":731},91,"Secundário","Conservatório + Escola Profissional de Artes","Público","Secundário (até ao 12º ano)"]
[{"$nulls":731},92,"Secundário","Direcção Regional de Qualificação Profissional","Público","Secundário (até ao 12º ano)"]
[{"$nulls":731},93,"Profisional","Escola Básica e Secundária Gonçalves Zarco","Público","Secundário (até ao 12º ano)"]
[{"$nulls":731},94,"Profisional","Escola Profissional Cristovão Colombo","Privado","Secundário (até ao 12º ano)"]
[{"$nulls":731},95,"Profisional","Escola Profissional Dr. Francisco Fernandes","Público","Secundário (até ao 12º ano)"]
[{"$nulls":731},96,"Profisional","Escola Profissional Hotelaria e Turismo da Madeira","Privado","Secundário (até ao 12º ano)"]
[{"$nulls":731},97,"Profisional","Escola Secundária Dr. Ângelo A. Silva","Público","Secundário (até ao 12º ano)"]
[{"$nulls":731},98,"Profisional","Escola Secundária Francisco Franco","Público","Secundário (até ao 12º ano)"]
[{"$nulls":731},99,"Profisional","Escola Secundária Jaime Moniz","Público","Secundário (até ao 12º ano)"]
[{"$nulls":731},100,"Profisional","Instituto de Educação Técnica de Seguros","Privado","Secundário (até ao 12º ano)"]
[{"$nulls":731},101,"Profisional","Escola Profissional Atlântico"]
[null,"4.4. Comprovativo de levantamento do apoio nos serviços municipais"]
[]
[null,null,"Nome:",{"$nulls":22},"CC:"]
[]
[null,null,"Assinatura: ",{"$nulls":22},"Data:"]