{"text_format":"2","workbook":"xlsx","n_sheets":31,"sheets":["Identificação","Instruções","FAQ's","Validação","Recursos Humanos","Estrut. Etária","Estrut. Antiguidades","Trab. Estrangeiros","Estrut. Habilitacional","Admissões","Saídas","Saídas Nomeados","Saídas Contratados","Postos de Trabalho","Alter. Posic. e Promoções","Modalidade de Horário","Trabalho Extraord.","Ausências Trabalho","Horas Não Trabalhadas","Encargos com Pessoal","Acidentes em Serviço","Doenças Profissionais","Higiene Segurança Trab.","Custos Prevenção Acidentes","Formação Prof Niveis Custos","Prestações Sociais Acção Social","Relaç Profis Comissões Discipli","Distribuição Geográfica ","Cobertura de Mapas","Folha1","Folha2"],"not_rendered":{"charts":0,"images":0,"macros":0,"external_links":0,"defined_names":29,"comments":0,"pivot_tables":0},"unopened":[],"bounds":{"document_bytes":16777216,"sheet_cells":100000,"run_cost":"one","rows_first":2000,"rows_last":500,"rows_between":2000,"halvings":0,"cell_chars":16384,"cell_head_chars":4096},"cells_cut":0,"cells_raw":0,"read":"whole","date_system":"1900"}

{"sheet":"Identificação","index":0,"n_rows":28,"n_cols":13,"rows_kept":28,"cut":false,"hidden":false,"merged":[[16,2,17,13],[8,2,8,13],[6,2,6,13],[3,2,3,13],[25,5,25,6],[23,7,23,14],[25,8,25,11],[25,1,25,4],[23,1,23,6],[25,12,25,14]]}
[]
[]
[]
[null,null,"BALANÇO SOCIAL 2013"]
[]
[]
[null,null,"SECRETARIA REGIONAL DA EDUCAÇÃO E RECURSOS HUMANOS"]
[]
[null,null,"DIREÇÃO REGIONAL DOS RECURSOS HUMANOS E DA ADMINISTRAÇÃO EDUCATIVA"]
[]
[]
[]
[]
[]
[null,null,"DESIGNAÇÃO DO ORGANISMO:"]
[]
[null,null,"Escola Básica dos 2º e 3º Ciclos da Torre - Câmara de Lobos"]
[]
[]
[]
[null,null,"Versão n.º: ",1,"Data: "]
[]
[]
[null,"Nome da pessoa responsável pelo preenchimento:",{"$nulls":5},"Zulay Rodrigues Freitas"]
[]
[null,"Telefone (direto):",null,null,null,291941340,null,null,"Endereço eletrónico:",null,null,null,"ebtorre@madeira-edu.pt"]
[]
[null,"   Versão 2: 26-02-2014"]

{"sheet":"Instruções","index":1,"n_rows":15,"n_cols":4,"rows_kept":15,"cut":false,"hidden":false,"merged":[[2,2,2,4],[6,3,6,12],[13,3,13,12],[4,3,4,12],[14,3,14,12],[5,3,5,12],[7,3,7,12],[8,3,8,12],[9,3,9,12],[10,3,10,12],[11,3,11,12],[12,3,12,12]]}
[]
[]
[null,null,"Notas de preenchimento"]
[]
[null,null,"!","O presente ficheiro deverá ser preenchido por alguém com conhecimentos do Microsoft Excel."]
[null,null,"!","Preencha os campos constantes do separador 'IDENTIFICAÇÃO, nomeadamente a 'Designação do organismo', o 'Nome da pessoa responsável pelo preenchimento' e o respetivo 'Telefone (directo)' e 'Endereço eletrónico';"]
[null,null,"!","Antes de iniciar o preenchimento de cada quadro, leia atentamente o título e as respectivas anotações;"]
[null,null,"!","Todas as células desbloqueadas ou em branco deverão ser preenchidas;"]
[null,null,"!","As células que contêm à priori o número zero encontram-se bloqueadas, visto serem preenchidas automáticamente pelo programa;"]
[null,null,"!","Sempre que não existirem ocorrências deverá ser introduzido o número zero (0);"]
[null,null,"!","Quando for necessário fazer uso de números decimais, deverá utilizar uma vírgula e não um ponto para separar os números inteiros dos decimais. (Ex: 1,5 e não 1.5);"]
[null,null,"!","Não deverá fazer uso de pontos ou espaços para separar os milhares."]
[null,null,"!","Após concluir o preenchimento dos mapas, clique no separador 'Validação' e verifique para cada quadro se existem mensagens de erro. Leia-as cuidadosamente e, caso seja necessário, rectifique os mapas antes de remetê-lo por email para o endereço indicado."]
[null,null,"!","Em caso de dúvidas no preenchimento poderá entrar em contacto com o respetivo técnico da Divisão de Apoio Técnico da Direção Regional dos Recursos Humanos e da Administração Educativa, de acordo com a distribuição anexa ao ofício circular;"]
[null,null,"!","Deverá ser privilegiado o contacto por correio eletrónico, uma vez que as resposta que serão dadas poderão mais facilmente ser partilhadas com os restantes serviços ou estabelecimentos;"]

{"sheet":"FAQ's","index":2,"n_rows":70,"n_cols":10,"rows_kept":70,"cut":false,"hidden":false,"merged":[[23,3,23,12],[63,5,63,8],[63,9,63,12],[64,3,64,4],[64,5,64,8],[64,9,64,12],[55,9,55,12],[59,3,59,4],[59,5,59,8],[59,9,59,12],[60,3,60,4],[60,5,60,8],[60,9,60,12],[55,3,55,4],[50,5,50,8],[51,5,51,8],[55,5,55,8],[49,3,49,4],[49,5,49,8],[50,3,50,4],[51,3,51,4],[69,3,69,12],[70,3,70,12],[56,3,56,12],[57,3,57,12],[68,3,68,12],[58,3,58,4],[58,5,58,8],[58,9,58,12],[61,3,61,4],[61,5,61,8],[61,9,61,12],[62,3,62,4],[62,5,62,8],[62,9,62,12],[65,3,65,12],[63,3,63,4],[48,3,48,12],[52,5,52,8],[53,5,53,8],[54,5,54,8],[50,9,50,12],[52,3,52,4],[53,3,53,4],[54,3,54,4],[49,9,49,12],[51,9,51,12],[52,9,52,12],[53,9,53,12],[54,9,54,12],[42,3,42,12],[43,3,43,12],[46,3,46,12],[47,3,47,12],[36,3,36,12],[37,3,37,12],[38,3,38,12],[39,3,39,12],[30,3,30,12],[31,3,31,12],[32,3,32,12],[33,3,33,12],[26,3,26,12],[27,3,27,12],[22,3,22,12],[19,3,19,12],[10,3,10,12],[12,3,12,12],[13,3,13,12],[14,3,14,12],[15,3,15,12],[16,3,16,12],[11,3,11,12],[2,2,2,4],[6,3,6,12],[7,3,7,12],[8,3,8,12],[9,3,9,12]]}
[]
[]
[null,null,"Perguntas frequentes"]
[]
[null,null,null,"Quadro 1 - RECURSOS HUMANOS"]
[]
[null,null,"?","Em que coluna devem ser contabilizados os trabalhadores que se encontram a exercer funções ao abrigo de programas do Instituto do Emprego? \nOs trabalhadores ao abrigo de programas do Instituto do Emprego devem ser introduzidos nas colunas de acordo com as funções que desempenhem. Por exemplo, um trabalhador que exerça as funções de assistente técnico (área administrativa), deverá ser colocado na coluna ‘assistente técnico’, na linha 1.1.4 ‘Outros’."]
[null,null,"?","No caso das áreas escolares, onde deverão ser contabilizados os docentes do ‘desporto’ e da ‘expressão artística’ que se encontrem a exercer funções em mais do que um estabelecimento? \nNestes casos, o docente deverá ser contado na escola em que tenha a maior carga horária que, em princípio, será aquela com a qual o docente tem vínculo."]
[null,null,"?","Deverão ser contabilizados no balanço social dos estabelecimentos de educação e ensino, os docentes especializados que transitaram para as escolas?\nSim, os docentes dos serviços técnicos da Direcção Regional de Educação que transitaram para as escolas, bem como aqueles que se encontram em regime de mobilidade, deverão ser contabilizados no balanço social da respetiva escola.\nOs docentes que não têm mobilidade formalizada, mas que prestam serviço em vários estabelecimentos (por exemplo, em estabelecimentos e instituições privadas), serão contabilizados no balanço social da Direção Regional de Educação."]
[null,null,"?","Deverão ser incluídos os docentes que se encontrem a beneficiar de equiparação a bolseiro ou licença sabática? \nSim. Atendendo a que estas ‘licenças’ são consideradas como exercício efectivo de funções, os docentes que se encontrem nesta situação deverão ser contabilizados.\nAo nível dos Quadro 1.15 ‘Modalidades de Horário’, estes docentes poderão ser incluídos na linha 1.15.1 ‘ Horário rígido’."]
[null,null,"?","Como devem ser contabilizados os docentes que, tendo celebrado um contrato com uma determinada escola, foram colocados em mobilidade noutro estabelecimento na mesma data? \nNestas situações, os docentes devem ser contabilizados no Quadro 1.9. ‘Admissões’ e, em simultâneo, no Quadro 1.10. ‘Saídas’. Relativamente ao motivo, os docentes devem ser contabilizados, no Quadro 1.12., na linha 1.12.5. ‘Outros’, com a indicação no respectivo campo das anotações (“Mobilidade para a escola…”)."]
[null,null,"?","No caso de um docente que se encontre destacado noutro serviço ou estabelecimento, em que balanço social deverão ser registados os encargos com as remunerações?\nOs encargos com os docentes destacados noutros serviços ou estabelecimentos deverão ser contabilizados no estabelecimento de origem, uma vez que é este orçamento que está a assumir a despesa."]
[null,null,"?","Em que linha do Quadro 1. devem ser considerados os docentes?\nOs docentes com lugar de quadro (QE e QZP) devem ser considerados na linha 1.1.1 ‘Contrato de trabalho por tempo indeterminado’ atendendo a que já foi formalizada a transição para o regime de contrato de trabalho em funções públicas. \nEm relação aos docentes com contrato a termo resolutivo devem ser considerados na linha 1.1.3 ‘Contrato a termo resolutivo, certo ou incerto’. "]
[null,null,"?","Em que linha devem ser considerados os trabalhadores que transitaram para o regime de contrato de trabalho em funções públicas?\nOs trabalhadores com contrato de trabalho em funções públicas devem ser contados na linha 1.1.2 ‘Contrato por tempo indeterminado’.\nEm relação aos trabalhadores que mantiveram o regime de nomeação, como os inspectores, deverão ser contabilizados na linha 1.1.1 ‘Nomeação’."]
[null,null,"?","Em que linha devem ser contabilizados os trabalhadores pertencentes a outros serviços e que se encontrem em exercício de funções no nosso serviço ao abrigo de um instrumento de mobilidade (ex: destacamento, requisição, mobilidade interna, etc.)?\nOs trabalhadores em mobilidade no serviço deverão ser introduzidos na linha 1.1.1 ‘ Nomeação’ ou 1.1.2 ‘Contrato por tempo indeterminado’, de acordo com o respetivo vínculo de origem que detenham."]
[null,null,"?","E em que coluna devem ser contados os trabalhadores pertencentes a outros serviços e que se encontrem no nosso serviço em mobilidade interna intercarreiras?\nOs trabalhadores em mobilidade interna intercarreiras no serviço deverão ser introduzidos na coluna de acordo com as funções que estão a desempenhar. Por exemplo, um assistente operacional em mobilidade interna intercarreiras como assistente técnico deverá ser contado na coluna ‘Assistente Técnico’."]
[null,null,"?","De que forma devem ser considerados os docentes que possuam uma acumulação ou um contrato para exercer funções em mais do que uma escola? \nOs docentes com acumulações ou que exerçam funções em duas escolas devem ser contabilizados na escola em que tenham a maior carga horária que, em princípio, será aquela à qual o docente está vinculado."]
[null,null,null,"Quadro 1.4 - ESTRUTURA ANTIGUIDADES"]
[]
[null,null,"?","Como deverá ser contabilizada a antiguidade dos trabalhadores subsidiados ou prestadores de serviços?\nApesar destes trabalhadores não possuírem ‘antiguidade’ na Função Pública, deverão ser contabilizados os anos de exercício de funções no serviço. Quando o trabalhador não possua um ano completo, deverá ser registado na linha 1.4.1 ‘Até 5 anos’."]
[null,null,null,"Quadro 1.10 - SAÍDAS"]
[]
[null,null,"?","Em que linha devem ser contados os trabalhadores não docentes que saíram por exoneração durante o ano 2013?\nEstes trabalhadores são contados na linha ‘1.10.2’ Com contrato."]
[null,null,"?","Qual a data a considerar no caso das aposentações? A data da publicação no diário da república ou a data em que o trabalhador se desliga do serviço?\nDeverão considerar a data em que o trabalhador se desliga do serviço (por exemplo a data em que completa os 70 anos). Assim, se o trabalhador se desligou do serviço em dezembro, mas a publicação só ocorreu em janeiro, deve ser contabilizado como uma saída no balanço social do ano em que se desligou do serviço."]
[null,null,null,"Quadro 1.15 - MODALIDADES DE HORÁRIO"]
[]
[null,null,"?","Como deverá ser contabilizado o horário dos membros dos órgãos de gestão (Directores, Presidentes, Vice-Presidentes ou Adjuntos), que exerçam também funções docentes?\nNestas circunstâncias, estes docentes deverão ser contabilizados como tendo 1.15.1 ‘Horário rígido’, na coluna do pessoal ‘Dirigente’."]
[null,null,"?","De que forma devem ser contados os anteriores ‘horários de trabalho desfasados’?\nAtendendo a que este tipo de horário não se encontra previsto na Lei n.º 59/2008 ou no Acordo Colectivo de Trabalho n º 1/2009, este horário deve ser considerado na linha 1.15.1 ‘Horário rígido’."]
[null,null,null,"Quadro 1.17 - AUSÊNCIAS AO TRABALHO"]
[]
[null,null,"?","De que forma deverão ser contabilizados os dias de ausência por motivo de gravidez de risco?\nOs dias de ausência decorrentes de gravidez de risco deverão ser registados na linha 1.17.2 ‘Maternidade / Paternidade’."]
[null,null,"?","Onde devem ser incluídos os dias de ausência para tratamento ambulatório, realização de consultas médicas e exames complementares de diagnóstico?\nEstes dias devem ser registados na linha 1.17.5 ‘Doença’ quando se trate de tratamentos do próprio trabalhador, ou na linha 1.17.7 ‘Assistência a familiares’ quando se trate tratamentos do cônjuge, ascendentes, descendentes e equiparados."]
[null,null,"?","Em que linha do quadro 1.17 ‘Ausências ao trabalho’ devem ser contados os dias de licença parental inicial exclusiva do pai (5+5 dias obrigatórios e 10 dias facultativos)?\nEstes dias deverão ser introduzidos na linha 1.17.2 ‘Maternidade / parentalidade’.\nDe igual forma, caso o pai goze dias de licença parental inicial partilhada, estas ausências deverão ser registadas na linha 1.17.2 ‘Maternidade / parentalidade’, deixando-se de utilizar a linha 1.17.3 para qualquer efeito."]
[null,null,"?","Em que linha do quadro 1.17 ‘Ausências ao trabalho’ devem ser contabilizadas as faltas para assistência a filhos menores?\nEstes dias deverão ser introduzidos na linha 1.17.7 ‘Assistência a familiares’."]
[null,null,null,"Quadro 2. - ENCARGOS COM PESSOAL"]
[]
[null,null,"?","Os encargos com os subsídios de parentalidade devem ser incluídos no mapa 2. ‘Encargos com pessoal’ ou mapa 5. ‘Prestações Sociais’?\nEstes encargos podem ser colocados no mapa 5. ‘Prestações Sociais’ na linha 5.8 ‘Outros’."]
[null,null,"?","Onde devem ser enquadrados as contribuições da entidade empregadora para a Caixa Geral de Aposentações ou Segurança Social?\nEstes encargos devem ser introduzidos no mapa 2. ‘Encargos com pessoal’, na linha 2.16 ‘Outros’ com a respectiva descriminação no campo das observações.\n"]
[null,null,"?","Onde contabilizar as remunerações auferidas pelos trabalhadores na doença? \nNeste caso importa distinguir entre os trabalhadores abrangidos pelo regime convergente e aqueles abrangidos pelo regime geral da segurança social. Em, relação aos trabalhadores do regime convergente, que continuam a auferir a remuneração, os montantes devem ser incluídos no mapa 2. ‘Encargos com pessoal’, na linha 2.1 ‘Remuneração base’. Em relação aos trabalhadores do regime geral da segurança social, os valores não deverão ser incluídos no balanço social por não constituírem encargos do serviço / estabelecimento."]
[null,null,"?","Em que quadro contar os subsídios por assistência a filho menor? \nEstes montantes devem ser contabilizados no mapa 5. ‘Prestações Sociais’ na linha 5.8 ‘Outros’. Em relação aos trabalhadores do regime geral da segurança social, os valores não deverão ser incluídos no balanço social por não constituírem encargos do serviço / estabelecimento."]
[null,null,null,"Quadro 5. - PRESTAÇÕES SOCIAIS"]
[]
[null,null,"?","Em que ponto deverão ser incluídos os montantes referentes à protecção na Parentalidade?\nOs valores referentes à protecção na parentalidade dos trabalhadores no regime de protecção social convergente, deverão ser incluídos no quadro 5. ‘Prestações Sociais’, na linha 5.8 ‘Outras’, com a respectiva descriminação no campo destinado às anotações. \nOs valores relativos aos trabalhadores do regime geral de segurança social não deverão ser incluídos no balanço social por não constituírem encargos do serviço / estabelecimento."]
[]
[null,null,null,"Quadro 8. - COBERTURA DOS MAPAS DE PESSOAL"]
[]
[null,null,"?","No quadro 8. ‘Cobertura dos mapas de pessoal’, devem ser incluídos os trabalhadores ao abrigo de programas do Instituto do Emprego e prestadores de serviços?\nEstes trabalhadores não deverão ser incluídos neste quadro, atendendo a que não se encontram previstos nos mapas de pessoal."]
[null,null,"?","O que se entende por “lugares previstos” e “lugares preenchidos”?\n"]
[null,null,null,"LUGARES PREVISTOS"]
[{"$nulls":5},"NÃO DOCENTES",null,null,null,"DOCENTES"]
[{"$nulls":5},"Nos estabelecimentos de infância, escolas básicas e secundárias e serviços considerar os lugares previstos no mapa de pessoal aprovado pelo Secretário Regional;\n\nNas escolas do 1.º ciclo com ou sem unidades de educação pré-escolar contar apenas n.º total de trabalhadores afetos ao estabelecimento (descontar as mobilidades para dentro).",null,null,null,"Contabilizar os lugares de quadro de escola aprovados."]
[null,null,null,"Licenças sem remuneração",null,"Sim",null,null,null,"Sim"]
[null,null,null,"Mobilidades para fora",null,"Sim",null,null,null,"Sim"]
[null,null,null,"Área escolar / QZP",null,"Sim\n(contabilizar o n.º de trabalhadores afetos)",null,null,null,"Sim\n(contabilizar o n.º de trabalhadores afetos)"]
[null,null,null,"Mobilidades para dentro",null,"Não",null,null,null,"Não"]
[null,null,null,"Contratados",null,"-",null,null,null,"Não"]
[]
[null,null,null,"LUGARES PREENCHIDOS"]
[{"$nulls":5},"NÃO DOCENTES",null,null,null,"DOCENTES"]
[{"$nulls":5},"Contabilizar os trabalhadores em exercício, independentemente do tipo de vínculo (com exceção dos trabalhadores subsidiados ou prestadores de serviços).",null,null,null,"Contabilizar os docentes em exercício, independentemente do tipo de vínculo (QE, QZP, Contratados, Mobilidades)."]
[null,null,null,"Licenças sem remuneração",null,"Não",null,null,null,"Não"]
[null,null,null,"Mobilidades para fora",null,"Não",null,null,null,"Não"]
[null,null,null,"Área escolar / QZP",null,"Sim \n(contabilizar o n.º de trabalhadores \nafetos e em exercício)\n",null,null,null,"Sim \n(contabilizar o n.º de trabalhadores \nafetos e em exercício)\n"]
[null,null,null,"Mobilidades para dentro",null,"Sim",null,null,null,"Sim"]
[null,null,null,"Contratados",null,"-",null,null,null,"Sim"]
[]
[null,null,null,"OUTRAS QUESTÕES"]
[]
[null,null,"?","Todos os serviços e estabelecimentos de educação e ensino da Secretaria Regional da Educação e Recursos Humanos devem preencher os mapas do balanço social?\nSim. Apesar da legislação apenas obrigar o preenchimento aos serviços e organismos com 50 ou mais trabalhadores, todos os serviços e estabelecimento de educação e ensino da rede pública deverão proceder ao preenchimento dos mapas do balanço social. Note-se que esta será a única forma de obter uma visão global dos recursos humanos da SRE, dada a existência de mapas de pessoal não docente por área escolar e quadros de zona pedagógica de pessoal docente."]
[null,null,"?","Para onde devem ser enviados os ficheiros preenchidos?\nOs ficheiros, devidamente preenchidos, deverão ser enviados para o endereço de correio eletrónico dat.drae@madeira-edu.pt, até ao próximo dia 14 de março de 2014."]

{"sheet":"Validação","index":3,"n_rows":112,"n_cols":13,"rows_kept":112,"cut":false,"hidden":false,"merged":[[90,4,90,11],[93,4,93,11],[72,4,72,11],[75,4,75,11],[78,4,78,11],[81,4,81,11],[108,4,108,11],[111,4,111,11],[96,4,96,11],[99,4,99,11],[102,4,102,11],[105,4,105,11],[63,4,63,11],[66,4,66,11],[69,4,69,11],[48,4,48,11],[51,4,51,11],[54,4,54,11],[57,4,57,11],[84,4,84,11],[87,4,87,11],[36,4,36,11],[39,4,39,11],[42,4,42,11],[45,4,45,11],[24,4,24,11],[27,4,27,11],[30,4,30,11],[33,4,33,11],[60,4,60,11],[110,12,111,12],[95,12,96,12],[98,12,99,12],[101,12,102,12],[104,12,105,12],[86,12,87,12],[89,12,90,12],[92,12,93,12],[107,12,108,12],[59,12,60,12],[38,12,39,12],[41,12,42,12],[44,12,45,12],[47,12,48,12],[74,12,75,12],[77,12,78,12],[80,12,81,12],[83,12,84,12],[62,12,63,12],[65,12,66,12],[68,12,69,12],[71,12,72,12],[32,12,33,12],[35,12,36,12],[17,12,18,12],[14,12,15,12],[20,12,21,12],[23,12,24,12],[50,12,51,12],[53,12,54,12],[56,12,57,12],[14,1,15,2],[17,1,18,2],[20,1,21,2],[23,1,24,2],[26,1,27,2],[29,1,30,2],[5,12,6,12],[8,12,9,12],[11,12,12,12],[5,1,6,2],[8,1,9,2],[11,1,12,2],[26,12,27,12],[29,12,30,12],[15,4,15,11],[18,4,18,11],[21,4,21,11],[6,4,6,11],[9,4,9,11],[12,4,12,11],[50,1,51,2],[53,1,54,2],[56,1,57,2],[59,1,60,2],[62,1,63,2],[65,1,66,2],[32,1,33,2],[35,1,36,2],[38,1,39,2],[41,1,42,2],[44,1,45,2],[47,1,48,2],[104,1,105,2],[107,1,108,2],[110,1,111,2],[92,1,93,2],[95,1,96,2],[98,1,99,2],[101,1,102,2],[68,1,69,2],[83,1,84,2],[86,1,87,2],[89,1,90,2],[71,1,72,2],[74,1,75,2],[77,1,78,2],[80,1,81,2]]}
[{"$nulls":12},{"$f":"IF(Identificação!C17=\"\",\"\",Identificação!C17)","v":"Escola Básica dos 2º e 3º Ciclos da Torre - Câmara de Lobos"}]
[]
[null,"MAPAS",null,null,"MENSAGENS"]
[{"$nulls":4},{"$f":"IF(OR(Identificação!C17=\"\",Identificação!H24=\"\",Identificação!F26=\"\",Identificação!M26=\"\"),\"Por favor preencha todos os campos do separador 'Identificação'\",\"\")","v":""}]
[]
[null,"Quadro 1.\nRecursos humanos",null,null,{"$f":"IF(E7=\"...\",\"Preenchido\",IF(E7=\"Por favor preencha todas as células em aberto. Se não existirem ocorrências a registar deverá introduzir o número zero.\",\"Por preencher\",\"Preenchido com erros!\"))","v":"Preenchido"},null,{"$f":"IF(J6=\"O valor total de efectivos deverá corresponder ao total de efectivos do ano civil imediatamente anterior (ponto 1.1.5.1) acrescido da diferença entre as entradas (ponto 1.9) e saídas (ponto 1.10) do ano a que se refere o presente balanço social.\",\"A diferença actual é de \" & 'Recursos Humanos'!E21 & \" trabalhador(es).\",\"\")","v":""},null,null,{"$f":"IF('Recursos Humanos'!P7<>0,\"Por favor preencha todas as células em aberto. Se não existirem ocorrências a registar deverá introduzir o número zero.\",IF('Recursos Humanos'!O30=\"ERRO\",\"Ao fazer referência a 'OUTROS' no ponto 1.1.4., deverá obrigatoriamente discriminá-las no campo destinado às anotações.\",IF('Recursos Humanos'!O27=\"ERRO\",\"Ao incluir trabalhadores na coluna 'OUTROS', deverá obrigatoriamente discriminá-las no campo destinado às anotações.\",IF(OR('Recursos Humanos'!D20=\"ERRO\",'Recursos Humanos'!D21=\"ERRO\"),\"O total de trabalhadores da coluna 'DIRIGENTE' não pode ser diferente do total do ano anterior, acrescido da diferença entre as entradas e as saídas.\",IF(OR('Recursos Humanos'!E20=\"ERRO\",'Recursos Humanos'!E21=\"ERRO\"),\"O total de trabalhadores da coluna 'TÉCNICO SUPERIOR' não pode ser diferente do total do ano anterior, acrescido da diferença entre as entradas e as saídas.\",IF(OR('Recursos Humanos'!F20=\"ERRO\",'Recursos Humanos'!F21=\"ERRO\"),\"O total de trabalhadores da coluna 'ASSISTENTE TÉCNICO' não pode ser diferente do total do ano anterior, acrescido da diferença entre as entradas e as saídas.\",K6))))))","v":"..."},{"$f":"IF(OR('Recursos Humanos'!G20=\"ERRO\",'Recursos Humanos'!G21=\"ERRO\"),\"O total de trabalhadores da coluna 'ASSISTENTE OPERACIONAL' não pode ser diferente do total do ano anterior, acrescido da diferença entre as entradas e as saídas.\",IF(OR('Recursos Humanos'!H20=\"ERRO\",'Recursos Humanos'!H21=\"ERRO\"),\"O total de trabalhadores da coluna 'CARREIRAS E CATEGORIAS SUBSISTENTES' não pode ser diferente do total do ano anterior, acrescido da diferença entre as entradas e as saídas.\",IF(OR('Recursos Humanos'!I20=\"ERRO\",'Recursos Humanos'!I21=\"ERRO\"),\"O total de trabalhadores da coluna 'CARREIRAS E CORPOS ESPECIAIS' não pode ser diferente do total do ano anterior, acrescido da diferença entre as entradas e as saídas.\",IF(OR('Recursos Humanos'!L20=\"ERRO\",'Recursos Humanos'!L21=\"ERRO\"),\"O total de trabalhadores da coluna 'CARREIRA DOCENTE' não pode ser diferente do total do ano anterior, acrescido da diferença entre as entradas e as saídas.\",IF(OR('Recursos Humanos'!M20=\"ERRO\",'Recursos Humanos'!M21=\"ERRO\"),\"O total de trabalhadores da coluna 'OUTROS' não pode ser diferente do total do ano anterior, acrescido da diferença entre as entradas e as saídas.\",\"...\")))))","v":"..."},null,"ver"]
[{"$nulls":4},{"$f":"J6","v":"..."}]
[]
[null,"Quadro 1.2\nEstrutura etária",null,null,{"$f":"IF(E10=\"...\",\"Preenchido\",IF(E10=\"Por favor preencha todas as células em aberto. Se não existirem ocorrências a registar deverá introduzir o número zero.\",\"Por preencher\",IF(AND(OR(E10=\"Por favor confirme a existência de trabalhadores com menos de 18 anos.\",E10=\"Por favor confirme a existência de trabalhadores com mais de 70 anos.\"),'Estrut. Etária'!I4=\"OK\"),\"Preenchido com reservas\",\"Preenchido com erros!\")))","v":"Preenchido"},null,{"$f":"IF('Estrut. Etária'!H4<>0,\"Por favor preencha todas as células em aberto. Se não existirem ocorrências a registar deverá introduzir o número zero.\",IF('Estrut. Etária'!I4=\"ERROH\",\"O total de 'HOMENS' deste quadro deverá coincidir com o total apresentado no ponto 1.1.1 do quadro 1.\",IF('Estrut. Etária'!I4=\"ERROM\",\"O total de 'MULHERES' deste quadro deverá coincidir com o total apresentado no ponto 1.1.1 do quadro 1.\",IF('Estrut. Etária'!K4=\"ERRO18\",\"Por favor confirme a existência de trabalhadores com menos de 18 anos.\",IF('Estrut. Etária'!K15=\"ERRO70\",\"Por favor confirme a existência de trabalhadores com mais de 70 anos.\",\"...\")))))","v":"..."},{"$nulls":5},"ver"]
[{"$nulls":4},{"$f":"G9","v":"..."}]
[]
[null,"Quadro 1.4\nEstrutura de antiguidades",null,null,{"$f":"IF(E13=\"...\",\"Preenchido\",IF(E13=\"Por favor preencha todas as células em aberto. Se não existirem ocorrências a registar deverá introduzir o número zero.\",\"Por preencher\",IF(E13=\"Por favor confirme a existência de trabalhadores com mais de 36 anos de serviço.\",\"Preenchido com reservas\",\"Preenchido com erros!\")))","v":"Preenchido com reservas"},null,{"$f":"IF('Estrut. Antiguidades'!R4<>0,\"Por favor preencha todas as células em aberto. Se não existirem ocorrências a registar deverá introduzir o número zero.\",IF('Estrut. Antiguidades'!S4=\"ERROH\",\"O total de 'HOMENS' deste quadro deverá coincidir com o total apresentado no ponto 1.1.1 do quadro 1.\",IF('Estrut. Antiguidades'!S4=\"ERROM\",\"O total de 'MULHERES' deste quadro deverá coincidir com o total apresentado no ponto 1.1.1 do quadro 1.\",H12)))","v":"Por favor confirme a existência de trabalhadores com mais de 36 anos de serviço."},{"$f":"IF('Estrut. Antiguidades'!F15=\"ERRO\",\"O total de pessoal 'DIRIGENTE' deste quadro deverá coincidir com o total apresentado no quadro 1.\",IF('Estrut. Antiguidades'!G15=\"ERRO\",\"O total de trabalhadores da carreira de 'TÉCNICO SUPERIOR' deste quadro deverá coincidir com o total apresentado no quadro 1.\",IF('Estrut. Antiguidades'!H15=\"ERRO\",\"O total de trabalhadores da carreira de 'ASSISTENTE TÉCNICO' deste quadro deverá coincidir com o total apresentado no quadro 1.\",IF('Estrut. Antiguidades'!I15=\"ERRO\",\"O total de trabalhadores da carreira de 'ASSISTENTE OPERACIONAL' deste quadro deverá coincidir com o total apresentado no quadro 1.\",IF('Estrut. Antiguidades'!J15=\"ERRO\",\"O total de trabalhadores das 'CARREIRAS E CATEGORIAS SUBSISTENTES' deste quadro deverá coincidir com o total apresentado no quadro 1.\",I12)))))","v":"Por favor confirme a existência de trabalhadores com mais de 36 anos de serviço."},{"$f":"IF('Estrut. Antiguidades'!K15=\"ERRO\",\"O total de pessoal 'CARREIRAS E CORPOS ESPECIAIS' deste quadro deverá coincidir com o total apresentado no quadro 1.\",IF('Estrut. Antiguidades'!N15=\"ERRO\",\"O total de trabalhadores da carreira 'DOCENTE' deste quadro deverá coincidir com o total apresentado no quadro 1.\",IF('Estrut. Antiguidades'!O15=\"ERRO\",\"O total de 'OUTROS' deste quadro deverá coincidir com o total apresentado no quadro 1.\",IF('Estrut. Antiguidades'!S11=\"ERRO36\",\"Por favor confirme a existência de trabalhadores com mais de 36 anos de serviço.\",\"...\"))))","v":"Por favor confirme a existência de trabalhadores com mais de 36 anos de serviço."},null,null,null,"ver"]
[{"$nulls":4},{"$f":"G12","v":"Por favor confirme a existência de trabalhadores com mais de 36 anos de serviço."}]
[]
[null,"Quadro 1.6\nTrabalhadores estrangeiros",null,null,{"$f":"IF(E16=\"...\",\"Preenchido\",IF(E16=\"Por favor preencha todas as células em aberto. Se não existirem ocorrências a registar deverá introduzir o número zero.\",\"Por preencher\",\"Preenchido com reservas\"))","v":"Preenchido"},null,{"$f":"IF('Trab. Estrangeiros'!G4<>0,\"Por favor preencha todas as células em aberto. Se não existirem ocorrências a registar deverá introduzir o número zero.\",IF('Trab. Estrangeiros'!H4=\"ERRO\",\"Por favor confirme a existência de trabalhadores com nacionalidade dos PALOP, Brasil ou Outros países.\",\"...\"))","v":"..."},{"$nulls":5},"ver"]
[{"$nulls":4},{"$f":"G15","v":"..."}]
[]
[null,"Quadro 1.7\nTrabalhadores deficientes","ver",null,{"$f":"IF(E19=\"...\",\"Preenchido\",IF(E19=\"Por favor preencha todas as células em aberto. Se não existirem ocorrências a registar deverá introduzir o número zero.\",\"Por preencher\",\"Preenchido com erros!\"))","v":"Preenchido"},null,{"$f":"IF('Trab. Estrangeiros'!G8<>0,\"Por favor preencha todas as células em aberto. Se não existirem ocorrências a registar deverá introduzir o número zero.\",\"...\")","v":"..."},{"$nulls":5},"ver"]
[{"$nulls":4},{"$f":"G18","v":"..."}]
[]
[null,"Quadro 1.8\nEstrutura habilitacional",null,null,{"$f":"IF(E22=\"...\",\"Preenchido\",IF(E22=\"Por favor preencha todas as células em aberto. Se não existirem ocorrências a registar deverá introduzir o número zero.\",\"Por preencher\",IF(AND(E22=\"Por favor confirme a existência de trabalhadores com menos de 4 anos de escolaridade.\",'Estrut. Habilitacional'!I4=\"OK\"),\"Preenchido com reservas\",\"Preenchido com erros!\")))","v":"Preenchido"},null,{"$f":"IF('Estrut. Habilitacional'!H4<>0,\"Por favor preencha todas as células em aberto. Se não existirem ocorrências a registar deverá introduzir o número zero.\",IF('Estrut. Habilitacional'!I4=\"ERROH\",\"O total de 'HOMENS' deste quadro deverá coincidir com o total apresentado no ponto 1.1.1 do quadro 1.\",IF('Estrut. Habilitacional'!I4=\"ERROM\",\"O total de 'MULHERES' deste quadro deverá coincidir com o total apresentado no ponto 1.1.1 do quadro 1.\",IF('Estrut. Habilitacional'!J4=\"ERRO4\",\"Por favor confirme a existência de trabalhadores com menos de 4 anos de escolaridade.\",\"...\"))))","v":"..."},{"$nulls":5},"ver"]
[{"$nulls":4},{"$f":"G21","v":"..."}]
[]
[null,"Quadro 1.9\nAdmissões",null,null,{"$f":"IF(E25=\"...\",\"Preenchido\",IF(E25=\"Por favor preencha todas as células em aberto. Se não existirem ocorrências a registar deverá introduzir o número zero.\",\"Por preencher\",\"Preenchido com erros!\"))","v":"Preenchido"},null,{"$f":"IF(Admissões!P4<>0,\"Por favor preencha todas as células em aberto. Se não existirem ocorrências a registar deverá introduzir o número zero.\",IF(Admissões!O19=\"ERRO\",\"Ao fazer referência a 'OUTROS' no ponto 1.9.4., deverá obrigatoriamente discriminá-las no campo destinado às anotações.\",H24))","v":"..."},{"$f":"IF(Admissões!D17=\"ERROH\",\"O total de 'HOMENS' da carreira 'DIRIGENTE' deste quadro deverá coincidir com o total apresentado no quadro 1.\",IF(Admissões!D17=\"ERROM\",\"O total de 'MULHERES' da carreira 'DIRIGENTE' deste quadro deverá coincidir com o total apresentado no quadro 1.\",IF(Admissões!E17=\"ERROH\",\"O total de 'HOMENS' da carreira 'TÉCNICO SUPERIOR' deste quadro deverá coincidir com o total apresentado no quadro 1.\",IF(Admissões!E17=\"ERROM\",\"O total de 'MULHERES' da carreira 'TÉCNICO SUPERIOR' deste quadro deverá coincidir com o total apresentado no quadro 1.\",IF(Admissões!F17=\"ERROH\",\"O total de 'HOMENS' da carreira 'ASSISTENTE TÉCNICO' deste quadro deverá coincidir com o total apresentado no quadro 1.\",IF(Admissões!F17=\"ERROM\",\"O total de 'MULHERES' da carreira 'ASSISTENTE TÉCNICO' deste quadro deverá coincidir com o total apresentado no quadro 1.\",I24))))))","v":"..."},{"$f":"IF(Admissões!G17=\"ERROH\",\"O total de 'HOMENS' da carreira 'ASSISTENTE OPERACIONAL' deste quadro deverá coincidir com o total apresentado no quadro 1.\",IF(Admissões!G17=\"ERROM\",\"O total de 'MULHERES' da carreira 'ASSISTENTE OPERACIONAL' deste quadro deverá coincidir com o total apresentado no quadro 1.\",IF(Admissões!H17=\"ERROH\",\"O total de 'HOMENS' das 'CARREIRAS E CATEGORIAS SUBSISTENTES' deste quadro deverá coincidir com o total apresentado no quadro 1.\",IF(Admissões!H17=\"ERROM\",\"O total de 'MULHERES' das 'CARREIRAS E CATEGORIAS SUBSISTENTES' deste quadro deverá coincidir com o total apresentado no quadro 1.\",IF(Admissões!I17=\"ERROH\",\"O total de 'HOMENS' das 'CARREIRAS E CORPOS ESPECIAIS' deste quadro deverá coincidir com o total apresentado no quadro 1.\",IF(Admissões!I17=\"ERROM\",\"O total de 'MULHERES' das 'CARREIRAS E CORPOS ESPECIAIS' deste quadro deverá coincidir com o total apresentado no quadro 1.\",J24))))))","v":"..."},{"$f":"IF(Admissões!L17=\"ERROH\",\"O total de 'HOMENS' da 'CARREIRA DOCENTE' deste quadro deverá coincidir com o total apresentado no quadro 1.\",IF(Admissões!L17=\"ERROM\",\"O total de 'MULHERES' da 'CARREIRA DOCENTE' deste quadro deverá coincidir com o total apresentado no quadro 1.\",IF(Admissões!M17=\"ERROH\",\"O total de 'HOMENS' de 'OUTROS' deste quadro deverá coincidir com o total apresentado no quadro 1.\",IF(Admissões!M17=\"ERROM\",\"O total de 'MULHERES' de 'OUTROS' deste quadro deverá coincidir com o total apresentado no quadro 1.\",\"...\"))))","v":"..."},null,null,"ver"]
[{"$nulls":4},{"$f":"G24","v":"..."}]
[]
[null,"Quadro 1.10\nSaídas",null,null,{"$f":"IF(E28=\"...\",\"Preenchido\",IF(E28=\"Por favor preencha todas as células em aberto. Se não existirem ocorrências a registar deverá introduzir o número zero.\",\"Por preencher\",\"Preenchido com erros!\"))","v":"Preenchido"},null,{"$f":"IF(Saídas!P4<>0,\"Por favor preencha todas as células em aberto. Se não existirem ocorrências a registar deverá introduzir o número zero.\",IF(Saídas!O16=\"ERRO\",\"Ao fazer referência a 'OUTROS' no ponto 1.10.3., deverá obrigatoriamente discriminá-las no campo destinado às anotações.\",\"...\"))","v":"..."},{"$nulls":5},"ver"]
[{"$nulls":4},{"$f":"G27","v":"..."}]
[]
[null,"Quadro 1.11\nSaídas nomeados",null,null,{"$f":"IF(E31=\"...\",\"Preenchido\",IF(E31=\"Por favor preencha todas as células em aberto. Se não existirem ocorrências a registar deverá introduzir o número zero.\",\"Por preencher\",\"Preenchido com erros!\"))","v":"Preenchido"},null,{"$f":"IF('Saídas Nomeados'!O4<>0,\"Por favor preencha todas as células em aberto. Se não existirem ocorrências a registar deverá introduzir o número zero.\",IF('Saídas Nomeados'!C13=\"ERRO\",\"O total da carreira 'DIRIGENTE' deste quadro deverá ser coincidente com o total do ponto 1.10.1 do quadro 1.10 (Saídas)\",IF('Saídas Nomeados'!D13=\"ERRO\",\"O total da carreira 'TÉCNICO SUPERIOR' deste quadro deverá ser coincidente com o total do ponto 1.10.1 do quadro 1.10 (Saídas)\",IF('Saídas Nomeados'!E13=\"ERRO\",\"O total da carreira 'ASSISTENTE TÉCNICO' deste quadro deverá ser coincidente com o total do ponto 1.10.1 do quadro 1.10 (Saídas)\",IF('Saídas Nomeados'!F13=\"ERRO\",\"O total da carreira 'ASSISTENTE OPERACIONAL' deste quadro deverá ser coincidente com o total do ponto 1.10.1 do quadro 1.10 (Saídas)\",H30)))))","v":"..."},{"$f":"IF('Saídas Nomeados'!G13=\"ERRO\",\"O total das 'CARREIRAS E CATEGORIAS SUBSISTENTES ' deste quadro deverá ser coincidente com o total do ponto 1.10.1 do quadro 1.10 (Saídas)\",IF('Saídas Nomeados'!H13=\"ERRO\",\"O total das 'CARREIRAS E CORPOS ESPECIAIS' deste quadro deverá ser coincidente com o total do ponto 1.10.1 do quadro 1.10 (Saídas)\",IF('Saídas Nomeados'!K13=\"ERRO\",\"O total da 'CARREIRA DOCENTE' deste quadro deverá ser coincidente com o total do ponto 1.10.1 do quadro 1.10 (Saídas)\",IF('Saídas Nomeados'!L13=\"ERRO\",\"O total de 'OUTROS' deste quadro deverá ser coincidente com o total do ponto 1.10.1 do quadro 1.10 (Saídas)\",IF('Saídas Nomeados'!N15=\"ERRO\",\"Ao fazer referência a 'OUTROS' no ponto 1.11.8., deverá obrigatoriamente discriminá-las no campo destinado às anotações.\",\"...\")))))","v":"..."},{"$nulls":4},"ver"]
[{"$nulls":4},{"$f":"G30","v":"..."}]
[]
[null,"Quadro 1.12\nSaídas contratos",null,null,{"$f":"IF(E34=\"...\",\"Preenchido\",IF(E34=\"Por favor preencha todas as células em aberto. Se não existirem ocorrências a registar deverá introduzir o número zero.\",\"Por preencher\",\"Preenchido com erros!\"))","v":"Preenchido"},null,{"$f":"IF('Saídas Contratados'!O4<>0,\"Por favor preencha todas as células em aberto. Se não existirem ocorrências a registar deverá introduzir o número zero.\",IF('Saídas Contratados'!C13=\"ERRO\",\"O total da carreira 'DIRIGENTE' deste quadro deverá ser coincidente com o total do ponto 1.10.2 do quadro 1.10 (Saídas)\",IF('Saídas Contratados'!D13=\"ERRO\",\"O total da carreira 'TÉCNICO SUPERIOR' deste quadro deverá ser coincidente com o total do ponto 1.10.2 do quadro 1.10 (Saídas)\",IF('Saídas Contratados'!E13=\"ERRO\",\"O total da carreira 'ASSISTENTE TÉCNICO' deste quadro deverá ser coincidente com o total do ponto 1.10.2 do quadro 1.10 (Saídas)\",IF('Saídas Contratados'!F13=\"ERRO\",\"O total da carreira 'ASSISTENTE OPERACIONAL' deste quadro deverá ser coincidente com o total do ponto 1.10.2 do quadro 1.10 (Saídas)\",H33)))))","v":"..."},{"$f":"IF('Saídas Contratados'!G13=\"ERRO\",\"O total das 'CARREIRAS E CATEGORIAS SUBSISTENTES ' deste quadro deverá ser coincidente com o total do ponto 1.10.2 do quadro 1.10 (Saídas)\",IF('Saídas Contratados'!H13=\"ERRO\",\"O total das 'CARREIRAS E CORPOS ESPECIAIS' deste quadro deverá ser coincidente com o total do ponto 1.10.2 do quadro 1.10 (Saídas)\",IF('Saídas Contratados'!K13=\"ERRO\",\"O total da 'CARREIRA DOCENTE' deste quadro deverá ser coincidente com o total do ponto 1.10.2 do quadro 1.10 (Saídas)\",IF('Saídas Contratados'!L13=\"ERRO\",\"O total de 'OUTROS' deste quadro deverá ser coincidente com o total do ponto 1.10.2 do quadro 1.10 (Saídas)\",IF('Saídas Contratados'!N15=\"ERRO\",\"Ao fazer referência a 'OUTROS' no ponto 1.12.5., deverá obrigatoriamente discriminá-las no campo destinado às anotações.\",\"...\")))))","v":"..."},{"$nulls":4},"ver"]
[{"$nulls":4},{"$f":"G33","v":"..."}]
[]
[null,"Quadro 1.13\nPostos de trabalho não ocupados",null,null,{"$f":"IF(E37=\"...\",\"Preenchido\",IF(E37=\"Por favor preencha todas as células em aberto. Se não existirem ocorrências a registar deverá introduzir o número zero.\",\"Por preencher\",\"Preenchido com erros!\"))","v":"Preenchido"},null,{"$f":"IF('Postos de Trabalho'!F4<>0,\"Por favor preencha todas as células em aberto. Se não existirem ocorrências a registar deverá introduzir o número zero.\",IF('Postos de Trabalho'!E10=\"ERRO\",\"Ao fazer referência a 'OUTRAS' no ponto 1.13.4., deverá obrigatoriamente discriminá-las no campo destinado às anotações.\",\"...\"))","v":"..."},{"$nulls":5},"ver"]
[{"$nulls":4},{"$f":"G36","v":"..."}]
[]
[null,"Quadro 1.14\nAlterações remuneratórias / promoções",null,null,{"$f":"IF(E40=\"...\",\"Preenchido\",IF(E40=\"Por favor preencha todas as células em aberto. Se não existirem ocorrências a registar deverá introduzir o número zero.\",\"Por preencher\",IF(E40=\"Por favor confirme a existência de promoções em carreiras não subsistentes.\",\"Preenchido com reservas\",\"Preenchido com erros!\")))","v":"Preenchido"},null,{"$f":"IF('Alter. Posic. e Promoções'!P4<>0,\"Por favor preencha todas as células em aberto. Se não existirem ocorrências a registar deverá introduzir o número zero.\",IF('Alter. Posic. e Promoções'!Q4=\"ERRO\",\"Por favor confirme a existência de promoções em carreiras não subsistentes.\",\"...\"))","v":"..."},{"$nulls":5},"ver"]
[{"$nulls":4},{"$f":"G39","v":"..."}]
[]
[null,"Quadro 1.15\nModalidades de horário",null,null,{"$f":"IF(E43=\"...\",\"Preenchido\",IF(E43=\"Por favor preencha todas as células em aberto. Se não existirem ocorrências a registar deverá introduzir o número zero.\",\"Por preencher\",IF(E43=\"Por favor confirme a existência de elementos da carreira 'DIRIGENTE' sem isenção de horário.\",\"Preenchido com reservas\",\"Preenchido com erros!\")))","v":"Preenchido"},null,{"$f":"IF('Modalidade de Horário'!O4<>0,\"Por favor preencha todas as células em aberto. Se não existirem ocorrências a registar deverá introduzir o número zero.\",H42)","v":"..."},{"$f":"IF('Modalidade de Horário'!C15=\"ERRO\",\"O total de pessoal 'DIRIGENTE' deste quadro deverá coincidir com o total apresentado no quadro 1.\",IF('Modalidade de Horário'!D15=\"ERRO\",\"O total de trabalhadores da carreira de 'TÉCNICO SUPERIOR' deste quadro deverá coincidir com o total apresentado no quadro 1.\",IF('Modalidade de Horário'!E15=\"ERRO\",\"O total de trabalhadores da carreira de 'ASSISTENTE TÉCNICO' deste quadro deverá coincidir com o total apresentado no quadro 1.\",IF('Modalidade de Horário'!F15=\"ERRO\",\"O total de trabalhadores da carreira de 'ASSISTENTE OPERACIONAL' deste quadro deverá coincidir com o total apresentado no quadro 1.\",IF('Modalidade de Horário'!G15=\"ERRO\",\"O total de trabalhadores das 'CARREIRAS E CATEGORIAS SUBSISTENTES' deste quadro deverá coincidir com o total apresentado no quadro 1.\",I42)))))","v":"..."},{"$f":"IF('Modalidade de Horário'!H15=\"ERRO\",\"O total de pessoal 'CARREIRAS E CORPOS ESPECIAIS' deste quadro deverá coincidir com o total apresentado no quadro 1.\",IF('Modalidade de Horário'!K15=\"ERRO\",\"O total de trabalhadores da carreira 'DOCENTE' deste quadro deverá coincidir com o total apresentado no quadro 1.\",IF('Modalidade de Horário'!L15=\"ERRO\",\"O total de 'OUTROS' deste quadro deverá coincidir com o total apresentado no quadro 1.\",IF('Modalidade de Horário'!P4=\"ERROISE\",\"Por favor confirme a existência de elementos da carreira 'DIRIGENTE' sem isenção de horário.\",IF('Modalidade de Horário'!Q4=\"ERRODOC\",\"O pessoal 'DOCENTE' deverá ser incluído no ponto 1.15.1 (Horário rígido).\",\"...\")))))","v":"..."},null,null,null,"ver"]
[{"$nulls":4},{"$f":"G42","v":"..."}]
[]
[null,"Quadro 1.16\nTrabalho extraordinário",null,null,{"$f":"IF(E46=\"...\",\"Preenchido\",IF(E46=\"Por favor preencha todas as células em aberto. Se não existirem ocorrências a registar deverá introduzir o número zero.\",\"Por preencher\",\"Preenchido com erros!\"))","v":"Preenchido"},null,{"$f":"IF('Trabalho Extraord.'!F4<>0,\"Por favor preencha todas as células em aberto. Se não existirem ocorrências a registar deverá introduzir o número zero.\",\"...\")","v":"..."},{"$nulls":5},"ver"]
[{"$nulls":4},{"$f":"G45","v":"..."}]
[]
[null,"Quadro 1.17\nAusências ao trabalho",null,null,{"$f":"IF(E49=\"...\",\"Preenchido\",IF(E49=\"Por favor preencha todas as células em aberto. Se não existirem ocorrências a registar deverá introduzir o número zero.\",\"Por preencher\",\"Preenchido com erros!\"))","v":"Preenchido"},null,{"$f":"IF('Ausências Trabalho'!P4<>0,\"Por favor preencha todas as células em aberto. Se não existirem ocorrências a registar deverá introduzir o número zero.\",IF('Ausências Trabalho'!P25=\"ERRO\",\"Por favor confirme se os trabalhadores indicados no ponto 1.15.6 (Modalidades de horário) nunca tiveram ausências ao abrigo deste regime\",IF('Ausências Trabalho'!O48=\"ERRO\",\"Ao fazer referência a 'OUTRAS' no ponto 1.17.13., deverá obrigatoriamente discriminá-las no campo destinado às anotações.\",H48)))","v":"..."},{"$f":"IF('Ausências Trabalho'!D46=\"ERROH\",\"Não poderá indicar ausências de 'HOMENS' da carreira 'DIRIGENTE' neste quadro quando o total do quadro 1. é '0'.\",IF('Ausências Trabalho'!D46=\"ERROM\",\"Não poderá indicar ausências de 'MULHERES' da carreira 'DIRIGENTE' neste quadro quando o total do quadro 1. é '0'.\",IF('Ausências Trabalho'!E46=\"ERROH\",\"Não poderá indicar ausências de 'HOMENS' da carreira 'TÉCNICO SUPERIOR'  neste quadro quando o total do quadro 1. é '0'.\",IF('Ausências Trabalho'!E46=\"ERROM\",\"Não poderá indicar ausências de 'MULHERES' da carreira 'TÉCNICO SUPERIOR'  neste quadro quando o total do quadro 1. é '0'.\",IF('Ausências Trabalho'!F46=\"ERROH\",\"Não poderá indicar ausências de 'HOMENS' da carreira 'ASSISTENTE TÉCNICO'  neste quadro quando o total do quadro 1. é '0'.\",IF('Ausências Trabalho'!F46=\"ERROM\",\"Não poderá indicar ausências de 'MULHERES' da carreira 'ASSISTENTE TÉCNICO'  neste quadro quando o total do quadro 1. é '0'.\",I48))))))","v":"..."},{"$f":"IF('Ausências Trabalho'!G46=\"ERROH\",\"Não poderá indicar ausências de 'HOMENS' da carreira 'ASSISTENTE OPERACIONAL'neste quadro quando o total do quadro 1. é '0'.\",IF('Ausências Trabalho'!G46=\"ERROM\",\"Não poderá indicar ausências de 'MULHERES' da carreira 'ASSISTENTE OPERACIONAL'neste quadro quando o total do quadro 1. é '0'.\",IF('Ausências Trabalho'!H46=\"ERROH\",\"Não poderá indicar ausências de 'HOMENS' das 'CARREIRAS E CATEGORIAS SUBSISTENTES' neste quadro quando o total do quadro 1. é '0'.\",IF('Ausências Trabalho'!H46=\"ERROM\",\"Não poderá indicar ausências de 'MULHERES' das 'CARREIRAS E CATEGORIAS SUBSISTENTES' neste quadro quando o total do quadro 1. é '0'.\",J48))))","v":"..."},{"$f":"IF('Ausências Trabalho'!I46=\"ERROH\",\"Não poderá indicar ausências de 'HOMENS' das 'CARREIRAS E CORPOS ESPECIAIS' neste quadro quando o total do quadro 1. é '0'.\",IF('Ausências Trabalho'!I46=\"ERROM\",\"Não poderá indicar ausências de 'MULHERES' das 'CARREIRAS E CORPOS ESPECIAIS' neste quadro quando o total do quadro 1. é '0'.\",IF('Ausências Trabalho'!L46=\"ERROH\",\"Não poderá indicar ausências de 'HOMENS' da 'CARREIRA DOCENTE' neste quadro quando o total do quadro 1. é '0'.\",IF('Ausências Trabalho'!L46=\"ERROM\",\"Não poderá indicar ausências de 'MULHERES' da 'CARREIRA DOCENTE' neste quadro quando o total do quadro 1. é '0'.\",IF('Ausências Trabalho'!M46=\"ERROH\",\"Não poderá indicar ausências de 'HOMENS' de 'OUTROS'neste quadro quando o total do quadro 1. é '0'.\",IF('Ausências Trabalho'!M46=\"ERROM\",\"Não poderá indicar ausências de 'MULHERES' de 'OUTROS'neste quadro quando o total do quadro 1. é '0'.\",\"...\"))))))","v":"..."},null,null,"ver"]
[{"$nulls":4},{"$f":"G48","v":"..."}]
[]
[null,"Quadro 1.18\nHoras não trabalhadas",null,null,{"$f":"IF(E52=\"...\",\"Preenchido\",IF(E52=\"Por favor preencha todas as células em aberto. Se não existirem ocorrências a registar deverá introduzir o número zero.\",\"Por preencher\",\"Preenchido com erros!\"))","v":"Preenchido"},null,{"$f":"IF('Horas Não Trabalhadas'!P4<>0,\"Por favor preencha todas as células em aberto. Se não existirem ocorrências a registar deverá introduzir o número zero.\",\"...\")","v":"..."},{"$nulls":5},"ver"]
[{"$nulls":4},{"$f":"G51","v":"..."}]
[]
[null,"Quadro 2.\nEncargos com pessoal",null,null,{"$f":"IF(E55=\"...\",\"Preenchido\",IF(E55=\"Por favor preencha todas as células em aberto. Se não existirem ocorrências a registar deverá introduzir o número zero.\",\"Por preencher\",\"Preenchido com erros!\"))","v":"Preenchido"},null,{"$f":"IF('Encargos com Pessoal'!F4<>0,\"Por favor preencha todas as células em aberto. Se não existirem ocorrências a registar deverá introduzir o número zero.\",IF('Encargos com Pessoal'!F5=\"ERRO\",\"Ao indicar horas de trabalho extraodinário no ponto 1.16.1 deverá registar os correspondentes encargos.\",IF('Encargos com Pessoal'!F6=\"ERRO\",\"Ao indicar horas de trabalho nocturno no ponto 1.16.4 deverá registar os correspondentes encargos.\",IF('Encargos com Pessoal'!F7=\"ERRO\",\"Ao indicar horas de trabalho em dia de descanso semanal, complementar e feriados no ponto 1.16.5, 1.16.6 ou 1.16.7, deverá registar os correspondentes encargos.\",IF('Encargos com Pessoal'!E26=\"ERRO\",\"Ao fazer referência a 'OUTROS' no ponto 2.16., deverá obrigatoriamente discriminá-los no campo destinado às anotações.\",\"...\")))))","v":"..."},{"$nulls":5},"ver"]
[{"$nulls":4},{"$f":"G54","v":"..."}]
[]
[null,"Quadro 2.17.1\nLeque salarial líquido",null,null,{"$f":"IF(E58=\"...\",\"Preenchido\",IF(E58=\"Por favor preencha todas as células em aberto. Se não existirem ocorrências a registar deverá introduzir o número zero.\",\"Por preencher\",\"Preenchido com erros!\"))","v":"Preenchido"},null,{"$f":"IF('Encargos com Pessoal'!F22<>0,\"Por favor preencha todas as células em aberto. Se não existirem ocorrências a registar deverá introduzir o número zero.\",IF('Encargos com Pessoal'!F21=\"ERRO\",\"Por favor verifique os valores introduzidos nos pontos 2.17.1.1 e 2.17.1.2, uma vez que o leque salarial não deverá ser igual ou inferior a '1';\",\"...\"))","v":"..."},{"$nulls":5},"ver"]
[{"$nulls":4},{"$f":"G57","v":"..."}]
[]
[null,"Quadro 3.1\nAcidentes em serviço",null,null,{"$f":"IF(E61=\"...\",\"Preenchido\",IF(E61=\"Por favor preencha todas as células em aberto. Se não existirem ocorrências a registar deverá introduzir o número zero.\",\"Por preencher\",\"Preenchido com erros!\"))","v":"Preenchido"},null,{"$f":"IF('Acidentes em Serviço'!L6<>0,\"Por favor preencha todas as células em aberto. Se não existirem ocorrências a registar deverá introduzir o número zero.\",IF('Acidentes em Serviço'!M6=\"ERROLOCAL1\",\"Ao regista 'Número de acidentes com baixa' no local de trabalho deverá registar o 'Número de dias perdidos com baixa' na coluna 'Menos de 60 dias' e vice-versa.\",IF('Acidentes em Serviço'!M6=\"ERROTRAJ1\",\"Ao regista 'Número de acidentes com baixa' In Itinere deverá registar o 'Número de dias perdidos com baixa' na coluna 'Menos de 60 dias' e vice-versa.\",IF('Acidentes em Serviço'!M6=\"ERROLOCAL2\",\"Ao regista 'Número de acidentes com baixa' no local de trabalho deverá registar o 'Número de dias perdidos com baixa' na coluna 'Mais de 60 dias' e vice-versa.\",IF('Acidentes em Serviço'!M6=\"ERROTRAJ2\",\"Ao regista 'Número de acidentes com baixa' In Itinere deverá registar o 'Número de dias perdidos com baixa' na coluna 'Mais de 60 dias' e vice-versa.\",H60)))))","v":"..."},{"$f":"IF('Acidentes em Serviço'!N6=\"ERROMENOS\",\"O número de dias indicados na coluna 'Menos de 60 dias de baixa' não deve ser superior ao número de casos multiplicado por 60.\",IF('Acidentes em Serviço'!N6=\"ERROMAIS\",\"O número de dias indicados na coluna '60 dias ou mais de baixa' não deve ser inferior ao número de casos multiplicado por 60.\",\"...\"))","v":"..."},{"$nulls":4},"ver"]
[{"$nulls":4},{"$f":"G60","v":"..."}]
[]
[null,"Quadro 3.2\nDoenças profissionais",null,null,{"$f":"IF(E64=\"...\",\"Preenchido\",IF(E64=\"Por favor preencha todas as células em aberto. Se não existirem ocorrências a registar deverá introduzir o número zero.\",\"Por preencher\",\"Preenchido com erros!\"))","v":"Preenchido"},null,{"$f":"IF('Doenças Profissionais'!F4<>0,\"Por favor preencha todas as células em aberto. Se não existirem ocorrências a registar deverá introduzir o número zero.\",\"...\")","v":"..."},{"$nulls":5},"ver"]
[{"$nulls":4},{"$f":"G63","v":"..."}]
[]
[null,"Quadro 3.3\nActividades de medicina do trabalho",null,null,{"$f":"IF(E67=\"...\",\"Preenchido\",IF(E67=\"Por favor preencha todas as células em aberto. Se não existirem ocorrências a registar deverá introduzir o número zero.\",\"Por preencher\",\"Preenchido com erros!\"))","v":"Preenchido"},null,{"$f":"IF('Higiene Segurança Trab.'!E5<>0,\"Por favor preencha todas as células em aberto. Se não existirem ocorrências a registar deverá introduzir o número zero.\",\"...\")","v":"..."},{"$nulls":5},"ver"]
[{"$nulls":4},{"$f":"G66","v":"..."}]
[]
[null,"Quadro 3.4\nComissões de higiene e segurança",null,null,{"$f":"IF(E70=\"...\",\"Preenchido\",IF(E70=\"Por favor preencha todas as células em aberto. Se não existirem ocorrências a registar deverá introduzir o número zero.\",\"Por preencher\",\"Preenchido com erros!\"))","v":"Preenchido"},null,{"$f":"IF('Higiene Segurança Trab.'!E13<>0,\"Por favor preencha todas as células em aberto. Se não existirem ocorrências a registar deverá introduzir o número zero.\",\"...\")","v":"..."},{"$nulls":5},"ver"]
[{"$nulls":4},{"$f":"G69","v":"..."}]
[]
[null,"Quadro 3.5\nNúmero de pessoas recolocadas",null,null,{"$f":"IF(E73=\"...\",\"Preenchido\",IF(E73=\"Por favor preencha todas as células em aberto. Se não existirem ocorrências a registar deverá introduzir o número zero.\",\"Por preencher\",\"Preenchido com erros!\"))","v":"Preenchido"},null,{"$f":"IF('Higiene Segurança Trab.'!E16<>0,\"Por favor preencha todas as células em aberto. Se não existirem ocorrências a registar deverá introduzir o número zero.\",\"...\")","v":"..."},{"$nulls":5},"ver"]
[{"$nulls":4},{"$f":"G72","v":"..."}]
[]
[null,"Quadro 3.6\nAcções em matéria de segurança",null,null,{"$f":"IF(E76=\"...\",\"Preenchido\",IF(E76=\"Por favor preencha todas as células em aberto. Se não existirem ocorrências a registar deverá introduzir o número zero.\",\"Por preencher\",\"Preenchido com erros!\"))","v":"Preenchido"},null,{"$f":"IF('Higiene Segurança Trab.'!E19<>0,\"Por favor preencha todas as células em aberto. Se não existirem ocorrências a registar deverá introduzir o número zero.\",\"...\")","v":"..."},{"$nulls":5},"ver"]
[{"$nulls":4},{"$f":"G75","v":"..."}]
[]
[null,"Quadro 3.7\nCustos com prevenção de acidentes",null,null,{"$f":"IF(E79=\"...\",\"Preenchido\",IF(E79=\"Por favor preencha todas as células em aberto. Se não existirem ocorrências a registar deverá introduzir o número zero.\",\"Por preencher\",\"Preenchido com erros!\"))","v":"Preenchido"},null,{"$f":"IF('Custos Prevenção Acidentes'!E4<>0,\"Por favor preencha todas as células em aberto. Se não existirem ocorrências a registar deverá introduzir o número zero.\",IF('Custos Prevenção Acidentes'!F4=\"ERRO\",\"Por favor verifique se as acções de formação e sensibilização em matéria de segurança indicadas no ponto 3.6.1 não tiveram custos.\",IF('Custos Prevenção Acidentes'!D10=\"ERRO\",\"Ao fazer referência a 'OUTROS CUSTOS' no ponto 3.7.4, deverá obrigatoriamente discriminá-los no campo destinado às anotações.\",\"...\")))","v":"..."},{"$nulls":5},"ver"]
[{"$nulls":4},{"$f":"G78","v":"..."}]
[]
[null,"Quadro 4.\nDuração das acções de formação",null,null,{"$f":"IF(E82=\"...\",\"Preenchido\",IF(E82=\"Por favor preencha todas as células em aberto. Se não existirem ocorrências a registar deverá introduzir o número zero.\",\"Por preencher\",\"Preenchido com erros!\"))","v":"Preenchido"},null,{"$f":"IF('Formação Prof Niveis Custos'!O6<>0,\"Por favor preencha todas as células em aberto. Se não existirem ocorrências a registar deverá introduzir o número zero.\",IF('Formação Prof Niveis Custos'!P6=\"ERROINT2\",\"Ao indicar acções de formação interna no ponto 4.1.1, deverá indicar indicar o número de participantes no quadro 4.2.1.\",IF('Formação Prof Niveis Custos'!P6=\"ERROEXT2\",\"Ao indicar acções de formação externa no ponto 4.1.2, deverá indicar indicar o número de participantes no quadro 4.2.2.\",IF('Formação Prof Niveis Custos'!P6=\"ERRO\",\"O número de acções indicadas no ponto 4.1 não deverá ser superior ao número de participantes indicados no ponto 4.2.\",\"...\"))))","v":"..."},{"$nulls":5},"ver"]
[{"$nulls":4},{"$f":"G81","v":"..."}]
[]
[null,"Quadro 4.2 e 4.3\nNúmero total de participantes e horas",null,null,{"$f":"IF(E85=\"...\",\"Preenchido\",IF(E85=\"Por favor preencha todas as células em aberto. Se não existirem ocorrências a registar deverá introduzir o número zero.\",\"Por preencher\",\"Preenchido com erros!\"))","v":"Preenchido"},null,{"$f":"IF('Formação Prof Niveis Custos'!O11<>0,\"Por favor preencha todas as células em aberto. Se não existirem ocorrências a registar deverá introduzir o número zero.\",H84)","v":"..."},{"$f":"IF('Formação Prof Niveis Custos'!C20=\"ERROINT\",\"Ao indicar pessoal 'DIRIGENTE' participantes em acções de formação interna, deverá indicar o n.º de horas correspondente no ponto 4.3.1.\",IF('Formação Prof Niveis Custos'!D20=\"ERROINT\",\"Ao indicar trabalhadores da carreira de 'TÉCNICO SUPERIOR' participantes em acções de formação interna, deverá indicar o n.º de horas correspondente no ponto 4.3.1.\",IF('Formação Prof Niveis Custos'!E20=\"ERROINT\",\"Ao indicar trabalhadores da carreira de 'ASSISTENTE TÉCNICO' participantes em acções de formação interna, deverá indicar o n.º de horas correspondente no ponto 4.3.1.\",IF('Formação Prof Niveis Custos'!F20=\"ERROINT\",\"Ao indicar trabalhadores da carreira de 'ASSISTENTE OPERACIONAL' participantes em acções de formação interna, deverá indicar o n.º de horas correspondente no ponto 4.3.1.\",I84))))","v":"..."},{"$f":"IF('Formação Prof Niveis Custos'!G20=\"ERROINT\",\"Ao indicar trabalhadores das 'CARREIRAS E CATEGORIAS SUBSISTENTES' como participantes em acções de formação interna, deverá indicar o n.º de horas correspondente no ponto 4.3.1.\",IF('Formação Prof Niveis Custos'!H20=\"ERROINT\",\"Ao indicar trabalhadores das 'CARREIRAS E CORPOS ESPECIAIS' como participantes em acções de formação interna, deverá indicar o n.º de horas correspondente no ponto 4.3.1.\",IF('Formação Prof Niveis Custos'!K20=\"ERROINT\",\"Ao indicar trabalhadores da 'CARREIRA DOCENTE' como participantes em acções de formação interna, deverá indicar o n.º de horas correspondente no ponto 4.3.1.\",IF('Formação Prof Niveis Custos'!L20=\"ERROINT\",\"Ao indicar trabalhadores de 'OUTROS' como participantes em acções de formação interna, deverá indicar o n.º de horas correspondente no ponto 4.3.1.\",J84))))","v":"..."},{"$f":"IF('Formação Prof Niveis Custos'!C20=\"ERROEXT\",\"Ao indicar pessoal 'DIRIGENTE' participantes em acções de formação externa, deverá indicar o n.º de horas correspondente no ponto 4.3.2.\",IF('Formação Prof Niveis Custos'!D20=\"ERROEXT\",\"Ao indicar trabalhadores da carreira de 'TÉCNICO SUPERIOR' participantes em acções de formação externa deverá indicar o n.º de horas correspondente no ponto 4.3.2.\",IF('Formação Prof Niveis Custos'!E20=\"ERROEXT\",\"Ao indicar trabalhadores da carreira de 'ASSISTENTE TÉCNICO' participantes em acções de formação interna, deverá indicar o n.º de horas correspondente no ponto 4.3.2.\",IF('Formação Prof Niveis Custos'!F20=\"ERROEXT\",\"Ao indicar trabalhadores da carreira de 'ASSISTENTE OPERACIONAL' participantes em acções de formação interna, deverá indicar o n.º de horas correspondente no ponto 4.3.2.\",K84))))","v":"..."},{"$f":"IF('Formação Prof Niveis Custos'!G20=\"ERROEXT\",\"Ao indicar trabalhadores das 'CARREIRAS E CATEGORIAS SUBSISTENTES' como participantes em acções de formação externa, deverá indicar o n.º de horas correspondente no ponto 4.3.2.\",IF('Formação Prof Niveis Custos'!H20=\"ERROEXT\",\"Ao indicar trabalhadores das 'CARREIRAS E CORPOS ESPECIAIS' como participantes em acções de formação externa, deverá indicar o n.º de horas correspondente no ponto 4.3.2.\",IF('Formação Prof Niveis Custos'!K20=\"ERROEXT\",\"Ao indicar trabalhadores da 'CARREIRA DOCENTE' como participantes em acções de formação externa, deverá indicar o n.º de horas correspondente no ponto 4.3.2.\",IF('Formação Prof Niveis Custos'!L20=\"ERROEXT\",\"Ao indicar trabalhadores de 'OUTROS' como participantes em acções de formação externa, deverá indicar o n.º de horas correspondente no ponto 4.3.2.\",\"...\"))))","v":"..."},null,"ver"]
[{"$nulls":4},{"$f":"G84","v":"..."}]
[]
[null,"Quadro 4.4\nCustos totais de formação",null,null,{"$f":"IF(E88=\"...\",\"Preenchido\",IF(E88=\"Por favor preencha todas as células em aberto. Se não existirem ocorrências a registar deverá introduzir o número zero.\",\"Por preencher\",IF(E88=\"Por favor confirme se as acções de formação interna não implicaram custos.\",\"Preenchido com reservas\",IF(E88=\"Por favor confirme se as acções de formação externa não implicaram custos.\",\"Preenchido com reservas\",\"Preenchido com erros!\"))))","v":"Preenchido com reservas"},null,{"$f":"IF('Formação Prof Niveis Custos'!O18<>0,\"Por favor preencha todas as células em aberto. Se não existirem ocorrências a registar deverá introduzir o número zero.\",IF('Formação Prof Niveis Custos'!P17=\"ERROCUSINT\",\"Por favor confirme se as acções de formação interna não implicaram custos.\",IF('Formação Prof Niveis Custos'!P17=\"ERROCUSEXT\",\"Por favor confirme se as acções de formação externa não implicaram custos.\",\"...\")))","v":"Por favor confirme se as acções de formação externa não implicaram custos."},{"$nulls":5},"ver"]
[{"$nulls":4},{"$f":"G87","v":"Por favor confirme se as acções de formação externa não implicaram custos."}]
[]
[null,"Quadro 5.\nPrestações sociais",null,null,{"$f":"IF(E91=\"...\",\"Preenchido\",IF(E91=\"Por favor preencha todas as células em aberto. Se não existirem ocorrências a registar deverá introduzir o número zero.\",\"Por preencher\",\"Preenchido com erros!\"))","v":"Preenchido"},null,{"$f":"IF('Prestações Sociais Acção Social'!E4<>0,\"Por favor preencha todas as células em aberto. Se não existirem ocorrências a registar deverá introduzir o número zero.\",IF('Prestações Sociais Acção Social'!F4=\"ERRO\",\"Se assinalou ausências ao trabalho por motivo de maternidade/paternidade, deverá identificar na linha 5.8, o valor total do subsídio pago no ambito da protecção social na parentalidade aos trabalhadores convergentes.\",\"...\"))","v":"..."},{"$nulls":5},"ver"]
[{"$nulls":4},{"$f":"G90","v":"..."}]
[]
[null,"Quadro 5.9\nPrestações acção social complementar",null,null,{"$f":"IF(E94=\"...\",\"Preenchido\",IF(E94=\"Por favor preencha todas as células em aberto. Se não existirem ocorrências a registar deverá introduzir o número zero.\",\"Por preencher\",\"Preenchido com erros!\"))","v":"Preenchido"},null,{"$f":"IF('Prestações Sociais Acção Social'!E14<>0,\"Por favor preencha todas as células em aberto. Se não existirem ocorrências a registar deverá introduzir o número zero.\",IF('Prestações Sociais Acção Social'!D23=\"ERRO\",\"Ao fazer referência a 'OUTRAS' nos pontos 5.8 e 5.9.7, deverá obrigatoriamente discriminá-las no campo destinado às anotações.\",\"...\"))","v":"..."},{"$nulls":5},"ver"]
[{"$nulls":4},{"$f":"G93","v":"..."}]
[]
[null,"Quadro 6.1\nOrganização e actividade sindical",null,null,{"$f":"IF(E97=\"...\",\"Preenchido\",IF(E97=\"Por favor preencha todas as células em aberto. Se não existirem ocorrências a registar deverá introduzir o número zero.\",\"Por preencher\",\"Preenchido com erros!\"))","v":"Preenchido"},null,{"$f":"IF('Relaç Profis Comissões Discipli'!D5<>0,\"Por favor preencha todas as células em aberto. Se não existirem ocorrências a registar deverá introduzir o número zero.\",IF('Relaç Profis Comissões Discipli'!E5=\"ERRO\",\"Por favor verifique a existência de trabalhadores sindicalizados, uma vez que referiu 'Horas de actividade sindical' no ponto 1.18.1.\",\"...\"))","v":"..."},{"$nulls":5},"ver"]
[{"$nulls":4},{"$f":"G96","v":"..."}]
[]
[null,"Quadro 6.2\nComissões de trabalhadores",null,null,{"$f":"IF(E100=\"...\",\"Preenchido\",IF(E100=\"Por favor preencha todas as células em aberto. Se não existirem ocorrências a registar deverá introduzir o número zero.\",\"Por preencher\",\"Preenchido com erros!\"))","v":"Preenchido"},null,{"$f":"IF('Relaç Profis Comissões Discipli'!E8<>0,\"Por favor preencha todas as células em aberto. Se não existirem ocorrências a registar deverá introduzir o número zero.\",\"...\")","v":"..."},{"$nulls":5},"ver"]
[{"$nulls":4},{"$f":"G99","v":"..."}]
[]
[null,"Quadro 6.3\nDisciplina",null,null,{"$f":"IF(E103=\"...\",\"Preenchido\",IF(E103=\"Por favor preencha todas as células em aberto. Se não existirem ocorrências a registar deverá introduzir o número zero.\",\"Por preencher\",\"Preenchido com erros!\"))","v":"Preenchido"},null,{"$f":"IF('Relaç Profis Comissões Discipli'!E12<>0,\"Por favor preencha todas as células em aberto. Se não existirem ocorrências a registar deverá introduzir o número zero.\",IF('Relaç Profis Comissões Discipli'!F12=\"ERRO\",\"O n.º de processos a transitar para o ano seguinte não pode ser superior à soma dos transitados do ano anterior e instaurados no próprio ano.\",\"...\"))","v":"..."},{"$nulls":5},"ver"]
[{"$nulls":4},{"$f":"G102","v":"..."}]
[]
[null,"Quadro 6.3.4\nProcessos decididos",null,null,{"$f":"IF(E106=\"...\",\"Preenchido\",IF(E106=\"Por favor preencha todas as células em aberto. Se não existirem ocorrências a registar deverá introduzir o número zero.\",\"Por preencher\",\"Preenchido com erros!\"))","v":"Preenchido"},null,{"$f":"IF('Relaç Profis Comissões Discipli'!E17<>0,\"Por favor preencha todas as células em aberto. Se não existirem ocorrências a registar deverá introduzir o número zero.\",IF('Relaç Profis Comissões Discipli'!F17=\"ERRO\",\"O número de processos decididos deverá ser igual à soma dos pontos 6.3.1 e 6.3.2, subtraindo o ponto 6.3.3.\",\"...\"))","v":"..."},{"$nulls":5},"ver"]
[{"$nulls":4},{"$f":"G105","v":"..."}]
[]
[null,"Quadro 7.\nDistribuição geográfica por concelhos",null,null,{"$f":"IF(E109=\"...\",\"Preenchido\",IF(E109=\"Por favor preencha todas as células em aberto. Se não existirem ocorrências a registar deverá introduzir o número zero.\",\"Por preencher\",\"Preenchido com erros!\"))","v":"Preenchido"},null,{"$f":"IF('Distribuição Geográfica '!P4<>0,\"Por favor preencha todas as células em aberto. Se não existirem ocorrências a registar deverá introduzir o número zero.\",H108)","v":"..."},{"$f":"IF('Distribuição Geográfica '!D39=\"ERROH\",\"O total de 'HOMENS' da carreira 'DIRIGENTE' deste quadro deverá coincidir com o total apresentado no quadro 1.\",IF('Distribuição Geográfica '!D39=\"ERROM\",\"O total de 'MULHERES' da carreira 'DIRIGENTE' deste quadro deverá coincidir com o total apresentado no quadro 1.\",IF('Distribuição Geográfica '!E39=\"ERROH\",\"O total de 'HOMENS' da carreira 'TÉCNICO SUPERIOR' deste quadro deverá coincidir com o total apresentado no quadro 1.\",IF('Distribuição Geográfica '!E39=\"ERROM\",\"O total de 'MULHERES' da carreira 'TÉCNICO SUPERIOR' deste quadro deverá coincidir com o total apresentado no quadro 1.\",IF('Distribuição Geográfica '!F39=\"ERROH\",\"O total de 'HOMENS' da carreira 'ASSISTENTE TÉCNICO' deste quadro deverá coincidir com o total apresentado no quadro 1.\",IF('Distribuição Geográfica '!F39=\"ERROM\",\"O total de 'MULHERES' da carreira 'ASSISTENTE TÉCNICO' deste quadro deverá coincidir com o total apresentado no quadro 1.\",I108))))))","v":"..."},{"$f":"IF('Distribuição Geográfica '!G39=\"ERROH\",\"O total de 'HOMENS' da carreira 'ASSISTENTE OPERACIONAL' deste quadro deverá coincidir com o total apresentado no quadro 1.\",IF('Distribuição Geográfica '!G39=\"ERROM\",\"O total de 'MULHERES' da carreira 'ASSISTENTE OPERACIONAL' deste quadro deverá coincidir com o total apresentado no quadro 1.\",IF('Distribuição Geográfica '!H39=\"ERROH\",\"O total de 'HOMENS' das 'CARREIRAS E CATEGORIAS SUBSISTENTES' deste quadro deverá coincidir com o total apresentado no quadro 1.\",IF('Distribuição Geográfica '!H39=\"ERROM\",\"O total de 'MULHERES' das 'CARREIRAS E CATEGORIAS SUBSISTENTES' deste quadro deverá coincidir com o total apresentado no quadro 1.\",J108))))","v":"..."},{"$f":"IF('Distribuição Geográfica '!I39=\"ERROH\",\"O total de 'HOMENS' das 'CARREIRAS E CORPOS ESPECIAIS' deste quadro deverá coincidir com o total apresentado no quadro 1.\",IF('Distribuição Geográfica '!I39=\"ERROM\",\"O total de 'MULHERES' das 'CARREIRAS E CORPOS ESPECIAIS' deste quadro deverá coincidir com o total apresentado no quadro 1.\",IF('Distribuição Geográfica '!L39=\"ERROH\",\"O total de 'HOMENS' da 'CARREIRA DOCENTE' deste quadro deverá coincidir com o total apresentado no quadro 1.\",IF('Distribuição Geográfica '!L39=\"ERROM\",\"O total de 'MULHERES' da 'CARREIRA DOCENTE' deste quadro deverá coincidir com o total apresentado no quadro 1.\",IF('Distribuição Geográfica '!M39=\"ERROH\",\"O total de 'HOMENS' de 'OUTROS' deste quadro deverá coincidir com o total apresentado no quadro 1.\",IF('Distribuição Geográfica '!M39=\"ERROM\",\"O total de 'MULHERES' de 'OUTROS' deste quadro deverá coincidir com o total apresentado no quadro 1.\",\"...\"))))))","v":"..."},null,null,"ver"]
[{"$nulls":4},{"$f":"G108","v":"..."}]
[]
[null,"Quadro 8.\nCobertura dos mapas de pessoal",null,null,{"$f":"IF(E112=\"...\",\"Preenchido\",IF(E112=\"Por favor preencha todas as células em aberto. Se não existirem ocorrências a registar deverá introduzir o número zero.\",\"Por preencher\",\"Preenchido com erros!\"))","v":"Preenchido"},null,{"$f":"IF('Cobertura de Mapas'!G5<>0,\"Por favor preencha todas as células em aberto. Se não existirem ocorrências a registar deverá introduzir o número zero.\",IF('Cobertura de Mapas'!H5=\"ERRO\",\"A cobertura dos mapas de pessoal (preenchidos) deverá corresponder, pelo menos, à soma dos trabalhadores com nomeação e contrato por tempo indeterminado indicado nos no quadro 1..\",IF('Cobertura de Mapas'!H6=\"ERRO\",\"Os lugares preenchidos não podem ser superiores aos lugares previstos.\",\"...\")))","v":"..."},{"$nulls":5},"ver"]
[{"$nulls":4},{"$f":"G111","v":"..."}]

{"sheet":"Recursos Humanos","index":4,"n_rows":43,"n_cols":16,"rows_kept":43,"cut":false,"hidden":false,"merged":[[26,0,26,13],[29,0,29,13],[15,1,17,1],[18,1,18,2],[21,0,23,0],[21,1,23,1],[15,0,17,0],[3,0,5,0],[6,0,8,0],[9,0,11,0],[12,0,14,0],[2,1,2,2],[3,1,5,1],[6,1,8,1],[9,1,11,1],[12,1,14,1],[43,0,43,13],[37,0,37,13],[35,0,35,13],[38,0,38,13],[32,0,32,13],[33,0,33,13],[39,0,39,13],[40,0,40,13],[36,0,36,13],[34,0,34,13]]}
[{"$f":"IF(Identificação!C17=\"\",\"\",Identificação!C17)","v":"Escola Básica dos 2º e 3º Ciclos da Torre - Câmara de Lobos"}]
[{"$f":"IF(Validação!E6=\"Preenchido\",\"\",\"Mensagem: \" & Validação!E6 & \"! \" & Validação!E7)","v":""}]
["1.","Recursos Humanos (1)",null,"Dirigente (5)","Técnico Superior","Assistente Técnico (6)","Assistente Operacional \n(7)","Carreiras e Categorias subsistentes (8)","Carreiras e Corpos especiais (9)","Carreira Médica","Carreira de Enfermagem","Carreira Docente","Outros","Total"]
["1.1","Total efectivos","H",{"$f":"SUM(D7+D10+D13+D16)","v":2},{"$f":"SUM(E7+E10+E13+E16)","v":0},{"$f":"SUM(F7+F10+F13+F16)","v":1},5,0,{"$f":"SUM(I7+I10+I13+I16)","v":1},{"$f":"SUM(J7+J10+J13+J16)","v":0},0,44,0,{"$f":"SUM(D4:M4)","v":53}]
[null,null,"M",{"$f":"D8+D11+D14+D17","v":1},{"$f":"E8+E11+E14+E17","v":1},15,28,1,{"$f":"I8+I11+I14+I17","v":0},0,0,82,0,128]
[null,null,"T",{"$f":"SUM(D4:D5)","v":3},1,16,33,1,{"$f":"SUM(I4:I5)","v":1},{"$f":"SUM(J4:J5)","v":0},0,126,0,181]
["1.1.1","Nomeação (2)","H",0,0,0,0,0,0,0,0,0,0,0,{"$f":"IF(OR(D7=\"\",E7=\"\",F7=\"\",G7=\"\",H7=\"\",I7=\"\",J7=\"\",K7=\"\",L7=\"\",M7=\"\",D8=\"\",E8=\"\",F8=\"\",G8=\"\",H8=\"\",I8=\"\",J8=\"\",K8=\"\",L8=\"\",M8=\"\"),1,0)","v":0},{"$f":"SUM(O7,O10,O13,O16,D21)","v":0}]
[null,null,"M",0,0,0,0,0,0,0,0,0,0,0]
[null,null,"T",{"$f":"SUM(D8,D7)","v":0},0,0,0,0,0,0,0,0,0,0]
[" 1.1.2","Contrato por tempo indeterminado","H",2,0,1,4,0,1,0,0,35,0,43,{"$f":"IF(OR(D10=\"\",E10=\"\",F10=\"\",G10=\"\",H10=\"\",I10=\"\",J10=\"\",K10=\"\",L10=\"\",M10=\"\",D11=\"\",E11=\"\",F11=\"\",G11=\"\",H11=\"\",I11=\"\",J11=\"\",K11=\"\",L11=\"\",M11=\"\"),1,0)","v":0}]
[null,null,"M",1,1,14,26,1,0,0,0,68,0,111]
[null,null,"T",{"$f":"SUM(D11,D10)","v":3},1,15,30,{"$f":"SUM(H11,H10)","v":1},1,0,0,103,0,154]
["1.1.3","Contrato a termo resolutivo, certo ou incerto (3)","H",0,0,0,0,0,0,0,0,9,0,{"$f":"SUM(D13:M13)","v":9},{"$f":"IF(OR(D13=\"\",E13=\"\",F13=\"\",G13=\"\",H13=\"\",I13=\"\",J13=\"\",K13=\"\",L13=\"\",M13=\"\",D14=\"\",E14=\"\",F14=\"\",G14=\"\",H14=\"\",I14=\"\",J14=\"\",K14=\"\",L14=\"\",M14=\"\"),1,0)","v":0}]
[null,null,"M",0,0,0,0,0,0,0,0,14,0,14]
[null,null,"T",{"$f":"SUM(D14,D13)","v":0},0,0,0,0,0,0,0,23,0,23]
["1.1.4","Outros (4)","H",0,0,0,1,0,0,0,0,0,0,1,{"$f":"IF(OR(D16=\"\",E16=\"\",F16=\"\",G16=\"\",H16=\"\",I16=\"\",J16=\"\",K16=\"\",L16=\"\",M16=\"\",D17=\"\",E17=\"\",F17=\"\",G17=\"\",H17=\"\",I17=\"\",J17=\"\",K17=\"\",L17=\"\",M17=\"\"),1,0)","v":0}]
[null,null,"M",0,0,1,2,0,0,0,0,0,0,3]
[null,null,"T",{"$f":"SUM(D17,D16)","v":0},0,1,{"$f":"SUM(G17,G16)","v":3},0,0,0,0,0,0,4]
["1.1.5","Total",null,{"$f":"SUM(D18,D15,D12,D9)","v":3},1,16,33,1,1,0,0,126,0,{"$f":"SUM(N18,N15,N12,N9)","v":181}]
[null,null,null,{"$f":"IF(D22+(Admissões!D4+Admissões!D7+Admissões!D10+Admissões!D13-Saídas!D4-Saídas!D7-Saídas!D10)<>D4,\"ERRO\",\"OK\")","v":"OK"},{"$f":"IF(E22+(Admissões!E4+Admissões!E7+Admissões!E10+Admissões!E13-Saídas!E4-Saídas!E7-Saídas!E10)<>E4,\"ERRO\",\"OK\")","v":"OK"},{"$f":"IF(F22+(Admissões!F4+Admissões!F7+Admissões!F10+Admissões!F13-Saídas!F4-Saídas!F7-Saídas!F10)<>F4,\"ERRO\",\"OK\")","v":"OK"},{"$f":"IF(G22+(Admissões!G4+Admissões!G7+Admissões!G10+Admissões!G13-Saídas!G4-Saídas!G7-Saídas!G10)<>G4,\"ERRO\",\"OK\")","v":"OK"},{"$f":"IF(H22+(Admissões!H4+Admissões!H7+Admissões!H10+Admissões!H13-Saídas!H4-Saídas!H7-Saídas!H10)<>H4,\"ERRO\",\"OK\")","v":"OK"},{"$f":"IF(I22+(Admissões!I4+Admissões!I7+Admissões!I10+Admissões!I13-Saídas!I4-Saídas!I7-Saídas!I10)<>I4,\"ERRO\",\"OK\")","v":"OK"},null,null,{"$f":"IF(L22+(Admissões!L4+Admissões!L7+Admissões!L10+Admissões!L13-Saídas!L4-Saídas!L7-Saídas!L10)<>L4,\"ERRO\",\"OK\")","v":"OK"},{"$f":"IF(M22+(Admissões!M4+Admissões!M7+Admissões!M10+Admissões!M13-Saídas!M4-Saídas!M7-Saídas!M10)<>M4,\"ERRO\",\"OK\")","v":"OK"}]
[null,null,null,{"$f":"IF(D23+(Admissões!D5+Admissões!D8+Admissões!D11+Admissões!D14-Saídas!D5-Saídas!D8-Saídas!D11)<>D5,\"ERRO\",\"OK\")","v":"OK"},{"$f":"IF(E23+(Admissões!E5+Admissões!E8+Admissões!E11+Admissões!E14-Saídas!E5-Saídas!E8-Saídas!E11)<>E5,\"ERRO\",\"OK\")","v":"OK"},{"$f":"IF(F23+(Admissões!F5+Admissões!F8+Admissões!F11+Admissões!F14-Saídas!F5-Saídas!F8-Saídas!F11)<>F5,\"ERRO\",\"OK\")","v":"OK"},{"$f":"IF(G23+(Admissões!G5+Admissões!G8+Admissões!G11+Admissões!G14-Saídas!G5-Saídas!G8-Saídas!G11)<>G5,\"ERRO\",\"OK\")","v":"OK"},{"$f":"IF(H23+(Admissões!H5+Admissões!H8+Admissões!H11+Admissões!H14-Saídas!H5-Saídas!H8-Saídas!H11)<>H5,\"ERRO\",\"OK\")","v":"OK"},{"$f":"IF(I23+(Admissões!I5+Admissões!I8+Admissões!I11+Admissões!I14-Saídas!I5-Saídas!I8-Saídas!I11)<>I5,\"ERRO\",\"OK\")","v":"OK"},null,null,{"$f":"IF(L23+(Admissões!L5+Admissões!L8+Admissões!L11+Admissões!L14-Saídas!L5-Saídas!L8-Saídas!L11)<>L5,\"ERRO\",\"OK\")","v":"OK"},{"$f":"IF(M23+(Admissões!M5+Admissões!M8+Admissões!M11+Admissões!M14-Saídas!M5-Saídas!M8-Saídas!M11)<>M5,\"ERRO\",\"OK\")","v":"OK"}]
["1.1.6","Total de efectivos registados no balanço social do ano anterior:","H",2,0,1,4,0,1,0,0,38,0,{"$f":"SUM(D22:M22)","v":46}]
[null,null,"M",1,1,15,27,1,0,0,0,86,0,131]
[null,null,"T",{"$f":"SUM(D22:D23)","v":3},{"$f":"SUM(E22:E23)","v":1},{"$f":"SUM(F22:F23)","v":16},31,1,{"$f":"SUM(I22:I23)","v":1},{"$f":"SUM(J22:J23)","v":0},{"$f":"SUM(K22:K23)","v":0},124,0,{"$f":"SUM(D24:M24)","v":177}]
[]
["Por favor refira quais as carreiras incluídas na coluna \"Outros\":"]
[{"$nulls":14},{"$f":"IF(AND(M19<>0,A27=\"\"),\"ERRO\",\"OK\")","v":"OK"}]
[]
["Por favor enuncie quais as situações referidas na linha \"Outros\" (1.1.4):"]
["Pessoal Subsidiado",{"$nulls":13},{"$f":"IF(AND(N18>0,OR(A30=\"\",A30=0)),\"ERRO\",\"OK\")","v":"OK"}]
[]
["Notas: "]
["(1) Deverão ser considerados todos os trabalhadores em exercício de funções que se encontrem ao serviço em 31 de dezembro, independentemente do tipo de vínculo. Não devem ser contabilizados os trabalhadores que, embora pertencendo ao mapa de pessoal do serviço, se encontrem a exercer funções noutros serviços, designadamente ao abrigo de instrumentos de mobilidade. Os trabalhadores em mobilidade interna para outras categorias deverão ser incluídos no serviço e carreira de destino, de acordo com o respectivo vínculo que detenham (nomeação ou contrato)."]
["(2) Considerar todas as formas de nomeação: definitiva, provisória, em comissão de serviço e em regime de substituição."]
["(3) Os docentes com lugar de quadro (escola ou quadro de zona pedagógica) devem ser contabilizados na linha \"Contrato por tempo indeterminado\" (ponto 1.1.2.) e os docente com contratos a termo resolutivo na linha  \"Contrato a termo resolutivo, certo ou incerto\" (ponto 1.1.3)."]
["(4) Incluir os trabalhadores ao abrigo de programas do Instituto do Emprego: estágios profissional, programa ocupacional de trabalhadores subsidiados e programa ocupacional de  desempregados."]
["(5) Considerar os titulares de cargos (ou equiparados)  abrangido pelo Estatuto do Pessoal Dirigente, bem como os detentores de Cargos Políticos e Pessoal dos Gabinetes. Relativamente aos estabelecimentos de educação e ensino deverão ser incluidos nesta coluna os Directores, Presidentes do Conselho Executivo, Presidentes da Comissão Instaladora e os respectivos Adjuntos ou Vice-Presidentes. Esta indicação é válida para os restantes mapas."]
["(6) Considerar as categorias da carreira de regime geral de Assistente Técnico, nomeadamente, Assistente Técnico e Coordenador Técnico."]
["(7) Considerar as categorias da carreira de regime geral de Assistente Operacional, nomeadamente, Assistente Operacional, Encarregado Operacional e Encarregado Geral Operacional."]
["(8) Considerar as carreiras subsistentes de Ajudante de Acção Sócio-educativa da Educação Pré-escolar, Chefe de Departamento, Coordenador, Coordenador Especialista, Chefe de Serviços de Administração Escolar, Encarregado de Pessoal Auxiliar e Encarregado de Pessoal Auxiliar de Acção Educativa, etc.."]
["(9) Considerar as carreiras especiais de Técnico e Especialista de Informática, Técnicos de Diagnóstico e Terapêutica, Inspecção, etc.."]
[]
["Observações: "]

{"sheet":"Estrut. Etária","index":5,"n_rows":24,"n_cols":11,"rows_kept":24,"cut":false,"hidden":false,"merged":[[24,0,24,5],[21,0,21,5],[14,2,14,3],[11,2,11,3],[3,0,14,0],[15,0,17,0],[3,2,3,3],[4,2,4,3],[5,2,5,3],[6,2,6,3],[20,0,20,5],[13,2,13,3],[9,2,9,3],[10,2,10,3],[12,2,12,3],[8,2,8,3],[2,2,2,3],[7,2,7,3]]}
[{"$f":"IF(Identificação!C17=\"\",\"\",Identificação!C17)","v":"Escola Básica dos 2º e 3º Ciclos da Torre - Câmara de Lobos"}]
[{"$f":"IF(Validação!E9=\"Preenchido\",\"\",\"Mensagem: \" & Validação!E9 & \"! \" & Validação!E10)","v":""}]
["1.2","Estrutura Etária (1)","Homens",null,"Mulheres","Total"]
[null,"Até 18 anos",0,null,0,{"$f":"SUM(C4,E4)","v":0},{"$f":"IF(OR(C4=\"\",E4=\"\"),1,0)","v":0},{"$f":"SUM(G4,G5,G6,G7,G8,G9,G10,G11,G12,G13,G14,G15)","v":0},{"$f":"IF(SUM(C4:D15)<>'Recursos Humanos'!N4,\"ERROH\",IF(SUM(E4:E15)<>'Recursos Humanos'!N5,\"ERROM\",\"OK\"))","v":"OK"},18,{"$f":"IF(F4>0,\"ERRO18\",\"OK\")","v":"OK"}]
[null,"18-24",0,null,0,{"$f":"SUM(C5,E5)","v":0},{"$f":"IF(OR(C5=\"\",E5=\"\"),1,0)","v":0},null,null,21]
[null,"25-29",0,null,2,{"$f":"SUM(C6,E6)","v":2},0,null,null,27]
[null,"30-34",0,null,7,7,0,null,null,32]
[null,"35-39",15,null,32,47,0,null,null,37]
[null,"40-44",16,null,29,45,0,null,null,42]
[null,"45-49",10,null,23,33,0,null,null,47]
[null,"50-54",5,null,13,18,0,null,null,52]
[null,"55-59",3,null,13,16,0,null,null,57]
[null,"60-64",4,null,8,12,0,null,null,62]
[null,"65-69",0,null,1,1,0,null,null,67]
[null,"70 e mais",0,null,0,0,{"$f":"IF(OR(C15=\"\",E15=\"\"),1,0)","v":0},null,null,70,{"$f":"IF(F15>0,\"ERRO70\",\"OK\")","v":"OK"}]
["1.3 (2)",null,null,null,"Nível médio etário:",{"$f":"IF(SUM(F4:F15)=0,0,(F4*J4+F5*J5+F6*J6+F7*J7+F8*J8+F9*J9+F10*J10+F11*J11+F12*J12+F13*J13+F14*J14+F15*J15)/SUM(F4:F15))","v":44.845303867403317},{"$f":"IF(F16=\"\",1,0)","v":0},{"$f":"SUM(G16,G17,G18)","v":0}]
[{"$nulls":4},"Nível médio etário masculino:",{"$f":"IF(SUM(C4:C15)=0,0,(C4*J4+C5*J5+C6*J6+C7*J7+C8*J8+C9*J9+C10*J10+C11*J11+C12*J12+C13*J13+C14*J14+C15*J15)/SUM(C4:C15))","v":44.830188679245282},{"$f":"IF(F17=\"\",1,0)","v":0}]
[{"$nulls":4},"Nível médio etário feminino:",{"$f":"IF(SUM(E4:E15)=0,0,(E4*J4+E5*J5+E6*J6+E7*J7+E8*J8+E9*J9+E10*J10+E11*J11+E12*J12+E13*J13+E14*J14+E15*J15)/SUM(E4:E15))","v":44.8515625},{"$f":"IF(F18=\"\",1,0)","v":0}]
[]
["Notas: "]
["(1) Considerar a idade de todos os trabalhadores ao serviço, independentemente do vínculo, em 31 de Dezembro."]
["(2) Campos de preenchimento automático: Soma da média das idades ÷ Total de efectivos"]
[]
["Observações: "]

{"sheet":"Estrut. Antiguidades","index":6,"n_rows":20,"n_cols":20,"rows_kept":20,"cut":false,"hidden":false,"merged":[[3,0,10,0],[20,0,20,15],[17,0,17,15],[16,0,16,15],[11,0,13,0]]}
[{"$f":"IF(Identificação!C17=\"\",\"\",Identificação!C17)","v":"Escola Básica dos 2º e 3º Ciclos da Torre - Câmara de Lobos"}]
[{"$f":"IF(Validação!E12=\"Preenchido\",\"\",\"Mensagem: \" & Validação!E12 & \"! \" & Validação!E13)","v":"Mensagem: Preenchido com reservas! Por favor confirme a existência de trabalhadores com mais de 36 anos de serviço."}]
["1.4","Estrutura Antiguidades (1)","Homens","Mulheres","Total","Dirigente","Técnico Superior","Assistente Técnico","Assistente Operacional","Carreiras e Categorias subsistentes","Carreiras e Corpos especiais","Carreira Médica","Carreira de Enfermagem","Carreira Docente","Outros","Total"]
[null,"Até 5 anos",2,8,{"$f":"SUM(C4:D4)","v":10},0,0,1,4,0,0,0,0,5,0,{"$f":"SUM(F4:O4)","v":10},{"$f":"IF(OR(F4=\"\",G4=\"\",H4=\"\",I4=\"\",J4=\"\",K4=\"\",N4=\"\",O4=\"\"),1,0)","v":0},{"$f":"SUM(Q4,Q5,Q6,Q7,Q8,Q9,Q10,Q11)","v":0},{"$f":"IF(SUM(C4:C11)<>'Recursos Humanos'!N4,\"ERROH\",IF(SUM(D4:D11)<>'Recursos Humanos'!N5,\"ERROM\",\"OK\"))","v":"OK"},5]
[null,"5-9",2,8,{"$f":"SUM(C5:D5)","v":10},0,0,0,0,0,0,0,0,10,0,{"$f":"SUM(F5:O5)","v":10},{"$f":"IF(OR(F5=\"\",G5=\"\",H5=\"\",I5=\"\",J5=\"\",K5=\"\",N5=\"\",O5=\"\"),1,0)","v":0},null,null,7]
[null,"10-14",19,34,53,0,1,2,8,0,1,0,0,41,0,53,0,null,null,12]
[null,"15-19",17,36,53,1,0,3,3,0,0,0,0,46,0,53,{"$f":"IF(OR(F7=\"\",G7=\"\",H7=\"\",I7=\"\",J7=\"\",K7=\"\",N7=\"\",O7=\"\"),1,0)","v":0},null,null,17]
[null,"20-24",5,28,33,0,0,6,14,0,0,0,0,13,0,33,0,null,null,22]
[null,"25-29",3,6,9,2,0,1,2,0,0,0,0,4,0,9,0,null,null,27]
[null,"30-35",3,4,7,0,0,0,1,0,0,0,0,6,0,7,0,null,null,32.5]
[null,"Mais de 36",2,4,6,0,0,3,1,1,0,0,0,1,0,6,0,null,{"$f":"IF(OR(E11>0,P11>0),\"ERRO36\",\"OK\")","v":"ERRO36"},36]
["1.5 (2)",{"$nulls":13},"Nível médio de antiguidade:",{"$f":"IF(SUM(E4:E11)=0,0,(P4*T4+P5*T5+P6*T6+P7*T7+P8*T8+P9*T9+P10*T10+P11*T11)/SUM(P4:P11))","v":16.958563535911601},{"$f":"IF(P12=\"\",1,0)","v":0},{"$f":"SUM(Q12,Q13,Q14)","v":0}]
[{"$nulls":14},"Nível médio de antiguidade masculino:",{"$f":"IF(SUM(C4:C11)=0,0,(C4*T4+C5*T5+C6*T6+C7*T7+C8*T8+C9*T9+C10*T10+C11*T11)/SUM(C4:C11))","v":17.009433962264151},{"$f":"IF(P13=\"\",1,0)","v":0}]
[{"$nulls":14},"Nível médio de antiguidade feminino:",{"$f":"IF(SUM(D4:D11)=0,0,(D4*T4+D5*T5+D6*T6+D7*T7+D8*T8+D9*T9+D10*T10+D11*T11)/SUM(D4:D11))","v":16.9375},{"$f":"IF(P14=\"\",1,0)","v":0}]
[{"$nulls":5},{"$f":"IF(SUM(F4:F11)<>'Recursos Humanos'!D6,\"ERRO\",\"OK\")","v":"OK"},{"$f":"IF(SUM(G4:G11)<>'Recursos Humanos'!E6,\"ERRO\",\"OK\")","v":"OK"},{"$f":"IF(SUM(H4:H11)<>'Recursos Humanos'!F6,\"ERRO\",\"OK\")","v":"OK"},{"$f":"IF(SUM(I4:I11)<>'Recursos Humanos'!G6,\"ERRO\",\"OK\")","v":"OK"},{"$f":"IF(SUM(J4:J11)<>'Recursos Humanos'!H6,\"ERRO\",\"OK\")","v":"OK"},{"$f":"IF(SUM(K4:K11)<>'Recursos Humanos'!I6,\"ERRO\",\"OK\")","v":"OK"},{"$f":"IF(SUM(L4:L11)<>'Recursos Humanos'!J6,\"ERRO\",\"OK\")","v":"OK"},{"$f":"IF(SUM(M4:M11)<>'Recursos Humanos'!K6,\"ERRO\",\"OK\")","v":"OK"},{"$f":"IF(SUM(N4:N11)<>'Recursos Humanos'!L6,\"ERRO\",\"OK\")","v":"OK"},{"$f":"IF(SUM(O4:O11)<>'Recursos Humanos'!M6,\"ERRO\",\"OK\")","v":"OK"}]
["Notas: "]
["(1) Considerar o número de anos (inteiros) de antiguidade na Função Pública, a 31 de dezembro."]
["(2) Campos de preenchimento automático: Soma da média das antiguidades ÷ Total de efectivos"]
[]
["Observações: "]

{"sheet":"Trab. Estrangeiros","index":7,"n_rows":14,"n_cols":8,"rows_kept":14,"cut":false,"hidden":false,"merged":[[10,0,10,4],[14,0,14,4],[11,0,11,4]]}
[{"$f":"IF(Identificação!C17=\"\",\"\",Identificação!C17)","v":"Escola Básica dos 2º e 3º Ciclos da Torre - Câmara de Lobos"}]
[{"$f":"IF(Validação!E15=\"Preenchido\",\"\",\"Mensagem: \" & Validação!E15 & \"! \" & Validação!E16)","v":""}]
["1.6","Trabalhadores Estrangeiros (1)","Homens","Mulheres","Total"]
["1.6.1","De países da UE",0,0,{"$f":"SUM(C4,D4)","v":0},{"$f":"IF(OR(C4=\"\",D4=\"\"),1,0)","v":0},{"$f":"SUM(F4,F5,F6,F7)","v":0},{"$f":"IF(OR(C5>0,D5>0,C6>0,D6>0,C7>0,D7>0),\"ERRO\",\"OK\")","v":"OK"}]
["1.6.2","Dos PALOP",0,0,{"$f":"SUM(C5,D5)","v":0},{"$f":"IF(OR(C5=\"\",D5=\"\"),1,0)","v":0}]
["1.6.3","Do Brasil",0,0,{"$f":"SUM(C6,D6)","v":0},{"$f":"IF(OR(C6=\"\",D6=\"\"),1,0)","v":0}]
["1.6.4","De outros países",0,0,{"$f":"SUM(C7,D7)","v":0},{"$f":"IF(OR(C7=\"\",D7=\"\"),1,0)","v":0}]
["1.7","Trabalhadores deficientes (2)",0,0,{"$f":"SUM(C8,D8)","v":0},null,{"$f":"IF(OR(C8=\"\",D8=\"\"),1,0)","v":0}]
[]
["Notas: "]
["(1) Considerar apenas os trabalhadores com NACIONALIDADE estrangeira. Não considerar os trabalhadores portugueses que tenham NATURALIDADE de outro país."]
["(2) Considerar os trabalhadores que beneficiem de redução fiscal em virtude da sua deficiência."]
[]
["Observações: "]

{"sheet":"Estrut. Habilitacional","index":8,"n_rows":18,"n_cols":10,"rows_kept":18,"cut":false,"hidden":false,"merged":[[3,0,12,0],[15,0,15,5],[18,0,18,5]]}
[{"$f":"IF(Identificação!C17=\"\",\"\",Identificação!C17)","v":"Escola Básica dos 2º e 3º Ciclos da Torre - Câmara de Lobos"}]
[{"$f":"IF(Validação!E21=\"Preenchido\",\"\",\"Mensagem: \" & Validação!E21 & \"! \" & Validação!E22)","v":""}]
["1.8","Estrutura Habilitacional (1)","Homens","Mulheres","Total","%"]
[null,"Menos de 4 anos de escolaridade",0,0,{"$f":"SUM(C4,D4)","v":0},{"$f":"IF(OR(C4<>\"\",D4<>\"\"),E4/$G$14,0)","v":0},{"$f":"IF(OR(C4=\"\",D4=\"\"),1,0)","v":0},{"$f":"SUM(G4,G5,G6,G7,G8,G9,G10,G11,G12,G13)","v":0},{"$f":"IF(SUM(C4:C13)<>'Recursos Humanos'!N4,\"ERROH\",IF(SUM(D4:D13)<>'Recursos Humanos'!N5,\"ERROM\",\"OK\"))","v":"OK"},{"$f":"IF(OR(C4>0,D4>0),\"ERRO4\",\"OK\")","v":"OK"}]
[null,"4 anos de escolaridade",3,9,{"$f":"SUM(C5,D5)","v":12},{"$f":"IF(OR(C5<>\"\",D5<>\"\"),E5/$G$14,0)","v":6.6298342541436461E-2},{"$f":"IF(OR(C5=\"\",D5=\"\"),1,0)","v":0}]
[null,"6 anos de escolaridade",1,13,14,7.7348066298342538E-2,0]
[null,"9 anos de escolaridade",2,4,6,3.3149171270718231E-2,0]
[null,"11 anos de escolaridade",0,4,4,2.2099447513812154E-2,0]
[null,"12 anos de escolaridade",1,14,15,8.2872928176795577E-2,0]
[null,"Bacharelato ou curso médio",0,2,2,1.1049723756906077E-2,0]
[null,"Licenciatura",37,78,115,0.63535911602209949,0]
[null,"Mestrado",8,4,12,6.6298342541436461E-2,0]
[null,"Doutoramento",1,0,1,5.5248618784530384E-3,0]
[{"$nulls":6},{"$f":"SUM(E4:E13)","v":181}]
["Notas: "]
["(1) Considerar as habilitações literárias de todos os trabalhadores ao serviço, em 31 de dezembro."]
[]
["Observações: "]

{"sheet":"Admissões","index":9,"n_rows":26,"n_cols":16,"rows_kept":26,"cut":false,"hidden":false,"merged":[[9,1,11,1],[12,1,14,1],[26,0,26,13],[22,0,22,13],[23,0,23,13],[18,0,18,13],[9,0,11,0],[12,0,14,0],[21,0,21,13],[15,1,15,2],[3,0,5,0],[6,0,8,0],[2,1,2,2],[3,1,5,1],[6,1,8,1]]}
[{"$f":"IF(Identificação!C17=\"\",\"\",Identificação!C17)","v":"Escola Básica dos 2º e 3º Ciclos da Torre - Câmara de Lobos"}]
[{"$f":"IF(Validação!E24=\"Preenchido\",\"\",\"Mensagem: \" & Validação!E24 & \"! \" & Validação!E25)","v":""}]
["1.9","Admissões (1) (2)",null,"Dirigente","Técnico Superior","Assistente Técnico","Assistente Operacional","Carreiras e Categorias subsistentes","Carreiras e Corpos especiais","Carreira Médica","Carreira de Enfermagem","Carreira Docente","Outros","Total"]
["1.9.1","Nomeação","H",0,0,0,0,0,0,0,0,0,0,{"$f":"SUM(D4:M4)","v":0},{"$f":"IF(OR(D4=\"\",E4=\"\",F4=\"\",G4=\"\",H4=\"\",I4=\"\",J4=\"\",K4=\"\",L4=\"\",M4=\"\",D5=\"\",E5=\"\",F5=\"\",G5=\"\",H5=\"\",I5=\"\",J5=\"\",K5=\"\",L5=\"\",M5=\"\"),1,0)","v":0},{"$f":"SUM(O4,O7,O10,O13)","v":0}]
[null,null,"M",0,0,0,0,0,0,0,0,0,0,{"$f":"SUM(D5:M5)","v":0}]
[null,null,"T",{"$f":"SUM(D4,D5)","v":0},0,0,0,0,0,0,0,0,0,0]
["1.9.2","Contrato por tempo indeterminado","H",0,0,0,0,0,0,0,0,7,0,7,{"$f":"IF(OR(D7=\"\",E7=\"\",F7=\"\",G7=\"\",H7=\"\",I7=\"\",J7=\"\",K7=\"\",L7=\"\",M7=\"\",D8=\"\",E8=\"\",F8=\"\",G8=\"\",H8=\"\",I8=\"\",J8=\"\",K8=\"\",L8=\"\",M8=\"\"),1,0)","v":0}]
[null,null,"M",0,0,0,0,0,0,0,0,2,0,2]
[null,null,"T",{"$f":"SUM(D7,D8)","v":0},0,0,0,0,0,0,0,9,0,9]
["1.9.3","Contrato a termo resolutivo, certo ou incerto (3)","H",0,0,0,0,0,0,0,0,3,0,3,{"$f":"IF(OR(D10=\"\",E10=\"\",F10=\"\",G10=\"\",H10=\"\",I10=\"\",J10=\"\",K10=\"\",L10=\"\",M10=\"\",D11=\"\",E11=\"\",F11=\"\",G11=\"\",H11=\"\",I11=\"\",J11=\"\",K11=\"\",L11=\"\",M11=\"\"),1,0)","v":0}]
[null,null,"M",0,0,0,1,0,0,0,0,2,0,3]
[null,null,"T",{"$f":"SUM(D10,D11)","v":0},{"$f":"SUM(E10,E11)","v":0},0,1,0,0,0,0,5,0,6]
["1.9.4","Outros","H",0,0,0,1,0,0,0,0,0,0,1,{"$f":"IF(OR(D13=\"\",E13=\"\",F13=\"\",G13=\"\",H13=\"\",I13=\"\",J13=\"\",K13=\"\",L13=\"\",M13=\"\",D14=\"\",E14=\"\",F14=\"\",G14=\"\",H14=\"\",I14=\"\",J14=\"\",K14=\"\",L14=\"\",M14=\"\"),1,0)","v":0}]
[null,null,"M",0,0,1,2,0,0,0,0,0,0,3]
[null,null,"T",{"$f":"SUM(D13,D14)","v":0},0,1,3,0,0,0,0,0,0,4]
["1.9.5","Total",null,{"$f":"SUM(D15,D12,D9,D6)","v":0},{"$f":"SUM(E15,E12,E9,E6)","v":0},1,4,0,0,0,0,14,0,{"$f":"SUM(N15,N12,N9,N6)","v":19}]
[null,null,null,{"$f":"IF(SUM(D4,D7,D10,D13)>'Recursos Humanos'!D4,\"ERROH\",IF(SUM(D5,D8,D11,D14)>'Recursos Humanos'!D5,\"ERROM\",\"OK\"))","v":"OK"},{"$f":"IF(SUM(E4,E7,E10,E13)>'Recursos Humanos'!E4,\"ERROH\",IF(SUM(E5,E8,E11,E14)>'Recursos Humanos'!E5,\"ERROM\",\"OK\"))","v":"OK"},{"$f":"IF(SUM(F4,F7,F10,F13)>'Recursos Humanos'!F4,\"ERROH\",IF(SUM(F5,F8,F11,F14)>'Recursos Humanos'!F5,\"ERROM\",\"OK\"))","v":"OK"},{"$f":"IF(SUM(G4,G7,G10,G13)>'Recursos Humanos'!G4,\"ERROH\",IF(SUM(G5,G8,G11,G14)>'Recursos Humanos'!G5,\"ERROM\",\"OK\"))","v":"OK"},{"$f":"IF(SUM(H4,H7,H10,H13)>'Recursos Humanos'!H4,\"ERROH\",IF(SUM(H5,H8,H11,H14)>'Recursos Humanos'!H5,\"ERROM\",\"OK\"))","v":"OK"},{"$f":"IF(SUM(I4,I7,I10,I13)>'Recursos Humanos'!I4,\"ERROH\",IF(SUM(I5,I8,I11,I14)>'Recursos Humanos'!I5,\"ERROM\",\"OK\"))","v":"OK"},{"$f":"IF(SUM(J4,J7,J10,J13)>'Recursos Humanos'!J4,\"ERROH\",IF(SUM(J5,J8,J11,J14)>'Recursos Humanos'!J5,\"ERROM\",\"OK\"))","v":"OK"},{"$f":"IF(SUM(K4,K7,K10,K13)>'Recursos Humanos'!K4,\"ERROH\",IF(SUM(K5,K8,K11,K14)>'Recursos Humanos'!K5,\"ERROM\",\"OK\"))","v":"OK"},{"$f":"IF(SUM(L4,L7,L10,L13)>'Recursos Humanos'!L4,\"ERROH\",IF(SUM(L5,L8,L11,L14)>'Recursos Humanos'!L5,\"ERROM\",\"OK\"))","v":"OK"},{"$f":"IF(SUM(M4,M7,M10,M13)>'Recursos Humanos'!M4,\"ERROH\",IF(SUM(M5,M8,M11,M14)>'Recursos Humanos'!M5,\"ERROM\",\"OK\"))","v":"OK"}]
["Por favor enuncie quais as situações referidas em \"Outros\" (1.9.4):"]
["Pessoal Subsidiado",{"$nulls":13},{"$f":"IF(AND(N15<>0,A19=\"\"),\"ERRO\",\"OK\")","v":"OK"}]
[]
["Notas: "]
["(1) Incluir todos os trabalhadores que ingressaram ou regressaram ao serviço, entre 1 de janeiro e 31 de dezembro, conforme o tipo de vínculo que detenham."]
["(2) Contabilizar os trabalhadores que, embora pertencendo a outros mapas de pessoal, tenham  iniciado funções pela primeira vez neste serviço ao abrigo de uma mobilidade entre 1 de janeiro e 31 de dezembro."]
["(3) Os docentes com contrato a termo resolutivo devem ser considerados na linha \"Contrato a termo resolutivo, certo ou incerto\" (ponto 1.9.3). Apenas deverão ser contabilizados os contratos a termo resolutivo celebrados pela  primeira vez, ou seja, as renovações não deverão ser consideradas como 'Admissões', uma vez que o docente já se encontrava a exercer funções no estabelecimento."]
[]
["Observações: "]

{"sheet":"Saídas","index":10,"n_rows":21,"n_cols":16,"rows_kept":21,"cut":false,"hidden":false,"merged":[[2,1,2,2],[3,1,5,1],[6,1,8,1],[18,0,18,13],[21,0,21,13],[15,0,15,13],[3,0,5,0],[6,0,8,0],[9,0,11,0],[9,1,11,1],[17,0,17,13],[12,1,12,2]]}
[{"$f":"IF(Identificação!C17=\"\",\"\",Identificação!C17)","v":"Escola Básica dos 2º e 3º Ciclos da Torre - Câmara de Lobos"}]
[{"$f":"IF(Validação!E27=\"Preenchido\",\"\",\"Mensagem: \" & Validação!E27 & \"! \" & Validação!E28)","v":""}]
["1.10","Saídas (1)",null,"Dirigente","Técnico Superior","Assistente Técnico","Assistente Operacional","Carreiras e Categorias subsistentes","Carreiras e Corpos especiais","Carreira Médica","Carreira de Enfermagem","Carreira Docente","Outros","Total"]
["1.10.1","Com Nomeação","H",0,0,0,0,0,0,0,0,0,0,{"$f":"SUM(D4:M4)","v":0},{"$f":"IF(OR(D4=\"\",E4=\"\",F4=\"\",G4=\"\",H4=\"\",I4=\"\",J4=\"\",K4=\"\",L4=\"\",M4=\"\",D5=\"\",E5=\"\",F5=\"\",G5=\"\",H5=\"\",I5=\"\",J5=\"\",K5=\"\",L5=\"\",M5=\"\"),1,0)","v":0},{"$f":"SUM(O4,O7,O10)","v":0}]
[null,null,"M",0,0,0,0,0,0,0,0,0,0,0]
[null,null,"T",{"$f":"SUM(D4,D5)","v":0},0,{"$f":"SUM(F4,F5)","v":0},0,0,0,0,0,0,0,0]
["1.10.2","Com Contrato (2)","H",0,0,0,0,0,0,0,0,4,0,4,{"$f":"IF(OR(D7=\"\",E7=\"\",F7=\"\",G7=\"\",H7=\"\",I7=\"\",J7=\"\",K7=\"\",L7=\"\",M7=\"\",D8=\"\",E8=\"\",F8=\"\",G8=\"\",H8=\"\",I8=\"\",J8=\"\",K8=\"\",L8=\"\",M8=\"\"),1,0)","v":0}]
[null,null,"M",0,0,0,0,0,0,0,0,8,0,8]
[null,null,"T",{"$f":"SUM(D7,D8)","v":0},0,0,0,0,0,0,0,12,0,12]
["1.10.3","Outros","H",0,0,0,0,0,0,0,0,0,0,0,{"$f":"IF(OR(D10=\"\",E10=\"\",F10=\"\",G10=\"\",H10=\"\",I10=\"\",J10=\"\",K10=\"\",L10=\"\",M10=\"\",D11=\"\",E11=\"\",F11=\"\",G11=\"\",H11=\"\",I11=\"\",J11=\"\",K11=\"\",L11=\"\",M11=\"\"),1,0)","v":0}]
[null,null,"M",0,0,1,2,0,0,0,0,0,0,3]
[null,null,"T",{"$f":"SUM(D10,D11)","v":0},0,1,2,0,0,0,0,0,0,3]
["1.10.4","Total",null,{"$f":"SUM(D12,D9,D6)","v":0},{"$f":"SUM(E12,E9,E6)","v":0},1,2,0,0,0,0,{"$f":"SUM(L12,L9,L6)","v":12},{"$f":"SUM(M12,M9,M6)","v":0},{"$f":"SUM(N12,N9,N6)","v":15}]
[]
["Por favor enuncie quais as situações referidas em \"Outros\" (1.10.3):"]
["Trabalhadores subsidiados",{"$nulls":13},{"$f":"IF(AND(N12<>0,A16=\"\"),\"ERRO\",\"OK\")","v":"OK"}]
["Notas: "]
["(1) Incluir todos os trabalhadores que saíram do serviço, entre 1 de janeiro e 31 de dezembro, conforme o tipo de vínculo que detinham."]
["(2) Os docentes com contrato a termo resolutivo que saíram do serviço devem ser contabilizados na linha \"Com Contrato\" (ponto 1.10.2)."]
[]
["Observações: "]

{"sheet":"Saídas Nomeados","index":11,"n_rows":19,"n_cols":15,"rows_kept":19,"cut":false,"hidden":false,"merged":[[16,0,16,12],[19,0,19,12],[14,0,14,12]]}
[{"$f":"IF(Identificação!C17=\"\",\"\",Identificação!C17)","v":"Escola Básica dos 2º e 3º Ciclos da Torre - Câmara de Lobos"}]
[{"$f":"IF(Validação!E30=\"Preenchido\",\"\",\"Mensagem: \" & Validação!E30 & \"! \" & Validação!E31)","v":""}]
["1.11","Motivo das saídas dos \ntrabalhadores nomeados (1)","Dirigente","Técnico Superior","Assistente Técnico","Assistente Operacional","Carreiras e Categorias subsistentes","Carreiras e Corpos especiais","Carreira Médica","Carreira de Enfermagem","Carreira Docente","Outros","Total"]
["1.11.1","Falecimento",0,0,0,0,0,0,0,0,0,0,{"$f":"SUM(C4:L4)","v":0},{"$f":"IF(OR(K4=\"\",L4=\"\"),1,0)","v":0},{"$f":"SUM(N4,N5,N6,N7,N8,N9,N10,N11)","v":0}]
["1.11.2","Exoneração",0,0,0,0,0,0,0,0,0,0,{"$f":"SUM(C5:L5)","v":0},{"$f":"IF(OR(K5=\"\",L5=\"\"),1,0)","v":0}]
["1.11.3","Aposentação",0,0,0,0,0,0,0,0,0,0,{"$f":"SUM(C6:L6)","v":0},0]
["1.11.4","Limite de idade",0,0,0,0,0,0,0,0,0,0,0,0]
["1.11.5","Aposentação compulsiva",0,0,0,0,0,0,0,0,0,0,0,0]
["1.11.6","Demissão",0,0,0,0,0,0,0,0,0,0,0,0]
["1.11.7","Mútuo acordo",0,0,0,0,0,0,0,0,0,0,0,0]
["1.11.8","Outros",0,0,0,0,0,0,0,0,0,0,0,0]
["1.11.9","Total",{"$f":"SUM(C4:C11)","v":0},0,0,0,0,0,0,0,0,{"$f":"SUM(L4:L11)","v":0},{"$f":"SUM(C12:L12)","v":0}]
[null,null,{"$f":"IF(SUM(C4:C11)<>Saídas!D6,\"ERRO\",\"OK\")","v":"OK"},{"$f":"IF(SUM(D4:D11)<>Saídas!E6,\"ERRO\",\"OK\")","v":"OK"},{"$f":"IF(SUM(E4:E11)<>Saídas!F6,\"ERRO\",\"OK\")","v":"OK"},{"$f":"IF(SUM(F4:F11)<>Saídas!G6,\"ERRO\",\"OK\")","v":"OK"},{"$f":"IF(SUM(G4:G11)<>Saídas!H6,\"ERRO\",\"OK\")","v":"OK"},{"$f":"IF(SUM(H4:H11)<>Saídas!I6,\"ERRO\",\"OK\")","v":"OK"},{"$f":"IF(SUM(I4:I11)<>Saídas!J6,\"ERRO\",\"OK\")","v":"OK"},{"$f":"IF(SUM(J4:J11)<>Saídas!K6,\"ERRO\",\"OK\")","v":"OK"},{"$f":"IF(SUM(K4:K11)<>Saídas!L6,\"ERRO\",\"OK\")","v":"OK"},{"$f":"IF(SUM(L4:L11)<>Saídas!M6,\"ERRO\",\"OK\")","v":"OK"}]
["Por favor enuncie quais as situações referidas em \"Outros\" (1.11.8):"]
["Transferência de estabelecimento",{"$nulls":12},{"$f":"IF(AND(M11<>0,A15=\"\"),\"ERRO\",\"OK\")","v":"OK"}]
["Notas: "]
["(1) Registar o motivo das saídas dos trabalhadores com nomeação indicados no ponto 1.10.1."]
[]
["Observações: "]

{"sheet":"Saídas Contratados","index":12,"n_rows":19,"n_cols":15,"rows_kept":19,"cut":false,"hidden":false,"merged":[[14,0,14,12],[19,0,19,12],[16,0,16,12]]}
[{"$f":"IF(Identificação!C17=\"\",\"\",Identificação!C17)","v":"Escola Básica dos 2º e 3º Ciclos da Torre - Câmara de Lobos"}]
[{"$f":"IF(Validação!E33=\"Preenchido\",\"\",\"Mensagem: \" & Validação!E33& \"! \" & Validação!E34)","v":""}]
["1.12","Motivo das saídas dos \ntrabalhadores contratados","Dirigente","Técnico Superior","Assistente Técnico","Assistente Operacional","Carreiras e Categorias subsistentes","Carreiras e Corpos especiais","Carreira Médica","Carreira de Enfermagem","Carreira Docente","Outros","Total"]
["1.12.1","Caducidade",0,0,0,0,0,0,0,0,0,0,{"$f":"SUM(C4:L4)","v":0},{"$f":"IF(OR(K4=\"\",L4=\"\"),1,0)","v":0},{"$f":"SUM(N4,N5,N6,N7,N8,N9,N10,N11)","v":0}]
["1.12.1.1","Falecimento",0,0,0,0,0,0,0,0,0,0,0,{"$f":"IF(OR(K5=\"\",L5=\"\"),1,0)","v":0}]
["1.12.1.2","Reforma/Aposentação",0,0,0,0,0,0,0,0,1,0,1,0]
["1.12.1.3","Outras causas de caducidade",0,0,0,0,0,0,0,0,1,0,1,0]
["1.12.2","Revogação",0,0,0,0,0,0,0,0,0,0,0,0]
["1.12.3","Resolução",0,0,0,0,0,0,0,0,0,0,0,0]
["1.12.4","Denúncia ",0,0,0,0,0,0,0,0,0,0,0,0]
["1.12.5","Outros",0,0,0,0,0,0,0,0,10,0,10,0]
["1.12.9","Total",{"$f":"SUM(C4:C11)","v":0},0,0,0,0,0,0,0,12,0,12]
[null,null,{"$f":"IF(SUM(C4:C11)<>Saídas!D9,\"ERRO\",\"OK\")","v":"OK"},{"$f":"IF(SUM(D4:D11)<>Saídas!E9,\"ERRO\",\"OK\")","v":"OK"},{"$f":"IF(SUM(E4:E11)<>Saídas!F9,\"ERRO\",\"OK\")","v":"OK"},{"$f":"IF(SUM(F4:F11)<>Saídas!G9,\"ERRO\",\"OK\")","v":"OK"},{"$f":"IF(SUM(G4:G11)<>Saídas!H9,\"ERRO\",\"OK\")","v":"OK"},{"$f":"IF(SUM(H4:H11)<>Saídas!I9,\"ERRO\",\"OK\")","v":"OK"},{"$f":"IF(SUM(I4:I11)<>Saídas!J9,\"ERRO\",\"OK\")","v":"OK"},{"$f":"IF(SUM(J4:J11)<>Saídas!K9,\"ERRO\",\"OK\")","v":"OK"},{"$f":"IF(SUM(K4:K11)<>Saídas!L9,\"ERRO\",\"OK\")","v":"OK"},{"$f":"IF(SUM(L4:L11)<>Saídas!M9,\"ERRO\",\"OK\")","v":"OK"}]
["Por favor enuncie quais as situações referidas em \"Outros\" (1.12.5):"]
["Transferência ",{"$nulls":12},{"$f":"IF(AND(M11<>0,A15=\"\"),\"ERRO\",\"OK\")","v":"OK"}]
["Notas: "]
["(1) Registar o motivo das saídas dos trabalhadores com contrato (a termo resolutivo ou por tempo indeterminado) indicados no ponto 1.10.2."]
[]
["Observações: "]

{"sheet":"Postos de Trabalho","index":13,"n_rows":12,"n_cols":6,"rows_kept":12,"cut":false,"hidden":false,"merged":[[12,0,12,3],[9,0,9,3]]}
[{"$f":"IF(Identificação!C17=\"\",\"\",Identificação!C17)","v":"Escola Básica dos 2º e 3º Ciclos da Torre - Câmara de Lobos"}]
[{"$f":"IF(Validação!E36=\"Preenchido\",\"\",\"Mensagem: \" & Validação!E36 & \"! \" & Validação!E37)","v":""}]
["1.13","Postos de trabalho não ocupados por dificuldades de provimento","Carreira/profissão","Número de postos de trabalho"]
["1.13.1","Ausência de autorização pelas entidades competentes",0,0,{"$f":"IF(OR(B4=\"\",C4=\"\"),1,0)","v":0},{"$f":"SUM(E4,E5,E6,E7)","v":0}]
["1.13.2","Não abertura de procedimento",0,0,{"$f":"IF(OR(B5=\"\",C5=\"\"),1,0)","v":0}]
["1.13.3","Impugnação do procedimento",0,0,{"$f":"IF(OR(B6=\"\",C6=\"\"),1,0)","v":0}]
["1.13.4","Outras",0,0,{"$f":"IF(OR(B7=\"\",C7=\"\"),1,0)","v":0}]
[]
["Por favor enuncie quais as situações referidas em \"Outras\" (1.13.4):"]
[{"$nulls":4},{"$f":"IF(AND(D7<>0,A10=\"\"),\"ERRO\",\"OK\")","v":"OK"}]
[]
["Observações: "]

{"sheet":"Alter. Posic. e Promoções","index":14,"n_rows":15,"n_cols":17,"rows_kept":15,"cut":false,"hidden":false,"merged":[[12,0,12,13],[15,0,15,13],[9,1,9,2],[2,1,2,2],[3,1,5,1],[6,1,8,1]]}
[{"$f":"IF(Identificação!C17=\"\",\"\",Identificação!C17)","v":"Escola Básica dos 2º e 3º Ciclos da Torre - Câmara de Lobos"}]
[{"$f":"IF(Validação!E39=\"Preenchido\",\"\",\"Mensagem: \" & Validação!E39 & \"! \" & Validação!E40)","v":""}]
["1.14","Alterações do Posicionamento Remuneratório / Promoções",null,"Dirigente","Técnico Superior","Assistente Técnico","Assistente Operacional","Carreiras e Categorias subsistentes","Carreiras e Corpos especiais","Carreira Médica","Carreira de Enfermagem","Carreira Docente","Outros","Total"]
[null,"Alterações do posicionamento remuneratório","H",0,0,0,0,0,0,0,0,0,0,{"$f":"SUM(D4:M4)","v":0},{"$f":"IF(OR(D4=\"\",E4=\"\",F4=\"\",G4=\"\",H4=\"\",I4=\"\",J4=\"\",K4=\"\",L4=\"\",M4=\"\",D5=\"\",E5=\"\",F5=\"\",G5=\"\",H5=\"\",I5=\"\",J5=\"\",K5=\"\",L5=\"\",M5=\"\"),1,0)","v":0},{"$f":"SUM(O4,O7)","v":0},{"$f":"IF(OR(D9<>0,E9<>0,F9<>0,G9<>0),\"ERRO\",\"OK\")","v":"OK"}]
["1.14.1",null,"M",0,0,0,0,0,0,0,0,0,0,0]
[null,null,"T",{"$f":"SUM(D4,D5)","v":0},0,0,0,0,0,0,0,0,0,0]
[null,"Promoções (carreiras e categorias subsistentes, carreiras e corpos especiais)","H",0,0,0,0,0,0,0,0,0,0,0,{"$f":"IF(OR(D7=\"\",E7=\"\",F7=\"\",G7=\"\",H7=\"\",I7=\"\",J7=\"\",K7=\"\",L7=\"\",M7=\"\",D8=\"\",E8=\"\",F8=\"\",G8=\"\",H8=\"\",I8=\"\",J8=\"\",K8=\"\",L8=\"\",M8=\"\"),1,0)","v":0}]
["1.14.2",null,"M",0,0,0,0,0,0,0,0,0,0,0]
[null,null,"T",{"$f":"SUM(D7,D8)","v":0},0,0,0,0,0,0,{"$f":"SUM(K7,K8)","v":0},0,0,0]
["1.14.3","Total",null,{"$f":"SUM(D9,D6)","v":0},{"$f":"SUM(E9,E6)","v":0},0,0,0,0,0,0,0,0,0]
[]
[]
[]
[]
["Observações: "]

{"sheet":"Modalidade de Horário","index":15,"n_rows":21,"n_cols":17,"rows_kept":21,"cut":false,"hidden":false,"merged":[[21,0,21,12],[18,0,18,12],[16,0,16,12],[17,0,17,12]]}
[{"$f":"IF(Identificação!C17=\"\",\"\",Identificação!C17)","v":"Escola Básica dos 2º e 3º Ciclos da Torre - Câmara de Lobos"}]
[{"$f":"IF(Validação!E42=\"Preenchido\",\"\",\"Mensagem: \" & Validação!E42 & \"! \" & Validação!E43)","v":""}]
["1.15","Modalidades de Horário","Dirigente (1)","Técnico Superior","Assistente Técnico (2)","Assistente Operacional","Carreiras e Categorias subsistentes","Carreiras e Corpos especiais","Carreira Médica","Carreira de Enfermagem","Carreira Docente (3)","Outros","Total"]
["1.15.1","Horário rígido",0,1,15,33,0,1,0,0,126,0,{"$f":"SUM(C4:L4)","v":176},{"$f":"IF(OR(K4=\"\",L4=\"\"),1,0)","v":0},{"$f":"SUM(N4,N5,N6,N7,N8,N9,N10,N11,N12,N13)","v":0},{"$f":"IF(C14<>C12,\"ERROISE\",\"OK\")","v":"OK"},{"$f":"IF(AND(SUM(K4:K13)<>0,K4=0),\"ERRODOC\",\"OK\")","v":"OK"}]
["1.15.2","Horários flexíveis",0,0,0,0,0,0,0,0,0,0,0,{"$f":"IF(OR(K5=\"\",L5=\"\"),1,0)","v":0}]
["1.15.3","Horários desfasados",0,0,0,0,0,0,0,0,0,0,0,0]
["1.15.4","Jornada contínua",0,0,0,0,0,0,0,0,0,0,0,0]
["1.15.5","Trabalho por turnos",0,0,0,0,0,0,0,0,0,0,0,0]
["1.15.6","Trabalhador-estudante",0,0,0,0,0,0,0,0,0,0,0,0]
["1.15.7","Assistência a descendentes menores",0,0,0,0,0,0,0,0,0,0,{"$f":"SUM(C10:L10)","v":0},0]
["1.15.8","Tempo parcial",0,0,0,0,0,0,0,0,0,0,{"$f":"SUM(C11:L11)","v":0},0]
["1.15.9","Isenção de horário",3,0,1,0,1,0,0,0,0,0,5,0]
["1.15.10","Adaptabilidade",0,0,0,0,0,0,0,0,0,0,{"$f":"SUM(C13:L13)","v":0},0]
["1.15.11","Total",{"$f":"SUM(C4:C13)","v":3},{"$f":"SUM(D4:D13)","v":1},16,33,1,1,0,0,126,0,{"$f":"SUM(C14:L14)","v":181}]
[null,null,{"$f":"IF(SUM(C4:C13)<>'Recursos Humanos'!D6,\"ERRO\",\"OK\")","v":"OK"},{"$f":"IF(SUM(D4:D13)<>'Recursos Humanos'!E6,\"ERRO\",\"OK\")","v":"OK"},{"$f":"IF(SUM(E4:E13)<>'Recursos Humanos'!F6,\"ERRO\",\"OK\")","v":"OK"},{"$f":"IF(SUM(F4:F13)<>'Recursos Humanos'!G6,\"ERRO\",\"OK\")","v":"OK"},{"$f":"IF(SUM(G4:G13)<>'Recursos Humanos'!H6,\"ERRO\",\"OK\")","v":"OK"},{"$f":"IF(SUM(H4:H13)<>'Recursos Humanos'!I6,\"ERRO\",\"OK\")","v":"OK"},{"$f":"IF(SUM(I4:I13)<>'Recursos Humanos'!J6,\"ERRO\",\"OK\")","v":"OK"},{"$f":"IF(SUM(J4:J13)<>'Recursos Humanos'!K6,\"ERRO\",\"OK\")","v":"OK"},{"$f":"IF(SUM(K4:K13)<>'Recursos Humanos'!L6,\"ERRO\",\"OK\")","v":"OK"},{"$f":"IF(SUM(L4:L13)<>'Recursos Humanos'!M6,\"ERRO\",\"OK\")","v":"OK"}]
["Notas: "]
["(1) Os membros dos órgãos de gestão com dispensa da componente lectiva (Directores, Presidentes do Conselho Executivo e Comissões Instaladoras, Adjuntos e Vice-Presidentes) deverão ser incluídos no ponto 1.15.9 (isenção de horário)."]
["(2) Os Chefes de Departamento, de Serviços de Administração Escolar ou Coordenadores Técnicos deverão ser incluídos no ponto 1.15.9 (isenção de horário)."]
["(3) O pessoal docente (que possui horário específico) deverá ser incluído no ponto 1.15.1 (horário rígido). Os docentes com dispensa total da componente lectiva também deverão ser incluídos neste ponto."]
[]
["Observações: "]

{"sheet":"Trabalho Extraord.","index":16,"n_rows":29,"n_cols":6,"rows_kept":29,"cut":false,"hidden":false,"merged":[[29,0,29,3],[26,0,26,3],[15,0,17,0],[18,0,20,0],[21,0,23,0],[18,1,20,1],[21,1,23,1],[15,1,17,1],[3,0,5,0],[6,0,8,0],[9,0,11,0],[12,0,14,0],[2,1,2,2],[3,1,5,1],[6,1,8,1],[9,1,11,1],[12,1,14,1]]}
[{"$f":"IF(Identificação!C17=\"\",\"\",Identificação!C17)","v":"Escola Básica dos 2º e 3º Ciclos da Torre - Câmara de Lobos"}]
[{"$f":"IF(Validação!E45=\"Preenchido\",\"\",\"Mensagem: \" & Validação!E45 & \" \" & Validação!E46)","v":""}]
["1.16","Trabalho extraordinário, nocturno e em dias de descanso semanal, \ncomplementar e feriados",null,"Número de horas"]
["1.16.1","Trabalho extraordinário (1)","H",7,{"$f":"IF(D5=\"\",1,0)","v":0},{"$f":"SUM(E4,E5,E7,E8,E10,E11,E13,E14,E16,E17,E19,E20,E22,E23)","v":0}]
[null,null,"M",5,{"$f":"IF(D5=\"\",1,0)","v":0}]
[null,null,"T",{"$f":"SUM(D4,D5)","v":12}]
["1.16.2","Trabalho extraordinário compensado por duração do período normal de trabalho","H",0,{"$f":"IF(D8=\"\",1,0)","v":0}]
[null,null,"M",0,{"$f":"IF(D8=\"\",1,0)","v":0}]
[null,null,"T",{"$f":"SUM(D7,D8)","v":0}]
["1.16.3","Trabalho extraordinário compensado por acréscimo do período de férias","H",0,{"$f":"IF(D11=\"\",1,0)","v":0}]
[null,null,"M",0,{"$f":"IF(D11=\"\",1,0)","v":0}]
[null,null,"T",{"$f":"SUM(D10,D11)","v":0}]
["1.16.4","Trabalho nocturno","H",273,{"$f":"IF(D14=\"\",1,0)","v":0}]
[null,null,"M",546,{"$f":"IF(D14=\"\",1,0)","v":0}]
[null,null,"T",{"$f":"SUM(D13,D14)","v":819}]
["1.16.5","Em dias de descanso complementar (Sábado)","H",18,{"$f":"IF(D17=\"\",1,0)","v":0}]
[null,null,"M",0,{"$f":"IF(D17=\"\",1,0)","v":0}]
[null,null,"T",{"$f":"SUM(D16,D17)","v":18}]
["1.16.6","Em dias de descanso semanal obrigatório (Domingo)","H",0,{"$f":"IF(D20=\"\",1,0)","v":0}]
[null,null,"M",0,{"$f":"IF(D20=\"\",1,0)","v":0}]
[null,null,"T",{"$f":"SUM(D19,D20)","v":0}]
["1.16.7","Em dias feriados","H",0,{"$f":"IF(D23=\"\",1,0)","v":0}]
[null,null,"M",0,{"$f":"IF(D23=\"\",1,0)","v":0}]
[null,null,"T",{"$f":"SUM(D22,D23)","v":0}]
[]
["Notas: "]
["(1) Considerar todo o trabalho extraordinário, diurno ou nocturno, que tenha sido abonado"]
[]
["Observações: "]

{"sheet":"Ausências Trabalho","index":17,"n_rows":52,"n_cols":16,"rows_kept":52,"cut":false,"hidden":false,"merged":[[49,0,49,13],[52,0,52,13],[47,0,47,13],[9,1,11,1],[12,0,14,0],[12,1,14,1],[9,0,11,0],[21,0,23,0],[21,1,23,1],[15,0,17,0],[15,1,17,1],[18,0,20,0],[18,1,20,1],[42,1,44,1],[36,0,38,0],[36,1,38,1],[2,1,2,2],[3,0,5,0],[3,1,5,1],[6,0,8,0],[6,1,8,1],[42,0,44,0],[30,0,32,0],[30,1,32,1],[33,0,35,0],[33,1,35,1],[24,0,26,0],[24,1,26,1],[27,0,29,0],[27,1,29,1],[39,0,41,0],[39,1,41,1]]}
[{"$f":"IF(Identificação!C17=\"\",\"\",Identificação!C17)","v":"Escola Básica dos 2º e 3º Ciclos da Torre - Câmara de Lobos"}]
[{"$f":"IF(Validação!E48=\"Preenchido\",\"\",\"Mensagem: \" & Validação!E48 & \"! \" & Validação!E49)","v":""}]
["1.17","Ausências ao trabalho (1)",null,"Dirigente","Técnico Superior","Assistente Técnico","Assistente Operacional","Carreiras e Categorias subsistentes","Carreiras e Corpos especiais","Carreira Médica","Carreira de Enfermagem","Carreira Docente","Outros","Total"]
["1.17.1","Casamento","H",0,0,0,0,0,0,0,0,15,0,{"$f":"SUM(D4:M4)","v":15},{"$f":"IF(OR(D4=\"\",E4=\"\",F4=\"\",G4=\"\",H4=\"\",I4=\"\",J4=\"\",K4=\"\",L4=\"\",M4=\"\",D5=\"\",E5=\"\",F5=\"\",G5=\"\",H5=\"\",I5=\"\",J5=\"\",K5=\"\",L5=\"\",M5=\"\"),1,0)","v":0},{"$f":"SUM(O4,O7,O10,O13,O16,O19,O22,O25,O28,O31,O34,O37,O40)","v":0}]
[null,null,"M",0,0,0,0,0,0,0,0,0,0,0]
[null,null,"T",{"$f":"SUM(D4,D5)","v":0},0,0,0,0,0,0,0,15,0,{"$f":"SUM(D6:M6)","v":15}]
["1.17.2","Maternidade / paternidade","H",0,0,0,0,0,0,0,0,60,0,60,{"$f":"IF(OR(D7=\"\",E7=\"\",F7=\"\",G7=\"\",H7=\"\",I7=\"\",J7=\"\",K7=\"\",L7=\"\",M7=\"\",D8=\"\",E8=\"\",F8=\"\",G8=\"\",H8=\"\",I8=\"\",J8=\"\",K8=\"\",L8=\"\",M8=\"\"),1,0)","v":0}]
[null,null,"M",0,0,0,0,0,0,0,0,1174,0,1174]
[null,null,"T",{"$f":"SUM(D7,D8)","v":0},0,0,0,0,0,0,0,1234,0,1234]
["1.17.3","Nascimento","H",0,0,0,0,0,0,0,0,0,0,0,{"$f":"IF(OR(D10=\"\",E10=\"\",F10=\"\",G10=\"\",H10=\"\",I10=\"\",J10=\"\",K10=\"\",L10=\"\",M10=\"\",D11=\"\",E11=\"\",F11=\"\",G11=\"\",H11=\"\",I11=\"\",J11=\"\",K11=\"\",L11=\"\",M11=\"\"),1,0)","v":0}]
[null,null,"M",0,0,0,0,0,0,0,0,0,0,0]
[null,null,"T",{"$f":"SUM(D10,D11)","v":0},0,0,0,0,0,0,0,0,0,0]
["1.17.4","Falecimento de familiar","H",0,0,0,0,0,0,0,0,5,0,5,{"$f":"IF(OR(D13=\"\",E13=\"\",F13=\"\",G13=\"\",H13=\"\",I13=\"\",J13=\"\",K13=\"\",L13=\"\",M13=\"\",D14=\"\",E14=\"\",F14=\"\",G14=\"\",H14=\"\",I14=\"\",J14=\"\",K14=\"\",L14=\"\",M14=\"\"),1,0)","v":0}]
[null,null,"M",0,0,4,2,0,0,0,0,9,0,15]
[null,null,"T",{"$f":"SUM(D13,D14)","v":0},0,4,2,0,0,0,0,14,0,20]
["1.17.5","Doença","H",0,0,0,0,0,0,0,0,73,0,73,{"$f":"IF(OR(D16=\"\",E16=\"\",F16=\"\",G16=\"\",H16=\"\",I16=\"\",J16=\"\",K16=\"\",L16=\"\",M16=\"\",D17=\"\",E17=\"\",F17=\"\",G17=\"\",H17=\"\",I17=\"\",J17=\"\",K17=\"\",L17=\"\",M17=\"\"),1,0)","v":0}]
[null,null,null,0,0,30,71,0,0,0,0,438,0,539]
[null,null,"T",{"$f":"SUM(D16,D17)","v":0},0,30,71,0,0,0,0,511,0,612]
["1.17.6","Doença prolongada","H",0,0,0,0,0,0,0,0,119,0,119,{"$f":"IF(OR(D19=\"\",E19=\"\",F19=\"\",G19=\"\",H19=\"\",I19=\"\",J19=\"\",K19=\"\",L19=\"\",M19=\"\",D20=\"\",E20=\"\",F20=\"\",G20=\"\",H20=\"\",I20=\"\",J20=\"\",K20=\"\",L20=\"\",M20=\"\"),1,0)","v":0}]
[null,"prolongada","M",0,0,365,0,0,0,0,0,594,0,959]
[null,null,"T",{"$f":"SUM(D19,D20)","v":0},0,365,0,0,0,0,0,713,0,1078]
["1.17.7","Assistência a familiares","H",0,0,0,0,0,0,0,0,2,0,2,{"$f":"IF(OR(D22=\"\",E22=\"\",F22=\"\",G22=\"\",H22=\"\",I22=\"\",J22=\"\",K22=\"\",L22=\"\",M22=\"\",D23=\"\",E23=\"\",F23=\"\",G23=\"\",H23=\"\",I23=\"\",J23=\"\",K23=\"\",L23=\"\",M23=\"\"),1,0)","v":0}]
[null,"a familiares","M",0,0,0,0,0,0,0,0,123,0,123]
[null,null,"T",{"$f":"SUM(D22,D23)","v":0},0,0,0,0,0,0,0,125,0,125]
["1.17.8","Trabalhador-estudante","H",0,0,0,0,0,0,0,0,14,0,{"$f":"SUM(D25:M25)","v":14},{"$f":"IF(OR(D25=\"\",E25=\"\",F25=\"\",G25=\"\",H25=\"\",I25=\"\",J25=\"\",K25=\"\",L25=\"\",M25=\"\",D26=\"\",E26=\"\",F26=\"\",G26=\"\",H26=\"\",I26=\"\",J26=\"\",K26=\"\",L26=\"\",M26=\"\"),1,0)","v":0},{"$f":"IF(AND('Modalidade de Horário'!M9>0,N27=0),\"ERRO\",\"OK\")","v":"OK"}]
[null,"estudante","M",0,0,0,0,0,0,0,0,2,0,2]
[null,null,"T",{"$f":"SUM(D25,D26)","v":0},0,0,0,0,0,0,0,16,0,16]
["1.17.9","Por conta do período de férias","H",0,0,0,0,0,0,0,0,41,0,41,{"$f":"IF(OR(D28=\"\",E28=\"\",F28=\"\",G28=\"\",H28=\"\",I28=\"\",J28=\"\",K28=\"\",L28=\"\",M28=\"\",D29=\"\",E29=\"\",F29=\"\",G29=\"\",H29=\"\",I29=\"\",J29=\"\",K29=\"\",L29=\"\",M29=\"\"),1,0)","v":0}]
[null,"período de  férias","M",0,0,0,4,0,0,0,0,78,0,82]
[null,null,"T",{"$f":"SUM(D28,D29)","v":0},0,0,4,0,0,0,0,119,0,123]
["1.17.10","Por perda de vencimento","H",0,0,0,0,0,0,0,0,0,0,0,{"$f":"IF(OR(D31=\"\",E31=\"\",F31=\"\",G31=\"\",H31=\"\",I31=\"\",J31=\"\",K31=\"\",L31=\"\",M31=\"\",D32=\"\",E32=\"\",F32=\"\",G32=\"\",H32=\"\",I32=\"\",J32=\"\",K32=\"\",L32=\"\",M32=\"\"),1,0)","v":0}]
[null,"de vencimento","M",0,0,0,0,0,0,0,0,0,0,0]
[null,null,"T",{"$f":"SUM(D31,D32)","v":0},0,0,0,0,0,0,0,0,0,0]
["1.17.11","Cumprimento de pena disciplinar","H",0,0,0,0,0,0,0,0,0,0,0,{"$f":"IF(OR(D34=\"\",E34=\"\",F34=\"\",G34=\"\",H34=\"\",I34=\"\",J34=\"\",K34=\"\",L34=\"\",M34=\"\",D35=\"\",E35=\"\",F35=\"\",G35=\"\",H35=\"\",I35=\"\",J35=\"\",K35=\"\",L35=\"\",M35=\"\"),1,0)","v":0}]
[null,"pena disciplinar","M",0,0,0,0,0,0,0,0,0,0,0]
[null,null,"T",{"$f":"SUM(D34,D35)","v":0},0,0,0,0,0,0,0,0,0,0]
["1.17.12","Injustificadas","H",0,0,0,0,0,0,0,0,1,0,1,{"$f":"IF(OR(D37=\"\",E37=\"\",F37=\"\",G37=\"\",H37=\"\",I37=\"\",J37=\"\",K37=\"\",L37=\"\",M37=\"\",D38=\"\",E38=\"\",F38=\"\",G38=\"\",H38=\"\",I38=\"\",J38=\"\",K38=\"\",L38=\"\",M38=\"\"),1,0)","v":0}]
[null,null,"M",0,0,0,0,0,0,0,0,0,0,0]
[null,null,"T",{"$f":"SUM(D37,D38)","v":0},0,0,0,0,0,0,0,1,0,1]
["1.17.13","Outras","H",0,0,1,7,0,0,0,0,98,0,106,{"$f":"IF(OR(D40=\"\",E40=\"\",F40=\"\",G40=\"\",H40=\"\",I40=\"\",J40=\"\",K40=\"\",L40=\"\",M40=\"\",D41=\"\",E41=\"\",F41=\"\",G41=\"\",H41=\"\",I41=\"\",J41=\"\",K41=\"\",L41=\"\",M41=\"\"),1,0)","v":0}]
[null,null,"M",0,0,73,146,0,0,0,0,114,0,333]
[null,null,"T",{"$f":"SUM(D40,D41)","v":0},0,74,153,0,0,0,0,212,0,439]
["1.17.14","Total","H",{"$f":"SUM(D4+D7+D10+D13+D16+D19+D22+D25+D28+D31+D34+D37+D40)","v":0},{"$f":"SUM(E4+E7+E10+E13+E16+E19+E22+E25+E28+E31+E34+E37+E40)","v":0},1,7,0,0,0,0,428,0,{"$f":"SUM(D43:M43)","v":436}]
[null,null,"M",{"$f":"SUM(D5+D8+D11+D14+D17+D20+D23+D26+D29+D32+D35+D38+D41)","v":0},{"$f":"SUM(E5+E8+E11+E14+E17+E20+E23+E26+E29+E32+E35+E38+E41)","v":0},472,223,0,0,0,0,2532,{"$f":"SUM(M5+M8+M11+M14+M17+M20+M23+M26+M29+M32+M35+M38+M41)","v":0},{"$f":"SUM(D44:M44)","v":3227}]
[null,null,"T",{"$f":"SUM(D43,D44)","v":0},{"$f":"SUM(E43,E44)","v":0},473,230,0,0,0,0,2960,{"$f":"SUM(M43,M44)","v":0},{"$f":"SUM(D45:M45)","v":3663}]
[null,null,null,{"$f":"IF(AND('Recursos Humanos'!D4=0,D43<>0),\"ERROH\",IF(AND('Recursos Humanos'!D5=0,D44<>0),\"ERROM\",\"OK\"))","v":"OK"},{"$f":"IF(AND('Recursos Humanos'!E4=0,E43<>0),\"ERROH\",IF(AND('Recursos Humanos'!E5=0,E44<>0),\"ERROM\",\"OK\"))","v":"OK"},{"$f":"IF(AND('Recursos Humanos'!F4=0,F43<>0),\"ERROH\",IF(AND('Recursos Humanos'!F5=0,F44<>0),\"ERROM\",\"OK\"))","v":"OK"},{"$f":"IF(AND('Recursos Humanos'!G4=0,G43<>0),\"ERROH\",IF(AND('Recursos Humanos'!G5=0,G44<>0),\"ERROM\",\"OK\"))","v":"OK"},{"$f":"IF(AND('Recursos Humanos'!H4=0,H43<>0),\"ERROH\",IF(AND('Recursos Humanos'!H5=0,H44<>0),\"ERROM\",\"OK\"))","v":"OK"},{"$f":"IF(AND('Recursos Humanos'!I4=0,I43<>0),\"ERROH\",IF(AND('Recursos Humanos'!I5=0,I44<>0),\"ERROM\",\"OK\"))","v":"OK"},{"$f":"IF(AND('Recursos Humanos'!J4=0,J43<>0),\"ERROH\",IF(AND('Recursos Humanos'!J5=0,J44<>0),\"ERROM\",\"OK\"))","v":"OK"},{"$f":"IF(AND('Recursos Humanos'!K4=0,K43<>0),\"ERROH\",IF(AND('Recursos Humanos'!K5=0,K44<>0),\"ERROM\",\"OK\"))","v":"OK"},{"$f":"IF(AND('Recursos Humanos'!L4=0,L43<>0),\"ERROH\",IF(AND('Recursos Humanos'!L5=0,L44<>0),\"ERROM\",\"OK\"))","v":"OK"},{"$f":"IF(AND('Recursos Humanos'!M4=0,M43<>0),\"ERROH\",IF(AND('Recursos Humanos'!M5=0,M44<>0),\"ERROM\",\"OK\"))","v":"OK"},{"$f":"IF(AND('Recursos Humanos'!N4=0,N43<>0),\"ERROH\",IF(AND('Recursos Humanos'!N5=0,N44<>0),\"ERROM\",\"OK\"))","v":"OK"}]
["Por favor enuncie quais as situações referidas em \"Outras\" (1.17.13):"]
["Dispensa para fomação; Serviço público; por motivos não imputáveis ao funcionário; Encarregado de educação de menor (art. 185-h); cumprimento de obrigações; doação de sangue; Dispensa de serviço dos membros de assembleia de voto;  Tratamento ambulatório",{"$nulls":13},{"$f":"IF(AND(N42<>0,A48=\"\"),\"ERRO\",\"OK\")","v":"OK"}]
["Notas: "]
["(1) Considerar todas as ausências ao serviço entre 1 de janeiro e 31 de dezembro, EM DIAS."]
[]
["Observações: "]

{"sheet":"Horas Não Trabalhadas","index":18,"n_rows":15,"n_cols":16,"rows_kept":15,"cut":false,"hidden":false,"merged":[[2,1,2,2],[3,0,5,0],[3,1,5,1],[11,0,11,13],[15,0,15,13],[12,0,12,13],[6,0,8,0],[6,1,8,1]]}
[{"$f":"IF(Identificação!C17=\"\",\"\",Identificação!C17)","v":"Escola Básica dos 2º e 3º Ciclos da Torre - Câmara de Lobos"}]
[{"$f":"IF(Validação!E51=\"Preenchido\",\"\",\"Mensagem: \" & Validação!E51 & \"! \" & Validação!E52)","v":""}]
["1.18","Horas não trabalhadas (1)",null,"Dirigente","Técnico Superior","Assistente Técnico","Assistente Operacional","Carreiras e Categorias subsistentes","Carreiras e Corpos especiais","Carreira Médica","Carreira de Enfermagem","Carreira Docente","Outros","Total"]
["1.18.1","Actividade sindical (2)","H",0,0,0,0,0,0,0,0,0,0,{"$f":"SUM(D4:M4)","v":0},{"$f":"IF(OR(D4=\"\",E4=\"\",F4=\"\",G4=\"\",H4=\"\",I4=\"\",J4=\"\",K4=\"\",L4=\"\",M4=\"\",D5=\"\",E5=\"\",F5=\"\",G5=\"\",H5=\"\",I5=\"\",J5=\"\",K5=\"\",L5=\"\",M5=\"\"),1,0)","v":0},{"$f":"SUM(O4,O7)","v":0}]
[null,null,"M",0,0,0,0,0,0,0,0,0,0,0]
[null,null,"T",{"$f":"SUM(D4,D5)","v":0},{"$f":"SUM(E4,E5)","v":0},0,0,0,0,0,0,0,0,0]
["1.18.2","Greve","H",0,0,0,1,0,0,0,0,12,0,13,{"$f":"IF(OR(D7=\"\",E7=\"\",F7=\"\",G7=\"\",H7=\"\",I7=\"\",J7=\"\",K7=\"\",L7=\"\",M7=\"\",D8=\"\",E8=\"\",F8=\"\",G8=\"\",H8=\"\",I8=\"\",J8=\"\",K8=\"\",L8=\"\",M8=\"\"),1,0)","v":0}]
[null,null,"M",0,0,0,1,0,0,0,0,24,0,25]
[null,null,"T",{"$f":"SUM(D7,D8)","v":0},0,0,{"$f":"SUM(G7,G8)","v":2},0,0,0,0,36,0,38]
[]
["Notas: "]
["(1) Considerar as ausências ao serviço entre 1 de janeiro e 31 de dezembro, por motivo de 'Actividade Sindical' e 'Greve' EM HORAS."]
["(2) Ao registar ausências por 'Actividade Sindical' deverá indicar trabalhadores sindicalizados no ponto 6.1.1 ('Relações Profissionais')."]
[]
["Observações: "]

{"sheet":"Encargos com Pessoal","index":19,"n_rows":34,"n_cols":14,"rows_kept":34,"cut":false,"hidden":false,"merged":[[25,0,25,3],[30,0,30,3],[34,0,34,3],[31,0,31,3],[29,0,29,3],[28,0,28,3],[9,1,9,2],[10,1,10,2],[12,1,12,2],[21,1,21,2],[22,1,22,2],[20,1,20,2],[11,1,11,2],[13,1,13,2],[14,1,14,2],[19,1,19,2],[15,1,15,2],[16,1,16,2],[17,1,17,2],[18,1,18,2],[6,1,6,2],[7,1,7,2],[8,1,8,2],[2,1,2,2],[3,1,3,2],[4,1,4,2],[5,1,5,2]]}
[{"$f":"IF(Identificação!C17=\"\",\"\",Identificação!C17)","v":"Escola Básica dos 2º e 3º Ciclos da Torre - Câmara de Lobos"}]
[{"$f":"IF(Validação!E54=\"Preenchido\",\"\",\"Mensagem: \" & Validação!E54 & \"! \" & Validação!E55)","v":""}]
["2.","Encargos com pessoal",null,"Valor em euros"]
["2.1","Remuneração base (1)",null,4184829.25,{"$f":"IF(D4=\"\",1,0)","v":0},{"$f":"SUM(E4,E5,E6,E7,E8,E9,E10,E11,E12,E13,E14,E15,E16,E17,E18,E19)","v":0}]
["2.2","Trabalho extraordinário",null,135.28,{"$f":"IF(D5=\"\",1,0)","v":0},{"$f":"IF(AND('Trabalho Extraord.'!D6<>0,D5=0),\"ERRO\",\"OK\")","v":"OK"}]
["2.3","Trabalho nocturno",null,870.43,0,{"$f":"IF(AND('Trabalho Extraord.'!D15<>0,D6=0),\"ERRO\",\"OK\")","v":"OK"}]
["2.4","Trabalho em descanso semanal, complementar e feriados",null,285.39999999999998,0,{"$f":"IF(AND(OR('Trabalho Extraord.'!D18<>0,'Trabalho Extraord.'!D21<>0,'Trabalho Extraord.'!D24<>0),D7=0),\"ERRO\",\"OK\")","v":"OK"}]
["2.5","Disponibilidade permanente",null,0,0]
["2.6","Outros regimes especiais de prestação de trabalho",null,0,0]
["2.7","Risco, penosidade ou insalubridade",null,0,0]
["2.8","Fixação na periferia",null,0,0]
["2.9","Trabalho por turnos",null,0,0]
["2.10","Abono para falhas",null,921.74,0]
["2.11","Participação em reuniões",null,0,0]
["2.12","Ajudas de custo",null,0,0]
["2.13","Transferências de localidade",null,0,0]
["2.14","Representação",null,0,0]
["2.15","Secretariado",null,0,0]
["2.16","Outros (2)",null,0,0]
["2.17","Total",null,{"$f":"SUM(D4:D19)","v":4187042.1}]
["2.17.1","Leque salarial líquido",null,{"$f":"IF(OR(D22=\"\",D23=\"\"),\"0\",D22/D23)","v":6.2498888215079855},null,{"$f":"IF(D21<=1,\"ERRO\",\"OK\")","v":"OK"}]
["2.17.1.1","Maior remuneração líquida (3)",null,3091.82,{"$f":"IF(D22=\"\",1,0)","v":0},{"$f":"SUM(E22:E23)","v":0}]
["2.17.1.2","Menor remuneração líquida (4)",null,494.7,{"$f":"IF(D23=\"\",1,0)","v":0}]
[]
["Por favor enuncie quais as situações referidas em \"Outros\" (2.16):"]
[{"$nulls":4},{"$f":"IF(AND(D19<>0,A26=\"\"),\"ERRO\",\"OK\")","v":"OK"},{"$nulls":8},{"$f":"IF(A26=\"\",1,0)","v":1}]
[]
["Notas: "]
["(1) Incluir igualmente o valor do subsídio de férias e de natal."]
["(2) Por exemplo: subsídio de insularidade."]
["(3) Introduzir a maior remuneração líquida verificada num determinado mês em que não tenham sido efectuados descontos ou abonados subsídios."]
["(4) Introduzir a menor remuneração líquida verificada num determinado mês em que não tenham sido efectuados descontos ou abonados subsídios."]
[]
["Observações:"]

{"sheet":"Acidentes em Serviço","index":20,"n_rows":19,"n_cols":14,"rows_kept":19,"cut":false,"hidden":false,"merged":[[16,0,16,9],[19,0,19,9],[2,1,2,9],[3,1,4,1],[3,0,4,0],[3,6,3,9],[3,2,3,5]]}
[{"$f":"IF(Identificação!C17=\"\",\"\",Identificação!C17)","v":"Escola Básica dos 2º e 3º Ciclos da Torre - Câmara de Lobos"}]
[{"$f":"IF(Validação!E60=\"Preenchido\",\"\",\"Mensagem: \" & Validação!E60 & \"! \" & Validação!E61)","v":""}]
["3.","Higiene e Segurança"]
["3.1","Acidentes em Serviço","No local de Trabalho",null,null,null,"In itinere"]
[null,null,"Total","Menos de 60 dias de baixa","60 dias ou mais de baixa","Mortais ","Total","Menos de 60 dias de baixa","60 dias ou mais de baixa","Mortais"]
["3.1.1","Número total de acidentes",{"$f":"SUM(D6:F6)","v":0},{"$f":"D13+D14+D12+D11+D10","v":0},{"$f":"E13+E14+E12+E11+E10","v":0},0,{"$f":"SUM(H6:J6)","v":0},{"$f":"H13+H14+H12+H11+H10","v":0},{"$f":"I13+I14+I12+I11+I10","v":0},0,{"$f":"IF(OR(F6=\"\",J6=\"\"),1,0)","v":0},{"$f":"SUM(K6,K8,K10,K11,K12,K13,K14)","v":0},{"$f":"IF(OR(AND(D7<>0,D8=0),AND(D7=0,D8<>0)),\"ERROLOCAL1\",IF(OR(AND(H7<>0,H8=0),AND(H7=0,H8<>0)),\"ERROTRAJ1\",IF(OR(AND(E7<>0,E8=0),AND(E7=0,E8<>0)),\"ERROLOCAL2\",IF(OR(AND(I7<>0,I8=0),AND(I7=0,I8<>0)),\"ERROTRAJ2\",\"OK\"))))","v":"OK"},{"$f":"IF(OR(D8>(D10+D12+D13)*60,(H8>(H10+H12+H13)*60)),\"ERROMENOS\",IF(OR(E8<(E10+E12+E13)*60,(I8<(I10+I12+I13)*60)),\"ERROMAIS\",\"OK\"))","v":"OK"}]
["3.1.2","Número de acidentes com baixa",{"$f":"SUM(D7:F7)","v":0},{"$f":"D12+D10+D13","v":0},{"$f":"E12+E10+E13","v":0},"-",{"$f":"SUM(H7:J7)","v":0},{"$f":"H12+H10+H13","v":0},{"$f":"I12+I10+I13","v":0},"-"]
["3.1.3","Número de dias perdidos com baixa (1)",{"$f":"SUM(D8:F8)","v":0},0,0,"-",{"$f":"SUM(H8:J8)","v":0},0,0,"-",{"$f":"IF(OR(D8=\"\",E8=\"\",H8=\"\",I8=\"\"),1,0)","v":0}]
["3.1.4","Número de casos de incapacidade permanente declarados no ano",{"$f":"SUM(D9:F9)","v":0},{"$f":"D10+D11+D12","v":0},{"$f":"E10+E11+E12","v":0},"-",0,{"$f":"H10+H11+H12","v":0},{"$f":"I10+I11+I12","v":0},"-"]
["3.1.5","Número de casos de incapacidade permanente absoluta",0,0,0,"-",0,0,0,"-",{"$f":"IF(OR(D10=\"\",E10=\"\",F10=\"\",H10=\"\",I10=\"\",J10=\"\"),1,0)","v":0}]
["3.1.6","Número de casos de incapacidade permanente parcial",0,0,0,"-",0,0,0,"-",{"$f":"IF(OR(D11=\"\",E11=\"\",F11=\"\",H11=\"\",I11=\"\",J11=\"\"),1,0)","v":0}]
["3.1.7","Número de casos de incapacidade permanente absoluta para o trabalho habitual",0,0,0,"-",0,0,0,"-",{"$f":"IF(OR(D12=\"\",E12=\"\",F12=\"\",H12=\"\",I12=\"\",J12=\"\"),1,0)","v":0}]
["3.1.8","Número de casos de incapacidade temporária e absoluta",0,0,0,"-",0,0,0,"-",{"$f":"IF(OR(D13=\"\",E13=\"\",F13=\"\",H13=\"\",I13=\"\",J13=\"\"),1,0)","v":0}]
["3.1.9","Número de casos de incapacidade temporária e parcial",0,0,0,"-",0,0,0,"-",{"$f":"IF(OR(D14=\"\",E14=\"\",F14=\"\",H14=\"\",I14=\"\",J14=\"\"),1,0)","v":0}]
[]
["Notas: "]
["(1) Considerar o total de n.º de dias perdidos com incapacidade (temporária ou permanente) absoluta. Por exemplo: 3 acidentes com ITA de 12, 5 e 74 dias, respectivamente, deverão ser registados 12+5=17 dias na coluna \"Menos de 60 dias de baixa\" e 74 dias na coluna \"Mais de 60 dias\"."]
[]
["Observações: "]

{"sheet":"Doenças Profissionais","index":21,"n_rows":13,"n_cols":6,"rows_kept":13,"cut":false,"hidden":false,"merged":[[13,0,13,3],[10,0,10,3]]}
[{"$f":"IF(Identificação!C17=\"\",\"\",Identificação!C17)","v":"Escola Básica dos 2º e 3º Ciclos da Torre - Câmara de Lobos"}]
[{"$f":"IF(Validação!E63=\"Preenchido\",\"\",\"Mensagem: \" & Validação!E63 & \"! \" & Validação!E64)","v":""}]
["3.2","Doenças Profissionais","Número de casos","Número de dias perdidos"]
["3.2.1",0,0,0,{"$f":"IF(OR(B4=\"\",C4=\"\",D4=\"\"),1,0)","v":0},{"$f":"SUM(E4,E5,E6,E7,E8)","v":0}]
["3.2.2",0,0,0,{"$f":"IF(OR(B5=\"\",C5=\"\",D5=\"\"),1,0)","v":0}]
["3.2.3",0,0,0,{"$f":"IF(OR(B6=\"\",C6=\"\",D6=\"\"),1,0)","v":0}]
["3.2.4",0,0,0,{"$f":"IF(OR(B7=\"\",C7=\"\",D7=\"\"),1,0)","v":0}]
["3.2.5",0,0,0,{"$f":"IF(OR(B8=\"\",C8=\"\",D8=\"\"),1,0)","v":0}]
[]
["Notas: "]
["(1) Caso não existam ocorrências, introduzir zeros '0' em todos os campos."]
[]
["Observações: "]

{"sheet":"Higiene Segurança Trab.","index":22,"n_rows":22,"n_cols":5,"rows_kept":22,"cut":false,"hidden":false,"merged":[[22,0,22,2],[2,1,2,2],[11,1,11,2],[17,1,17,2]]}
[{"$f":"IF(Identificação!C17=\"\",\"\",Identificação!C17)","v":"Escola Básica dos 2º e 3º Ciclos da Torre - Câmara de Lobos"}]
[{"$f":"IF(Validação!E66=\"Preenchido\",\"\",\"Mensagem: \" & Validação!E66 & \"! \" & Validação!E67)","v":""}]
["3.3","Actividades de medicina do trabalho"]
["3.3.1","Número de exames médicos efectuados",{"$f":"SUM(C5,C6,C7,C8)","v":0}]
["3.3.1.1","Exames de admissão",0,{"$f":"IF(C5=\"\",1,0)","v":0},{"$f":"SUM(D5,D6,D7,D8,D9)","v":0}]
["3.3.1.2","Exames periódicos",0,0]
["3.3.1.3","Exames ocasionais e complementares",0,0]
["3.3.1.4","Exames de cessação de funções",0,0]
["3.3.2","Despesa com a medicina do trabalho (em euros)",0,0]
["3.3.3","Número de visitas aos postos de trabalho",0,0]
[{"$f":"IF(Validação!E69=\"Preenchido\",\"\",\"Mensagem: \" & Validação!E69 & \"! \" & Validação!E70)","v":""}]
["3.4","Comissões de higiene e segurança"]
["3.4.1","Reuniões anuais de higiene e segurança",0,{"$f":"IF(C13=\"\",1,0)","v":0},{"$f":"SUM(D13,D14)","v":0}]
["3.4.2","Visitas aos locais de trabalho",0,{"$f":"IF(C14=\"\",1,0)","v":0}]
[{"$f":"IF(Validação!E72=\"Preenchido\",\"\",\"Mensagem: \" & Validação!E72 & \"! \" & Validação!E73)","v":""}]
["3.5","Número de pessoas recolocadas em resultado de acidentes de trabalho",0,null,{"$f":"IF(C16=\"\",1,0)","v":0}]
[{"$f":"IF(Validação!E75=\"Preenchido\",\"\",\"Mensagem: \" & Validação!E75 & \"! \" & Validação!E76)","v":""}]
["3.6","Acções de formação e sensibilização em matéria de segurança"]
["3.6.1","Número de acções desenvolvidas",0,{"$f":"IF(C19=\"\",1,0)","v":0},{"$f":"SUM(D19,D20)","v":0}]
["3.6.2","Número de pessoas abrangidas pelas acções",0,{"$f":"IF(C20=\"\",1,0)","v":0}]
[]
["Observações: "]

{"sheet":"Custos Prevenção Acidentes","index":23,"n_rows":12,"n_cols":6,"rows_kept":12,"cut":false,"hidden":false,"merged":[[12,0,12,2],[9,0,9,2]]}
[{"$f":"IF(Identificação!C17=\"\",\"\",Identificação!C17)","v":"Escola Básica dos 2º e 3º Ciclos da Torre - Câmara de Lobos"}]
[{"$f":"IF(Validação!E78=\"Preenchido\",\"\",\"Mensagem: \" & Validação!E78 & \"! \" & Validação!E79)","v":""}]
["3.7","Custos com a prevenção de acidentes e \ndoenças profissionais","Valor em euros"]
["3.7.1","Encargos de estrutura de medicina do trabalho e segurança no trabalho",0,{"$f":"IF(C4=\"\",1,0)","v":0},{"$f":"SUM(D4,D5,D6,D7,D8)","v":0},{"$f":"IF(AND('Higiene Segurança Trab.'!C19<>0,C6=0),\"ERRO\",\"OK\")","v":"OK"}]
["3.7.2","Custos com equipamentos de protecção",0,{"$f":"IF(C5=\"\",1,0)","v":0}]
["3.7.3","Custos com formação em prevenção de riscos",0,{"$f":"IF(C6=\"\",1,0)","v":0}]
["3.7.4","Outros custos ",0,{"$f":"IF(C7=\"\",1,0)","v":0}]
[]
["Por favor enuncie quais as situações referidas em \"Outros custos\" (3.7.4):"]
[null,null,null,{"$f":"IF(AND(C7<>0,A10=\"\"),\"ERRO\",\"OK\")","v":"OK"}]
[]
["Observações: "]

{"sheet":"Formação Prof Niveis Custos","index":24,"n_rows":26,"n_cols":16,"rows_kept":26,"cut":false,"hidden":false,"merged":[[23,0,23,12],[26,0,26,12],[22,0,22,12],[21,0,21,12],[8,0,8,1],[16,1,16,6],[17,1,17,6],[18,1,18,6],[18,7,18,12],[17,7,17,12],[16,7,16,12],[2,0,2,12],[6,2,6,4],[4,2,4,4],[4,5,4,6],[5,2,5,4],[5,5,5,6],[6,5,6,6],[3,10,3,12],[4,7,4,9],[5,7,5,9],[6,7,6,9],[4,10,4,12],[5,10,5,12],[6,10,6,12]]}
[{"$f":"IF(Identificação!C17=\"\",\"\",Identificação!C17)","v":"Escola Básica dos 2º e 3º Ciclos da Torre - Câmara de Lobos"}]
[{"$f":"IF(Validação!E81=\"Preenchido\",\"\",\"Mensagem: \" & Validação!E81 & \"! \" & Validação!E82)","v":""}]
["Formação Profissional"]
["4.","Duração das acções","Menos de 30 horas",null,null,"De 30 a 59 horas",null,"De 60 a 119 horas",null,null,"120 horas ou mais"]
["4.1","Número total de acções",{"$f":"SUM(C6,C7)","v":36},null,null,{"$f":"SUM(F6,F7)","v":6},null,{"$f":"SUM(H6,H7)","v":0},null,null,{"$f":"SUM(M6,M7)","v":0}]
["4.1.1","Número de acções internas (1)",0,null,null,0,null,0,null,null,0,null,null,{"$f":"IF(OR(C6=\"\",F6=\"\",H6=\"\",K6=\"\"),1,0)","v":0},{"$f":"SUM(N6,N7)","v":0},{"$f":"IF(AND(SUM(C6:M6)>0,M11=0),\"ERROINT2\",IF(AND(SUM(C7:M7)>0,M12=0),\"ERROEXT2\",IF(AND(SUM(C5:M5)>0,M10=0),\"ERRO\",\"OK\")))","v":"OK"}]
["4.1.2","Número de acções externas (2)",36,null,null,6,null,0,null,null,0,null,null,{"$f":"IF(OR(C7=\"\",F7=\"\",H7=\"\",K7=\"\"),1,0)","v":0}]
[{"$f":"IF(Validação!E84=\"Preenchido\",\"\",\"Mensagem: \" & Validação!E84 & \"! \" & Validação!E85)","v":""}]
["Níveis de qualificação",null,"Dirigente","Técnico Superior","Assistente Técnico","Assistente Operacional","Carreiras e Categorias subsistentes","Carreiras e Corpos especiais","Carreira Médica","Carreira de Enfermagem","Carreira Docente","Outros","Total"]
["4.2","Número total de participantes (3)",{"$f":"SUM(C11,C12)","v":1},{"$f":"SUM(D11,D12)","v":0},{"$f":"SUM(E11,E12)","v":6},0,{"$f":"SUM(G11,G12)","v":0},0,0,0,36,0,{"$f":"SUM(C10:L10)","v":43}]
["4.2.1","Número de participações em acções internas",0,0,0,0,0,0,0,0,0,0,0,{"$f":"IF(OR(C11=\"\",D11=\"\",E11=\"\",F11=\"\",G11=\"\",H11=\"\",I11=\"\",J11=\"\",L11=\"\",K11=\"\"),1,0)","v":0},{"$f":"SUM(N11,N12)","v":0}]
["4.2.2","Número de participações em acções externas",1,0,6,0,0,0,0,0,36,0,43,{"$f":"IF(OR(C12=\"\",D12=\"\",E12=\"\",F12=\"\",G12=\"\",H12=\"\",I12=\"\",J12=\"\",L12=\"\",K12=\"\"),1,0)","v":0}]
["4.3","Número total de horas",{"$f":"SUM(C14,C15)","v":8},{"$f":"SUM(D14,D15)","v":0},{"$f":"SUM(E14,E15)","v":156},0,{"$f":"SUM(G14,G15)","v":0},0,0,0,797,0,961]
["4.3.1","Número de horas em acções internas",0,0,0,0,0,0,0,0,0,0,0,{"$f":"IF(OR(C14=\"\",D14=\"\",E14=\"\",F14=\"\",G14=\"\",H14=\"\",I14=\"\",J14=\"\",L14=\"\",K14=\"\"),1,0)","v":0},{"$f":"SUM(N14,N15)","v":0}]
["4.3.2","Número de horas em acções externas",8,0,156,0,0,0,0,0,797,0,961,{"$f":"IF(OR(C15=\"\",D15=\"\",E15=\"\",F15=\"\",G15=\"\",H15=\"\",I15=\"\",J15=\"\",L15=\"\",K15=\"\"),1,0)","v":0}]
[{"$f":"IF(Validação!E87=\"Preenchido\",\"\",\"Mensagem: \" & Validação!E87 & \"! \" & Validação!E88)","v":"Mensagem: Preenchido com reservas! Por favor confirme se as acções de formação externa não implicaram custos."}]
["4.4","Custos totais de formação",{"$nulls":5},"Valor em euros",{"$nulls":7},{"$f":"IF(AND(SUM(C6:M6)<>0,H18=0),\"ERROCUSINT\",IF(AND(SUM(C7:M7)<>0,H19=0),\"ERROCUSEXT\",\"OK\"))","v":"ERROCUSEXT"}]
["4.4.1","Custos em acções internas",{"$nulls":5},0,{"$nulls":5},{"$f":"IF(H18=\"\",1,0)","v":0},{"$f":"SUM(N18,N19)","v":0}]
["4.4.2","Custos em acções externas",{"$nulls":5},0,{"$nulls":5},{"$f":"IF(H19=\"\",1,0)","v":0}]
[null,null,{"$f":"IF(OR(C14<C11,AND(C11=0,C14<>0)),\"ERROINT\",IF(OR(C15<C12,AND(C12=0,C15<>0)),\"ERROEXT\",\"OK\"))","v":"OK"},{"$f":"IF(OR(D14<D11,AND(D11=0,D14<>0)),\"ERROINT\",IF(OR(D15<D12,AND(D12=0,D15<>0)),\"ERROEXT\",\"OK\"))","v":"OK"},{"$f":"IF(OR(E14<E11,AND(E11=0,E14<>0)),\"ERROINT\",IF(OR(E15<E12,AND(E12=0,E15<>0)),\"ERROEXT\",\"OK\"))","v":"OK"},"OK","OK","OK","OK","OK","OK","OK"]
["Notas: "]
["(1) Considerar toda a formação providenciada aos trabalhadores pelo serviço recorrendo a meios próprios e/ou em que apenas participam elementos desse mesmo serviço."]
["(2) As acções de formação providenciadas aos trabalhadores pelo serviço recorrendo a entidades externas e em que participam também trabalhadores de outros serviços (ex.: formações promovidas pela Direcção Regional de Educação, Direcção Regional dos Recursos Humanos e da Administração Educativa, Direcção Regional de Administração Pública e Local, etc.) e as da iniciativa do próprio trabalhador, ao abrigo do regime de auto-formação (ex: formações dinamizadas por sindicatos, empresas de formação, etc.), deverão ser registadas como acções externas."]
["(3) Atendendo à possibilidade de um mesmo trabalhador frequentar diversas acções formação por ano e que todas elas deverão ser quantificadas, devem ser consideradas todas as participações, independentemente de se tratar do mesmo trabalhador."]
[]
["Observações: "]

{"sheet":"Prestações Sociais Acção Social","index":25,"n_rows":25,"n_cols":6,"rows_kept":25,"cut":false,"hidden":false,"merged":[[25,0,25,2],[22,0,22,2]]}
[{"$f":"IF(Identificação!C17=\"\",\"\",Identificação!C17)","v":"Escola Básica dos 2º e 3º Ciclos da Torre - Câmara de Lobos"}]
[{"$f":"IF(Validação!E90=\"Preenchido\",\"\",\"Mensagem: \" & Validação!E90 & \"! \" & Validação!E91)","v":""}]
["5.","Prestações Sociais","Valor em euros"]
["5.1","Abono de Família para crianças e jovens",9816.36,{"$f":"IF(C4=\"\",1,0)","v":0},{"$f":"SUM(D4,D5,D6,D7,D8,D9,D10,D11)","v":0},{"$f":"IF(AND(C11=\"\",'Ausências Trabalho'!N9<>0),\"ERRO\",\"OK\")","v":"OK"}]
["5.2","Bonificação do Abono de Família para crianças e jovens portadores de deficiência",5331.35,{"$f":"IF(C5=\"\",1,0)","v":0}]
["5.3","Subsídio de educação especial",0,0]
["5.4","Subsídio mensal vitalício",0,0]
["5.5","Subsídio de funeral",0,0]
["5.6","Subsídio de refeição",12617.85,0]
["5.7","Subsídio por morte",0,0]
["5.8","Outras",0,0]
[{"$f":"IF(Validação!E93=\"Preenchido\",\"\",\"Mensagem: \" & Validação!E93 & \"! \" & Validação!E94)","v":""}]
["5.9","Prestações de acção social complementar","Valor em euros"]
["5.9.1","Grupos desportivos/casa de pessoal (ou equivalente)",0,0,{"$f":"SUM(D14,D15,D16,D17,D18,D19,D20)","v":0}]
["5.9.2","Refeitórios",0,0]
["5.9.3","Infantários",0,0]
["5.9.4","Colónias de férias",0,0]
["5.9.5","Apoio a estudos",0,0]
["5.9.6","Adiantamentos e empréstimos",0,0]
["5.9.7","Outras",0,0]
[]
["Por favor enuncie quais as situações referidas em \"Outras\" (5.8 e 5.9.7):"]
[null,null,null,{"$f":"IF(OR(AND(C11<>0,A20=\"\"),AND(C20<>0,A20=\"\")),\"ERRO\",\"OK\")","v":"OK"}]
[]
["Observações: "]

{"sheet":"Relaç Profis Comissões Discipli","index":26,"n_rows":24,"n_cols":6,"rows_kept":24,"cut":false,"hidden":false,"merged":[[24,0,24,2],[3,1,3,2],[10,1,10,2],[6,1,6,2],[2,1,2,2]]}
[{"$f":"IF(Identificação!C17=\"\",\"\",Identificação!C17)","v":"Escola Básica dos 2º e 3º Ciclos da Torre - Câmara de Lobos"}]
[{"$f":"IF(Validação!E96=\"Preenchido\",\"\",\"Mensagem: \" & Validação!E96 & \"! \" & Validação!E97)","v":""}]
["6.","Relações Profissionais"]
["6.1","Organização e actividade sindical no serviço"]
["6.1.1","Número de trabalhadores sindicalizados",84,{"$f":"IF(C5=\"\",1,0)","v":0},{"$f":"IF(AND('Horas Não Trabalhadas'!N6<>0,C5=0),\"ERRO\",\"OK\")","v":"OK"}]
[{"$f":"IF(Validação!E99=\"Preenchido\",\"\",\"Mensagem: \" & Validação!E99 & \"! \" & Validação!E100)","v":""}]
["6.2","Comissões de trabalhadores"]
["6.2.1","Número de elementos pertencentes a comissões de trabalhadores",0,{"$f":"IF(C8=\"\",1,0)","v":0},{"$f":"SUM(D8,D9)","v":0}]
["6.2.2","Número total de votantes",0,0]
[{"$f":"IF(Validação!E102=\"Preenchido\",\"\",\"Mensagem: \" & Validação!E102 & \"! \" & Validação!E103)","v":""}]
["6.3","Disciplina"]
["6.3.1","Número de processos transitados do ano anterior",0,0,{"$f":"SUM(D12,D13,D14)","v":0},{"$f":"IF(C14>(C12+C13),\"ERRO\",\"OK\")","v":"OK"}]
["6.3.2","Número de processos instaurados durante o ano",0,0]
["6.3.3","Número de processos transitados para o ano seguinte",0,0]
[{"$f":"IF(Validação!E105=\"Preenchido\",\"\",\"Mensagem: \" & Validação!E105 & \"! \" & Validação!E106)","v":""}]
["6.3.4","Número de processos decididos",{"$f":"SUM(C17:C22)","v":0}]
["6.3.4.1","Arquivado",0,0,{"$f":"SUM(D17,D18,D19,D20,D21,D22)","v":0},{"$f":"IF((C12+C13-C14)<>C16,\"ERRO\",\"OK\")","v":"OK"}]
["6.3.4.2","Repreensão escrita",0,0]
["6.3.4.3","Multa",0,0]
["6.3.4.4","Suspensão",0,0]
["6.3.4.5","Demissão ou despedimento por facto imputável ao trabalhador",0,0]
["6.3.4.6","Cessação da comissão de serviço",0,0]
[]
["Observações: "]

{"sheet":"Distribuição Geográfica ","index":27,"n_rows":43,"n_cols":16,"rows_kept":43,"cut":false,"hidden":false,"merged":[[43,0,43,13],[40,0,40,13],[21,1,23,1],[6,0,8,0],[9,0,11,0],[12,0,14,0],[15,0,17,0],[15,1,17,1],[33,0,35,0],[30,0,32,0],[30,1,32,1],[21,0,23,0],[24,0,26,0],[27,0,29,0],[33,1,35,1],[27,1,29,1],[24,1,26,1],[3,0,5,0],[2,1,2,2],[18,1,20,1],[3,1,5,1],[6,1,8,1],[9,1,11,1],[12,1,14,1],[18,0,20,0]]}
[{"$f":"IF(Identificação!C17=\"\",\"\",Identificação!C17)","v":"Escola Básica dos 2º e 3º Ciclos da Torre - Câmara de Lobos"}]
[{"$f":"IF(Validação!E108=\"Preenchido\",\"\",\"Mensagem: \" & Validação!E108 & \"! \" & Validação!E109)","v":""}]
["7.","Distribuição geográfica \npor concelhos (1)",null,"Dirigente","Técnico Superior","Assistente Técnico","Assistente Operacional","Carreiras e Categorias subsistentes","Carreiras e Corpos especiais","Carreira Médica","Carreira de Enfermagem","Carreira Docente","Outros","Total"]
["7.1","Calheta","H",0,0,0,0,0,0,0,0,0,0,{"$f":"SUM(D4:M4)","v":0},{"$f":"IF(OR(D4=\"\",E4=\"\",F4=\"\",G4=\"\",H4=\"\",I4=\"\",J4=\"\",K4=\"\",L4=\"\",M4=\"\",D5=\"\",E5=\"\",F5=\"\",G5=\"\",H5=\"\",I5=\"\",J5=\"\",K5=\"\",L5=\"\",M5=\"\"),1,0)","v":0},{"$f":"SUM(O4,O7,O10,O13,O16,O19,O22,O25,O28,O31,O34)","v":0}]
[null,null,"M",0,0,0,0,0,0,0,0,0,0,0]
[null,null,"T",{"$f":"SUM(D4:D5)","v":0},0,0,0,0,0,0,0,0,0,0]
["7.2","Câmara de Lobos","H",2,0,1,5,0,1,0,0,44,0,53,{"$f":"IF(OR(D7=\"\",E7=\"\",F7=\"\",G7=\"\",H7=\"\",I7=\"\",J7=\"\",K7=\"\",L7=\"\",M7=\"\",D8=\"\",E8=\"\",F8=\"\",G8=\"\",H8=\"\",I8=\"\",J8=\"\",K8=\"\",L8=\"\",M8=\"\"),1,0)","v":0}]
[null,null,"M",1,1,15,28,1,0,0,0,82,0,128]
[null,null,"T",{"$f":"SUM(D8,D7)","v":3},1,16,33,1,1,0,0,126,0,181]
["7.3","Funchal","H",0,0,0,0,0,0,0,0,0,0,0,{"$f":"IF(OR(D10=\"\",E10=\"\",F10=\"\",G10=\"\",H10=\"\",I10=\"\",J10=\"\",K10=\"\",L10=\"\",M10=\"\",D11=\"\",E11=\"\",F11=\"\",G11=\"\",H11=\"\",I11=\"\",J11=\"\",K11=\"\",L11=\"\",M11=\"\"),1,0)","v":0}]
[null,null,"M",0,0,0,0,0,0,0,0,0,0,0]
[null,null,"T",{"$f":"SUM(D11,D10)","v":0},0,0,0,0,0,0,0,0,0,0]
["7.4","Machico","H",0,0,0,0,0,0,0,0,0,0,0,{"$f":"IF(OR(D13=\"\",E13=\"\",F13=\"\",G13=\"\",H13=\"\",I13=\"\",J13=\"\",K13=\"\",L13=\"\",M13=\"\",D14=\"\",E14=\"\",F14=\"\",G14=\"\",H14=\"\",I14=\"\",J14=\"\",K14=\"\",L14=\"\",M14=\"\"),1,0)","v":0}]
[null,null,"M",0,0,0,0,0,0,0,0,0,0,0]
[null,null,"T",{"$f":"SUM(D14,D13)","v":0},0,0,0,0,0,0,0,0,0,0]
["7.5","Ponta do Sol","H",0,0,0,0,0,0,0,0,0,0,0,{"$f":"IF(OR(D16=\"\",E16=\"\",F16=\"\",G16=\"\",H16=\"\",I16=\"\",J16=\"\",K16=\"\",L16=\"\",M16=\"\",D17=\"\",E17=\"\",F17=\"\",G17=\"\",H17=\"\",I17=\"\",J17=\"\",K17=\"\",L17=\"\",M17=\"\"),1,0)","v":0}]
[null,null,null,0,0,0,0,0,0,0,0,0,0,0]
[null,null,"T",{"$f":"SUM(D17,D16)","v":0},0,0,0,0,0,0,0,0,0,0]
["7.6","Porto Moniz","H",0,0,0,0,0,0,0,0,0,0,{"$f":"SUM(D19:M19)","v":0},{"$f":"IF(OR(D19=\"\",E19=\"\",F19=\"\",G19=\"\",H19=\"\",I19=\"\",J19=\"\",K19=\"\",L19=\"\",M19=\"\",D20=\"\",E20=\"\",F20=\"\",G20=\"\",H20=\"\",I20=\"\",J20=\"\",K20=\"\",L20=\"\",M20=\"\"),1,0)","v":0}]
[null,null,"M",0,0,0,0,0,0,0,0,0,0,0]
[null,null,"T",{"$f":"SUM(D19:D20)","v":0},0,0,0,0,0,0,0,0,0,0]
["7.7","Porto Santo","H",0,0,0,0,0,0,0,0,0,0,0,{"$f":"IF(OR(D22=\"\",E22=\"\",F22=\"\",G22=\"\",H22=\"\",I22=\"\",J22=\"\",K22=\"\",L22=\"\",M22=\"\",D23=\"\",E23=\"\",F23=\"\",G23=\"\",H23=\"\",I23=\"\",J23=\"\",K23=\"\",L23=\"\",M23=\"\"),1,0)","v":0}]
[null,null,"M",0,0,0,0,0,0,0,0,0,0,0]
[null,null,"T",{"$f":"SUM(D23,D22)","v":0},0,0,0,0,0,0,0,0,0,0]
["7.8","Ribeira Brava","H",0,0,0,0,0,0,0,0,0,0,0,{"$f":"IF(OR(D25=\"\",E25=\"\",F25=\"\",G25=\"\",H25=\"\",I25=\"\",J25=\"\",K25=\"\",L25=\"\",M25=\"\",D26=\"\",E26=\"\",F26=\"\",G26=\"\",H26=\"\",I26=\"\",J26=\"\",K26=\"\",L26=\"\",M26=\"\"),1,0)","v":0}]
[null,null,"M",0,0,0,0,0,0,0,0,0,0,0]
[null,null,"T",{"$f":"SUM(D26,D25)","v":0},0,0,0,0,0,0,0,0,0,0]
["7.9","Santa Cruz","H",0,0,0,0,0,0,0,0,0,0,0,{"$f":"IF(OR(D28=\"\",E28=\"\",F28=\"\",G28=\"\",H28=\"\",I28=\"\",J28=\"\",K28=\"\",L28=\"\",M28=\"\",D29=\"\",E29=\"\",F29=\"\",G29=\"\",H29=\"\",I29=\"\",J29=\"\",K29=\"\",L29=\"\",M29=\"\"),1,0)","v":0}]
[null,null,"M",0,0,0,0,0,0,0,0,0,0,0]
[null,null,"T",{"$f":"SUM(D29,D28)","v":0},0,0,0,0,0,0,0,0,0,0]
["7.10","Santana","H",0,0,0,0,0,0,0,0,0,0,{"$f":"SUM(D31:M31)","v":0},{"$f":"IF(OR(D31=\"\",E31=\"\",F31=\"\",G31=\"\",H31=\"\",I31=\"\",J31=\"\",K31=\"\",L31=\"\",M31=\"\",D32=\"\",E32=\"\",F32=\"\",G32=\"\",H32=\"\",I32=\"\",J32=\"\",K32=\"\",L32=\"\",M32=\"\"),1,0)","v":0}]
[null,null,"M",0,0,0,0,0,0,0,0,0,0,{"$f":"SUM(D32:M32)","v":0}]
[null,null,"T",{"$f":"SUM(D32,D31)","v":0},0,0,0,0,0,0,0,0,0,{"$f":"SUM(D33:M33)","v":0}]
["7.11","São Vicente","H",0,0,0,0,0,0,0,0,0,0,0,{"$f":"IF(OR(D34=\"\",E34=\"\",F34=\"\",G34=\"\",H34=\"\",I34=\"\",J34=\"\",K34=\"\",L34=\"\",M34=\"\",D35=\"\",E35=\"\",F35=\"\",G35=\"\",H35=\"\",I35=\"\",J35=\"\",K35=\"\",L35=\"\",M35=\"\"),1,0)","v":0}]
[null,null,"M",0,0,0,0,0,0,0,0,0,0,0]
[null,null,"T",{"$f":"SUM(D35,D34)","v":0},0,0,0,0,0,0,0,0,0,0]
[null,null,null,{"$f":"SUM(D4,D7,D10,D13,D16,D19,D22,D25,D28,D31,D34)","v":2},{"$f":"SUM(E4,E7,E10,E13,E16,E19,E22,E25,E28,E31,E34)","v":0},1,5,0,1,0,0,44,0]
[null,null,null,{"$f":"SUM(D5,D8,D11,D14,D17,D20,D23,D26,D29,D32,D35)","v":1},{"$f":"SUM(E5,E8,E11,E14,E17,E20,E23,E26,E29,E32,E35)","v":1},15,28,1,0,0,0,82,0]
[null,null,null,{"$f":"IF(D37<>'Recursos Humanos'!D4,\"ERROH\",IF(D38<>'Recursos Humanos'!D5,\"ERROM\",\"OK\"))","v":"OK"},{"$f":"IF(E37<>'Recursos Humanos'!E4,\"ERROH\",IF(E38<>'Recursos Humanos'!E5,\"ERROM\",\"OK\"))","v":"OK"},{"$f":"IF(F37<>'Recursos Humanos'!F4,\"ERROH\",IF(F38<>'Recursos Humanos'!F5,\"ERROM\",\"OK\"))","v":"OK"},{"$f":"IF(G37<>'Recursos Humanos'!G4,\"ERROH\",IF(G38<>'Recursos Humanos'!G5,\"ERROM\",\"OK\"))","v":"OK"},{"$f":"IF(H37<>'Recursos Humanos'!H4,\"ERROH\",IF(H38<>'Recursos Humanos'!H5,\"ERROM\",\"OK\"))","v":"OK"},{"$f":"IF(I37<>'Recursos Humanos'!I4,\"ERROH\",IF(I38<>'Recursos Humanos'!I5,\"ERROM\",\"OK\"))","v":"OK"},{"$f":"IF(J37<>'Recursos Humanos'!J4,\"ERROH\",IF(J38<>'Recursos Humanos'!J5,\"ERROM\",\"OK\"))","v":"OK"},{"$f":"IF(K37<>'Recursos Humanos'!K4,\"ERROH\",IF(K38<>'Recursos Humanos'!K5,\"ERROM\",\"OK\"))","v":"OK"},{"$f":"IF(L37<>'Recursos Humanos'!L4,\"ERROH\",IF(L38<>'Recursos Humanos'!L5,\"ERROM\",\"OK\"))","v":"OK"},{"$f":"IF(M37<>'Recursos Humanos'!M4,\"ERROH\",IF(M38<>'Recursos Humanos'!M5,\"ERROM\",\"OK\"))","v":"OK"}]
["Notas: "]
["(1) Considerar o concelho onde se encontra o serviço ou, no caso de serviços com departamentos descentralizados, considerado o concelho onde o trabalhador exerce a maior parte do seu horário de trabalho."]
[]
["Observações: "]

{"sheet":"Cobertura de Mapas","index":28,"n_rows":20,"n_cols":9,"rows_kept":20,"cut":false,"hidden":false,"merged":[[20,0,20,4],[17,0,17,4],[2,0,3,0],[2,1,3,1],[2,2,2,4]]}
[{"$f":"IF(Identificação!C17=\"\",\"\",Identificação!C17)","v":"Escola Básica dos 2º e 3º Ciclos da Torre - Câmara de Lobos"}]
[{"$f":"IF(Validação!E111=\"Preenchido\",\"\",\"Mensagem: \" & Validação!E111 & \"! \" & Validação!E112)","v":""}]
["8.","Cobertura dos mapas de pessoal","Número de lugares"]
[null,null,"Previstos","Preenchidos","%"]
["8.1","Dirigente",3,3,{"$f":"IF(AND(C5=0,D5=0),0,IF(AND(C5<>\"\",D5<>\"\"),D5/C5,0))","v":1},{"$f":"IF(OR(C5=\"\",D5=\"\"),1,0)","v":0},{"$f":"SUM(F5,F6,F7,F8,F9,F10,F11,F12,F13,F14)","v":0},{"$f":"IF(D5<'Recursos Humanos'!D9+'Recursos Humanos'!D12,\"ERRO\",IF(D6<'Recursos Humanos'!E9+'Recursos Humanos'!E12,\"ERRO\",IF(D7<'Recursos Humanos'!F9+'Recursos Humanos'!F12,\"ERRO\",IF(D8<'Recursos Humanos'!G9+'Recursos Humanos'!G12,\"ERRO\",IF(D9<'Recursos Humanos'!H9+'Recursos Humanos'!H12,\"ERRO\",IF(D10<'Recursos Humanos'!I9+'Recursos Humanos'!I12,\"ERRO\",I5))))))","v":"OK"},{"$f":"IF(D13<'Recursos Humanos'!L9+'Recursos Humanos'!L12,\"ERRO\",IF(D14<'Recursos Humanos'!M9+'Recursos Humanos'!M12,\"ERRO\",\"OK\"))","v":"OK"}]
["8.2","Técnico Superior",1,1,{"$f":"IF(AND(C6=0,D6=0),0,IF(AND(C6<>\"\",D6<>\"\"),D6/C6,0))","v":1},{"$f":"IF(OR(C6=\"\",D6=\"\"),1,0)","v":0},null,{"$f":"IF(OR(C5<D5,C6<D6,C7<D7,C8<D8,C9<D9,C10<D10,C13<D13,C14<D14),\"ERRO\",\"OK\")","v":"OK"}]
["8.3","Assistente Técnico",15,15,1,0]
["8.4","Assistente Operacional",31,30,0.967741935483871,0]
["8.5","Carreiras e Categorias subsistentes",1,1,1,0]
["8.6","Carreiras e Corpos especiais",1,1,1,0]
["8.7","Carreira Médica",0,0,0,0]
["8.8","Carreira de Enfermagem",0,0,0,0]
["8.9","Carreira Docente",126,126,1,0]
["8.10","Outras",0,0,0,0]
["8.10","Total",{"$f":"SUM(C5:C14)","v":178},{"$f":"SUM(D5:D14)","v":177},{"$f":"IF(AND(C15=0,D15=0),0,IF(AND(C15<>\"\",D15<>\"\"),D15/C15,0))","v":0.9943820224719101}]
[]
[]
[]
[]
["Observações: "]

{"sheet":"Folha1","index":29,"n_rows":0,"n_cols":0,"rows_kept":0,"cut":false,"hidden":false,"merged":[]}

{"sheet":"Folha2","index":30,"n_rows":0,"n_cols":0,"rows_kept":0,"cut":false,"hidden":false,"merged":[]}